View In:
ArcGIS JavaScript
ArcGIS Online Map Viewer
ArcGIS Earth
Service Description: L'écart par rapport aux précipitations moyennes représente la valeur des précipitations accumulées dans un lieu donné, soustraite par la valeur moyenne à long terme. Une valeur négative indique que le lieu a reçu moins que la quantité normale de précipitations (mm) pour cette période. Une valeur positive indique que le lieu a reçu plus de précipitations que la moyenne (mm). Sur une échelle mensuelle, les périodes calculées sont de 1, 2, 3, 6, 9, 12, 18 et 24 mois. Sur une échelle hebdomadaire, chaque semaine ISO est numérotée de 1 à 52 (parfois 53) au sein de l'année. Une semaine ISO commence le lundi et se termine le dimanche. Les périodes peuvent être filtrées à l'aide du champ tType du service, où le suffixe « m » indique une échelle mensuelle et « w » une échelle hebdomadaire. Pour plus d'information, consulter : https://ouvert.canada.ca/data/fr/dataset/e1807beb-19fe-4792-b030-824c7d820b95
Name: sniad/ecart_par_rapport_aux_precipitations_moyennes
Description: L'écart par rapport aux précipitations moyennes représente la valeur des précipitations accumulées dans un lieu donné, soustraite par la valeur moyenne à long terme. Une valeur négative indique que le lieu a reçu moins que la quantité normale de précipitations (mm) pour cette période. Une valeur positive indique que le lieu a reçu plus de précipitations que la moyenne (mm). Sur une échelle mensuelle, les périodes calculées sont de 1, 2, 3, 6, 9, 12, 18 et 24 mois. Sur une échelle hebdomadaire, chaque semaine ISO est numérotée de 1 à 52 (parfois 53) au sein de l'année. Une semaine ISO commence le lundi et se termine le dimanche. Les périodes peuvent être filtrées à l'aide du champ tType du service, où le suffixe « m » indique une échelle mensuelle et « w » une échelle hebdomadaire. Pour plus d'information, consulter : https://ouvert.canada.ca/data/fr/dataset/e1807beb-19fe-4792-b030-824c7d820b95
Single Fused Map Cache: false
Extent:
XMin: -2.0037507842788246E7
YMin: 1942475.858145211
XMax: 2.002424200497104E7
YMax: 2.003750834278928E7
Spatial Reference: 102100
(3857)
LatestVCSWkid(0)
Initial Extent:
XMin: -2.0037507842788246E7
YMin: 1942475.858145211
XMax: 2.002424200497104E7
YMax: 2.003750834278928E7
Spatial Reference: 102100
(3857)
LatestVCSWkid(0)
Full Extent:
XMin: -2.0037507842788246E7
YMin: 1942475.858145211
XMax: 2.002424200497104E7
YMax: 2.003750834278928E7
Spatial Reference: 102100
(3857)
LatestVCSWkid(0)
Time Info:
Start Time Field: dateEnd
End Time Field: dateEnd
Time Extent:
[2025/12/14 12:00:00 UTC, 2026/09/13 12:00:00 UTC]
Time Reference:
N/A
Pixel Size X: 20377.28883405864
Pixel Size Y: 20377.288834058636
Band Count: 1
Pixel Type: F32
RasterFunction Infos: {"rasterFunctionInfos": [
{
"name": "sniad_ecart_par_rapport_aux_precipitations_moyennes_national_01m",
"description": "Un mois (mm) ",
"help": ""
},
{
"name": "sniad_ecart_par_rapport_aux_precipitations_moyennes_atlantique_004s",
"description": "Quatre semaines (mm) ",
"help": ""
},
{
"name": "sniad_ecart_par_rapport_aux_precipitations_moyennes_atlantique_009s",
"description": "Neuf semaines (mm) ",
"help": ""
},
{
"name": "sniad_ecart_par_rapport_aux_precipitations_moyennes_atlantique_013s",
"description": "Treize semaines (mm) ",
"help": ""
},
{
"name": "sniad_ecart_par_rapport_aux_precipitations_moyennes_atlantique_01m",
"description": "Un mois (mm) ",
"help": ""
},
{
"name": "sniad_ecart_par_rapport_aux_precipitations_moyennes_atlantique_026s",
"description": "Vingt-six semaines (mm) ",
"help": ""
},
{
"name": "sniad_ecart_par_rapport_aux_precipitations_moyennes_atlantique_02m",
"description": "Deux mois (mm) ",
"help": ""
},
{
"name": "sniad_ecart_par_rapport_aux_precipitations_moyennes_atlantique_039s",
"description": "Trente-neuf semaines (mm) ",
"help": ""
},
{
"name": "sniad_ecart_par_rapport_aux_precipitations_moyennes_atlantique_03m",
"description": "Trois mois (mm) ",
"help": ""
},
{
"name": "sniad_ecart_par_rapport_aux_precipitations_moyennes_atlantique_052s",
"description": "Cinquante-deux semaines (mm) ",
"help": ""
},
{
"name": "sniad_ecart_par_rapport_aux_precipitations_moyennes_atlantique_06m",
"description": "Six mois (mm) ",
"help": ""
},
{
"name": "sniad_ecart_par_rapport_aux_precipitations_moyennes_atlantique_09m",
"description": "Neuf mois (mm) ",
"help": ""
},
{
"name": "sniad_ecart_par_rapport_aux_precipitations_moyennes_atlantique_12m",
"description": "Douze mois (mm) ",
"help": ""
},
{
"name": "sniad_ecart_par_rapport_aux_precipitations_moyennes_central_004s",
"description": "Quatre semaines (mm) ",
"help": ""
},
{
"name": "sniad_ecart_par_rapport_aux_precipitations_moyennes_central_009s",
"description": "Neuf semaines (mm) ",
"help": ""
},
{
"name": "sniad_ecart_par_rapport_aux_precipitations_moyennes_central_013s",
"description": "Treize semaines (mm) ",
"help": ""
},
{
"name": "sniad_ecart_par_rapport_aux_precipitations_moyennes_central_01m",
"description": "Un mois (mm) ",
"help": ""
},
{
"name": "sniad_ecart_par_rapport_aux_precipitations_moyennes_central_026s",
"description": "Vingt-six semaine (mm) ",
"help": ""
},
{
"name": "sniad_ecart_par_rapport_aux_precipitations_moyennes_central_02m",
"description": "Deux mois (mm) ",
"help": ""
},
{
"name": "sniad_ecart_par_rapport_aux_precipitations_moyennes_central_039s",
"description": "Trente-neuf semaines (mm) ",
"help": ""
},
{
"name": "sniad_ecart_par_rapport_aux_precipitations_moyennes_central_03m",
"description": "Trois mois (mm) ",
"help": ""
},
{
"name": "sniad_ecart_par_rapport_aux_precipitations_moyennes_central_052s",
"description": "Cinquante-deux semaines (mm) ",
"help": ""
},
{
"name": "sniad_ecart_par_rapport_aux_precipitations_moyennes_central_06m",
"description": "Six mois (mm) ",
"help": ""
},
{
"name": "sniad_ecart_par_rapport_aux_precipitations_moyennes_central_09m",
"description": "Neuf mois (mm) ",
"help": ""
},
{
"name": "sniad_ecart_par_rapport_aux_precipitations_moyennes_central_12m",
"description": "Douze mois (mm) ",
"help": ""
},
{
"name": "sniad_ecart_par_rapport_aux_precipitations_moyennes_national_004s",
"description": "Quatre semaines (mm) ",
"help": ""
},
{
"name": "sniad_ecart_par_rapport_aux_precipitations_moyennes_national_009s",
"description": "Neuf semaines (mm) ",
"help": ""
},
{
"name": "sniad_ecart_par_rapport_aux_precipitations_moyennes_national_013s",
"description": "Treize semaines (mm) ",
"help": ""
},
{
"name": "sniad_ecart_par_rapport_aux_precipitations_moyennes_national_026s",
"description": "Vingt-six semaine (mm) ",
"help": ""
},
{
"name": "sniad_ecart_par_rapport_aux_precipitations_moyennes_national_02m",
"description": "Deux mois (mm) ",
"help": ""
},
{
"name": "sniad_ecart_par_rapport_aux_precipitations_moyennes_national_039s",
"description": "Trente-neuf semaines (mm) ",
"help": ""
},
{
"name": "sniad_ecart_par_rapport_aux_precipitations_moyennes_national_03m",
"description": "Trois mois (mm) ",
"help": ""
},
{
"name": "sniad_ecart_par_rapport_aux_precipitations_moyennes_national_052s",
"description": "Cinquante-deux semaines (mm) ",
"help": ""
},
{
"name": "sniad_ecart_par_rapport_aux_precipitations_moyennes_national_06m",
"description": "Six mois (mm) ",
"help": ""
},
{
"name": "sniad_ecart_par_rapport_aux_precipitations_moyennes_national_09m",
"description": "Neuf mois (mm) ",
"help": ""
},
{
"name": "sniad_ecart_par_rapport_aux_precipitations_moyennes_national_12m",
"description": "Douze mois (mm) ",
"help": ""
},
{
"name": "sniad_ecart_par_rapport_aux_precipitations_moyennes_pacifique_004s",
"description": "Quatre semaines (mm) ",
"help": ""
},
{
"name": "sniad_ecart_par_rapport_aux_precipitations_moyennes_pacifique_009s",
"description": "Neuf semaines (mm) ",
"help": ""
},
{
"name": "sniad_ecart_par_rapport_aux_precipitations_moyennes_pacifique_013s",
"description": "Treize semaines (mm) ",
"help": ""
},
{
"name": "sniad_ecart_par_rapport_aux_precipitations_moyennes_pacifique_01m",
"description": "Un mois (mm) ",
"help": ""
},
{
"name": "sniad_ecart_par_rapport_aux_precipitations_moyennes_pacifique_026s",
"description": "Vingt-six semaine (mm) ",
"help": ""
},
{
"name": "sniad_ecart_par_rapport_aux_precipitations_moyennes_pacifique_02m",
"description": "Deux mois (mm) ",
"help": ""
},
{
"name": "sniad_ecart_par_rapport_aux_precipitations_moyennes_pacifique_039s",
"description": "Trente-neuf semaines (mm) ",
"help": ""
},
{
"name": "sniad_ecart_par_rapport_aux_precipitations_moyennes_pacifique_03m",
"description": "Trois mois (mm) ",
"help": ""
},
{
"name": "sniad_ecart_par_rapport_aux_precipitations_moyennes_pacifique_052s",
"description": "Cinquante-deux semaines (mm) ",
"help": ""
},
{
"name": "sniad_ecart_par_rapport_aux_precipitations_moyennes_pacifique_06m",
"description": "Six mois (mm) ",
"help": ""
},
{
"name": "sniad_ecart_par_rapport_aux_precipitations_moyennes_pacifique_09m",
"description": "Neuf mois (mm) ",
"help": ""
},
{
"name": "sniad_ecart_par_rapport_aux_precipitations_moyennes_pacifique_12m",
"description": "Douze mois (mm) ",
"help": ""
},
{
"name": "sniad_ecart_par_rapport_aux_precipitations_moyennes_prairie_004s",
"description": "Quatre semaines (mm) ",
"help": ""
},
{
"name": "sniad_ecart_par_rapport_aux_precipitations_moyennes_prairie_009s",
"description": "Neuf semaines (mm) ",
"help": ""
},
{
"name": "sniad_ecart_par_rapport_aux_precipitations_moyennes_prairie_013s",
"description": "Treize semaines (mm) ",
"help": ""
},
{
"name": "sniad_ecart_par_rapport_aux_precipitations_moyennes_prairie_01m",
"description": "Un mois (mm) ",
"help": ""
},
{
"name": "sniad_ecart_par_rapport_aux_precipitations_moyennes_prairie_026s",
"description": "Vingt-six semaine (mm) ",
"help": ""
},
{
"name": "sniad_ecart_par_rapport_aux_precipitations_moyennes_prairie_02m",
"description": "Deux mois (mm) ",
"help": ""
},
{
"name": "sniad_ecart_par_rapport_aux_precipitations_moyennes_prairie_039s",
"description": "Trente-neuf semaines (mm) ",
"help": ""
},
{
"name": "sniad_ecart_par_rapport_aux_precipitations_moyennes_prairie_03m",
"description": "Trois mois (mm) ",
"help": ""
},
{
"name": "sniad_ecart_par_rapport_aux_precipitations_moyennes_prairie_052s",
"description": "Cinquante-deux semaines (mm) ",
"help": ""
},
{
"name": "sniad_ecart_par_rapport_aux_precipitations_moyennes_prairie_06m",
"description": "Six mois (mm) ",
"help": ""
},
{
"name": "sniad_ecart_par_rapport_aux_precipitations_moyennes_prairie_09m",
"description": "Neuf mois (mm) ",
"help": ""
},
{
"name": "sniad_ecart_par_rapport_aux_precipitations_moyennes_prairie_12m",
"description": "Douze mois (mm) ",
"help": ""
},
{
"name": "None",
"description": "Make a Raster or Raster Dataset into a Function Raster Dataset.",
"help": ""
}
]}
Mensuration Capabilities: Basic
Has Histograms: false
Has Colormap: false
Has Multi Dimensions : false
Rendering Rule:
Min Scale: 0
Max Scale: 0
Copyright Text: Agriculture et Agroalimentaire Canada
Service Data Type: esriImageServiceDataTypeGeneric
Min Values: N/A
Max Values: N/A
Mean Values: N/A
Standard Deviation Values: N/A
Object ID Field: OBJECTID
Fields:
-
OBJECTID
(
type: esriFieldTypeOID, alias: OBJECTID
)
-
Shape
(
type: esriFieldTypeGeometry, alias: Shape
)
-
Name
(
type: esriFieldTypeString, alias: Name, length: 200
)
-
MinPS
(
type: esriFieldTypeDouble, alias: MinPS
)
-
MaxPS
(
type: esriFieldTypeDouble, alias: MaxPS
)
-
LowPS
(
type: esriFieldTypeDouble, alias: LowPS
)
-
HighPS
(
type: esriFieldTypeDouble, alias: HighPS
)
-
Category
(
type: esriFieldTypeInteger, alias: Category
, Coded Values:
[0: Unknown]
, [1: Primary]
, [2: Overview]
, ...6 more...
)
-
Tag
(
type: esriFieldTypeString, alias: Tag, length: 100
)
-
GroupName
(
type: esriFieldTypeString, alias: GroupName, length: 100
)
-
ProductName
(
type: esriFieldTypeString, alias: ProductName, length: 100
)
-
CenterX
(
type: esriFieldTypeDouble, alias: CenterX
)
-
CenterY
(
type: esriFieldTypeDouble, alias: CenterY
)
-
ZOrder
(
type: esriFieldTypeInteger, alias: ZOrder
)
-
Shape_Length
(
type: esriFieldTypeDouble, alias: Shape_Length
)
-
Shape_Area
(
type: esriFieldTypeDouble, alias: Shape_Area
)
-
dateEnd
(
type: esriFieldTypeDate, alias: dateEnd, length: 8
)
-
tType
(
type: esriFieldTypeString, alias: tType, length: 30
)
Default Mosaic Method: ByAttribute
Allowed Mosaic Methods: ByAttribute,None,LockRaster
SortField: dateEnd
SortValue: 3000
Mosaic Operator: First
Default Compression Quality: 75
Default Resampling Method: Bilinear
Max Record Count: 1000
Max Image Height: 4100
Max Image Width: 15000
Max Download Image Count: 20
Max Mosaic Image Count: 1
Allow Raster Function: true
Allow Copy: true
Allow Analysis: true
Allow Compute TiePoints: false
Supports Statistics: true
Supports Advanced Queries: true
Use StandardizedQueries: true
Raster Type Infos:
Name: Raster Dataset
Description: Supports all ArcGIS Raster Datasets
Help:
Has Raster Attribute Table: false
Edit Fields Info: null
Ownership Based AccessControl For Rasters: null
Child Resources:
Info
Statistics
Key Properties
Legend
Raster Function Infos
Supported Operations:
Export Image
Query
Identify
Measure
Compute Histograms
Compute Statistics Histograms
Get Samples
Compute Class Statistics
Query Boundary
Compute Pixel Location
Compute Angles
Validate
Project