{
 "currentVersion": 11.1,
 "serviceDescription": "L'écart par rapport aux précipitations moyennes représente la valeur des précipitations accumulées dans un lieu donné, soustraite par la valeur moyenne à long terme. Une valeur négative indique que le lieu a reçu moins que la quantité normale de précipitations (mm) pour cette période. Une valeur positive indique que le lieu a reçu plus de précipitations que la moyenne (mm). Sur une échelle mensuelle, les périodes calculées sont de 1, 2, 3, 6, 9, 12, 18 et 24 mois. Sur une échelle hebdomadaire, chaque semaine ISO est numérotée de 1 à 52 (parfois 53) au sein de l'année. Une semaine ISO commence le lundi et se termine le dimanche. Les périodes peuvent être filtrées à l'aide du champ tType du service, où le suffixe « m » indique une échelle mensuelle et « w » une échelle hebdomadaire. Pour plus d'information, consulter : https://ouvert.canada.ca/data/fr/dataset/e1807beb-19fe-4792-b030-824c7d820b95",
 "name": "sniad/ecart_par_rapport_aux_precipitations_moyennes",
 "description": "L'écart par rapport aux précipitations moyennes représente la valeur des précipitations accumulées dans un lieu donné, soustraite par la valeur moyenne à long terme. Une valeur négative indique que le lieu a reçu moins que la quantité normale de précipitations (mm) pour cette période. Une valeur positive indique que le lieu a reçu plus de précipitations que la moyenne (mm). Sur une échelle mensuelle, les périodes calculées sont de 1, 2, 3, 6, 9, 12, 18 et 24 mois. Sur une échelle hebdomadaire, chaque semaine ISO est numérotée de 1 à 52 (parfois 53) au sein de l'année. Une semaine ISO commence le lundi et se termine le dimanche. Les périodes peuvent être filtrées à l'aide du champ tType du service, où le suffixe « m » indique une échelle mensuelle et « w » une échelle hebdomadaire. Pour plus d'information, consulter : https://ouvert.canada.ca/data/fr/dataset/e1807beb-19fe-4792-b030-824c7d820b95",
 "extent": {
  "xmin": -2.0037507842788246E7,
  "ymin": 1942475.858145211,
  "xmax": 2.002424200497104E7,
  "ymax": 2.003750834278928E7,
  "spatialReference": {
   "wkid": 102100,
   "latestWkid": 3857
  }
 },
 "initialExtent": {
  "xmin": -2.0037507842788246E7,
  "ymin": 1942475.858145211,
  "xmax": 2.002424200497104E7,
  "ymax": 2.003750834278928E7,
  "spatialReference": {
   "wkid": 102100,
   "latestWkid": 3857
  }
 },
 "fullExtent": {
  "xmin": -2.0037507842788246E7,
  "ymin": 1942475.858145211,
  "xmax": 2.002424200497104E7,
  "ymax": 2.003750834278928E7,
  "spatialReference": {
   "wkid": 102100,
   "latestWkid": 3857
  }
 },
 "sortableFields": "dateEnd,Shape_Area,Shape_Length,ZOrder,CenterY,CenterX,HighPS,LowPS,MaxPS,MinPS",
 "bandCount": 1,
 "pixelType": "F32",
 "minValues": [],
 "maxValues": [],
 "meanValues": [],
 "stdvValues": [],
 "hasMultidimensions": false,
 "timeInfo": {
  "startTimeField": "dateEnd",
  "endTimeField": "dateEnd",
  "timeExtent": [
   1765713600000,
   1786881600000
  ],
  "timeReference": null
 },
 "pixelSizeX": 20377.28883405864,
 "pixelSizeY": 20377.288834058636,
 "datasetFormat": "AMD",
 "uncompressedSize": 6983232,
 "blockWidth": 2048,
 "blockHeight": 256,
 "compressionType": "None",
 "bandNames": [
  "Band_1"
 ],
 "allowCopy": true,
 "allowAnalysis": true,
 "itemAccess": false,
 "minPixelSize": 0,
 "maxPixelSize": 0,
 "copyrightText": "Agriculture et Agroalimentaire Canada",
 "serviceDataType": "esriImageServiceDataTypeGeneric",
 "serviceSourceType": "esriImageServiceSourceTypeMosaicDataset",
 "objectIdField": "OBJECTID",
 "fields": [
  {
   "name": "OBJECTID",
   "type": "esriFieldTypeOID",
   "alias": "OBJECTID",
   "domain": null
  },
  {
   "name": "Shape",
   "type": "esriFieldTypeGeometry",
   "alias": "Shape",
   "domain": null
  },
  {
   "name": "Name",
   "type": "esriFieldTypeString",
   "alias": "Name",
   "domain": null,
   "length": 200
  },
  {
   "name": "MinPS",
   "type": "esriFieldTypeDouble",
   "alias": "MinPS",
   "domain": null
  },
  {
   "name": "MaxPS",
   "type": "esriFieldTypeDouble",
   "alias": "MaxPS",
   "domain": null
  },
  {
   "name": "LowPS",
   "type": "esriFieldTypeDouble",
   "alias": "LowPS",
   "domain": null
  },
  {
   "name": "HighPS",
   "type": "esriFieldTypeDouble",
   "alias": "HighPS",
   "domain": null
  },
  {
   "name": "Category",
   "type": "esriFieldTypeInteger",
   "alias": "Category",
   "domain": {
    "type": "codedValue",
    "name": "MosaicCatalogItemCategoryDomain",
    "description": "Catalog item categories.",
    "codedValues": [
     {
      "name": "Unknown",
      "code": 0
     },
     {
      "name": "Primary",
      "code": 1
     },
     {
      "name": "Overview",
      "code": 2
     },
     {
      "name": "Unprocessed Overview",
      "code": 3
     },
     {
      "name": "Partial Overview",
      "code": 4
     },
     {
      "name": "Inactive",
      "code": 5
     },
     {
      "name": "Uploaded",
      "code": 253
     },
     {
      "name": "Incomplete",
      "code": 254
     },
     {
      "name": "Custom",
      "code": 255
     }
    ],
    "mergePolicy": "esriMPTDefaultValue",
    "splitPolicy": "esriSPTDefaultValue"
   }
  },
  {
   "name": "Tag",
   "type": "esriFieldTypeString",
   "alias": "Tag",
   "domain": null,
   "length": 100
  },
  {
   "name": "GroupName",
   "type": "esriFieldTypeString",
   "alias": "GroupName",
   "domain": null,
   "length": 100
  },
  {
   "name": "ProductName",
   "type": "esriFieldTypeString",
   "alias": "ProductName",
   "domain": null,
   "length": 100
  },
  {
   "name": "CenterX",
   "type": "esriFieldTypeDouble",
   "alias": "CenterX",
   "domain": null
  },
  {
   "name": "CenterY",
   "type": "esriFieldTypeDouble",
   "alias": "CenterY",
   "domain": null
  },
  {
   "name": "ZOrder",
   "type": "esriFieldTypeInteger",
   "alias": "ZOrder",
   "domain": null
  },
  {
   "name": "Shape_Length",
   "type": "esriFieldTypeDouble",
   "alias": "Shape_Length",
   "domain": null
  },
  {
   "name": "Shape_Area",
   "type": "esriFieldTypeDouble",
   "alias": "Shape_Area",
   "domain": null
  },
  {
   "name": "dateEnd",
   "type": "esriFieldTypeDate",
   "alias": "dateEnd",
   "domain": null,
   "length": 8
  },
  {
   "name": "tType",
   "type": "esriFieldTypeString",
   "alias": "tType",
   "domain": null,
   "length": 30
  }
 ],
 "capabilities": "Image,Metadata,Catalog,Mensuration",
 "defaultMosaicMethod": "ByAttribute",
 "allowedMosaicMethods": "ByAttribute,None,LockRaster",
 "sortField": "dateEnd",
 "sortValue": "3000",
 "sortAscending": true,
 "mosaicOperator": "First",
 "maxDownloadSizeLimit": 2048,
 "defaultCompressionQuality": 75,
 "defaultResamplingMethod": "Bilinear",
 "maxImageHeight": 4100,
 "maxImageWidth": 15000,
 "maxRecordCount": 1000,
 "maxDownloadImageCount": 20,
 "maxMosaicImageCount": 1,
 "allowRasterFunction": true,
 "rasterFunctionInfos": [
  {
   "name": "sniad_ecart_par_rapport_aux_precipitations_moyennes_national_01m",
   "description": "Un mois (mm) ",
   "help": ""
  },
  {
   "name": "sniad_ecart_par_rapport_aux_precipitations_moyennes_atlantique_004w",
   "description": "Quatre semaines (mm) ",
   "help": ""
  },
  {
   "name": "sniad_ecart_par_rapport_aux_precipitations_moyennes_atlantique_009w",
   "description": "Neuf semaines (mm) ",
   "help": ""
  },
  {
   "name": "sniad_ecart_par_rapport_aux_precipitations_moyennes_atlantique_013w",
   "description": "Treize semaines (mm) ",
   "help": ""
  },
  {
   "name": "sniad_ecart_par_rapport_aux_precipitations_moyennes_atlantique_01m",
   "description": "Un mois (mm) ",
   "help": ""
  },
  {
   "name": "sniad_ecart_par_rapport_aux_precipitations_moyennes_atlantique_026w",
   "description": "Vingt-six semaines (mm) ",
   "help": ""
  },
  {
   "name": "sniad_ecart_par_rapport_aux_precipitations_moyennes_atlantique_02m",
   "description": "Deux mois (mm) ",
   "help": ""
  },
  {
   "name": "sniad_ecart_par_rapport_aux_precipitations_moyennes_atlantique_039w",
   "description": "Trente-neuf semaines (mm) ",
   "help": ""
  },
  {
   "name": "sniad_ecart_par_rapport_aux_precipitations_moyennes_atlantique_03m",
   "description": "Trois mois (mm) ",
   "help": ""
  },
  {
   "name": "sniad_ecart_par_rapport_aux_precipitations_moyennes_atlantique_052w",
   "description": "Cinquante-deux semaines (mm) ",
   "help": ""
  },
  {
   "name": "sniad_ecart_par_rapport_aux_precipitations_moyennes_atlantique_06m",
   "description": "Six mois (mm) ",
   "help": ""
  },
  {
   "name": "sniad_ecart_par_rapport_aux_precipitations_moyennes_atlantique_09m",
   "description": "Neuf mois (mm) ",
   "help": ""
  },
  {
   "name": "sniad_ecart_par_rapport_aux_precipitations_moyennes_atlantique_12m",
   "description": "Douze mois (mm) ",
   "help": ""
  },
  {
   "name": "sniad_ecart_par_rapport_aux_precipitations_moyennes_central_004w",
   "description": "Quatre semaines (mm) ",
   "help": ""
  },
  {
   "name": "sniad_ecart_par_rapport_aux_precipitations_moyennes_central_009w",
   "description": "Neuf semaines (mm) ",
   "help": ""
  },
  {
   "name": "sniad_ecart_par_rapport_aux_precipitations_moyennes_central_013w",
   "description": "Treize semaines (mm) ",
   "help": ""
  },
  {
   "name": "sniad_ecart_par_rapport_aux_precipitations_moyennes_central_01m",
   "description": "Un mois (mm) ",
   "help": ""
  },
  {
   "name": "sniad_ecart_par_rapport_aux_precipitations_moyennes_central_026w",
   "description": "Vingt-six semaine (mm) ",
   "help": ""
  },
  {
   "name": "sniad_ecart_par_rapport_aux_precipitations_moyennes_central_02m",
   "description": "Deux mois (mm) ",
   "help": ""
  },
  {
   "name": "sniad_ecart_par_rapport_aux_precipitations_moyennes_central_039w",
   "description": "Trente-neuf semaines (mm) ",
   "help": ""
  },
  {
   "name": "sniad_ecart_par_rapport_aux_precipitations_moyennes_central_03m",
   "description": "Trois mois (mm) ",
   "help": ""
  },
  {
   "name": "sniad_ecart_par_rapport_aux_precipitations_moyennes_central_052w",
   "description": "Cinquante-deux semaines (mm) ",
   "help": ""
  },
  {
   "name": "sniad_ecart_par_rapport_aux_precipitations_moyennes_central_06m",
   "description": "Six mois (mm) ",
   "help": ""
  },
  {
   "name": "sniad_ecart_par_rapport_aux_precipitations_moyennes_central_09m",
   "description": "Neuf mois (mm) ",
   "help": ""
  },
  {
   "name": "sniad_ecart_par_rapport_aux_precipitations_moyennes_central_12m",
   "description": "Douze mois (mm) ",
   "help": ""
  },
  {
   "name": "sniad_ecart_par_rapport_aux_precipitations_moyennes_national_004w",
   "description": "Quatre semaines (mm) ",
   "help": ""
  },
  {
   "name": "sniad_ecart_par_rapport_aux_precipitations_moyennes_national_009w",
   "description": "Neuf semaines (mm) ",
   "help": ""
  },
  {
   "name": "sniad_ecart_par_rapport_aux_precipitations_moyennes_national_013w",
   "description": "Treize semaines (mm) ",
   "help": ""
  },
  {
   "name": "sniad_ecart_par_rapport_aux_precipitations_moyennes_national_026w",
   "description": "Vingt-six semaine (mm) ",
   "help": ""
  },
  {
   "name": "sniad_ecart_par_rapport_aux_precipitations_moyennes_national_02m",
   "description": "Deux mois (mm) ",
   "help": ""
  },
  {
   "name": "sniad_ecart_par_rapport_aux_precipitations_moyennes_national_039w",
   "description": "Trente-neuf semaines (mm) ",
   "help": ""
  },
  {
   "name": "sniad_ecart_par_rapport_aux_precipitations_moyennes_national_03m",
   "description": "Trois mois (mm) ",
   "help": ""
  },
  {
   "name": "sniad_ecart_par_rapport_aux_precipitations_moyennes_national_052w",
   "description": "Cinquante-deux semaines (mm) ",
   "help": ""
  },
  {
   "name": "sniad_ecart_par_rapport_aux_precipitations_moyennes_national_06m",
   "description": "Six mois (mm) ",
   "help": ""
  },
  {
   "name": "sniad_ecart_par_rapport_aux_precipitations_moyennes_national_09m",
   "description": "Neuf mois (mm) ",
   "help": ""
  },
  {
   "name": "sniad_ecart_par_rapport_aux_precipitations_moyennes_national_12m",
   "description": "Douze mois (mm) ",
   "help": ""
  },
  {
   "name": "sniad_ecart_par_rapport_aux_precipitations_moyennes_pacific_004w",
   "description": "Quatre semaines (mm) ",
   "help": ""
  },
  {
   "name": "sniad_ecart_par_rapport_aux_precipitations_moyennes_pacific_009w",
   "description": "Neuf semaines (mm) ",
   "help": ""
  },
  {
   "name": "sniad_ecart_par_rapport_aux_precipitations_moyennes_pacific_013w",
   "description": "Treize semaines (mm) ",
   "help": ""
  },
  {
   "name": "sniad_ecart_par_rapport_aux_precipitations_moyennes_pacific_01m",
   "description": "Un mois (mm) ",
   "help": ""
  },
  {
   "name": "sniad_ecart_par_rapport_aux_precipitations_moyennes_pacific_026w",
   "description": "Vingt-six semaine (mm) ",
   "help": ""
  },
  {
   "name": "sniad_ecart_par_rapport_aux_precipitations_moyennes_pacific_02m",
   "description": "Deux mois (mm) ",
   "help": ""
  },
  {
   "name": "sniad_ecart_par_rapport_aux_precipitations_moyennes_pacific_039w",
   "description": "Trente-neuf semaines (mm) ",
   "help": ""
  },
  {
   "name": "sniad_ecart_par_rapport_aux_precipitations_moyennes_pacific_03m",
   "description": "Trois mois (mm) ",
   "help": ""
  },
  {
   "name": "sniad_ecart_par_rapport_aux_precipitations_moyennes_pacific_052w",
   "description": "Cinquante-deux semaines (mm) ",
   "help": ""
  },
  {
   "name": "sniad_ecart_par_rapport_aux_precipitations_moyennes_pacific_06m",
   "description": "Six mois (mm) ",
   "help": ""
  },
  {
   "name": "sniad_ecart_par_rapport_aux_precipitations_moyennes_pacific_09m",
   "description": "Neuf mois (mm) ",
   "help": ""
  },
  {
   "name": "sniad_ecart_par_rapport_aux_precipitations_moyennes_pacific_12m",
   "description": "Douze mois (mm) ",
   "help": ""
  },
  {
   "name": "sniad_ecart_par_rapport_aux_precipitations_moyennes_prairie_004w",
   "description": "Quatre semaines (mm) ",
   "help": ""
  },
  {
   "name": "sniad_ecart_par_rapport_aux_precipitations_moyennes_prairie_009w",
   "description": "Neuf semaines (mm) ",
   "help": ""
  },
  {
   "name": "sniad_ecart_par_rapport_aux_precipitations_moyennes_prairie_013w",
   "description": "Treize semaines (mm) ",
   "help": ""
  },
  {
   "name": "sniad_ecart_par_rapport_aux_precipitations_moyennes_prairie_01m",
   "description": "Un mois (mm) ",
   "help": ""
  },
  {
   "name": "sniad_ecart_par_rapport_aux_precipitations_moyennes_prairie_026w",
   "description": "Vingt-six semaine (mm) ",
   "help": ""
  },
  {
   "name": "sniad_ecart_par_rapport_aux_precipitations_moyennes_prairie_02m",
   "description": "Deux mois (mm) ",
   "help": ""
  },
  {
   "name": "sniad_ecart_par_rapport_aux_precipitations_moyennes_prairie_039w",
   "description": "Trente-neuf semaines (mm) ",
   "help": ""
  },
  {
   "name": "sniad_ecart_par_rapport_aux_precipitations_moyennes_prairie_03m",
   "description": "Trois mois (mm) ",
   "help": ""
  },
  {
   "name": "sniad_ecart_par_rapport_aux_precipitations_moyennes_prairie_052w",
   "description": "Cinquante-deux semaines (mm) ",
   "help": ""
  },
  {
   "name": "sniad_ecart_par_rapport_aux_precipitations_moyennes_prairie_06m",
   "description": "Six mois (mm) ",
   "help": ""
  },
  {
   "name": "sniad_ecart_par_rapport_aux_precipitations_moyennes_prairie_09m",
   "description": "Neuf mois (mm) ",
   "help": ""
  },
  {
   "name": "sniad_ecart_par_rapport_aux_precipitations_moyennes_prairie_12m",
   "description": "Douze mois (mm) ",
   "help": ""
  },
  {
   "name": "None",
   "description": "Make a Raster or Raster Dataset into a Function Raster Dataset.",
   "help": ""
  }
 ],
 "rasterTypeInfos": [
  {
   "name": "Raster Dataset",
   "description": "Supports all ArcGIS Raster Datasets",
   "help": ""
  }
 ],
 "mensurationCapabilities": "Basic",
 "hasHistograms": false,
 "hasColormap": false,
 "hasRasterAttributeTable": false,
 "minScale": 0,
 "maxScale": 0,
 "exportTilesAllowed": false,
 "supportsStatistics": true,
 "supportsAdvancedQueries": true,
 "editFieldsInfo": null,
 "ownershipBasedAccessControlForRasters": null,
 "allowComputeTiePoints": false,
 "useStandardizedQueries": true,
 "advancedQueryCapabilities": {
  "useStandardizedQueries": true,
  "supportsStatistics": true,
  "supportsOrderBy": true,
  "supportsDistinct": true,
  "supportsPagination": true
 },
 "spatialReference": {
  "wkid": 102100,
  "latestWkid": 3857
 }
}
