View In:
ArcGIS JavaScript
ArcGIS Online Map Viewer
ArcGIS Earth
Service Description: Les données climatiques normales dérivées représentent les moyennes sur 30 ans (1961-1990, 1971-2000, 1981-2010, 1991-2020) des conditions climatiques observées à un endroit particulier. Les données climatiques normales dérivées représentent les moyennes ou les « normales » sur 30 ans pour les précipitations, la température, les degrés-jours de croissance, les unités de chaleur des cultures, le gel, les périodes de sécheresse et l'évapotranspiration potentielle. Ces tendances normales sont essentielles pour comprendre les risques agroclimatiques au Canada. Ces conditions normales peuvent servir de base de comparaison avec les conditions actuelles et sont particulièrement utiles pour surveiller le risque de sécheresse. Pour plus d'information, consulter : https://ouvert.canada.ca/data/fr/dataset/3a060b8f-e662-4a60-b297-3bed859ffc8a
Name: normales_climatiques
Description: Les données climatiques normales dérivées représentent les moyennes sur 30 ans (1961-1990, 1971-2000, 1981-2010, 1991-2020) des conditions climatiques observées à un endroit particulier. Les données climatiques normales dérivées représentent les moyennes ou les « normales » sur 30 ans pour les précipitations, la température, les degrés-jours de croissance, les unités de chaleur des cultures, le gel, les périodes de sécheresse et l'évapotranspiration potentielle. Ces tendances normales sont essentielles pour comprendre les risques agroclimatiques au Canada. Ces conditions normales peuvent servir de base de comparaison avec les conditions actuelles et sont particulièrement utiles pour surveiller le risque de sécheresse. Pour plus d'information, consulter : https://ouvert.canada.ca/data/fr/dataset/3a060b8f-e662-4a60-b297-3bed859ffc8a
Single Fused Map Cache: false
Extent:
XMin: -1.57133747907E7
YMin: 5005292.8807
XMax: -5783374.7907
YMax: 1.83152928807E7
Spatial Reference: 102100
(3857)
LatestVCSWkid(0)
Initial Extent:
XMin: -1.57133747907E7
YMin: 5005292.8807
XMax: -5783374.7907
YMax: 1.83152928807E7
Spatial Reference: 102100
(3857)
LatestVCSWkid(0)
Full Extent:
XMin: -1.57133747907E7
YMin: 5005292.8807
XMax: -5783374.7907
YMax: 1.83152928807E7
Spatial Reference: 102100
(3857)
LatestVCSWkid(0)
Pixel Size X: 5000.0
Pixel Size Y: 5000.0
Band Count: 1
Pixel Type: F32
RasterFunction Infos: {"rasterFunctionInfos": [
{
"name": "None",
"description": "Make a Raster or Raster Dataset into a Function Raster Dataset.",
"help": ""
},
{
"name": "ac_cy",
"description": "Précipitations accumulées (mm) - Année civile",
"help": ""
},
{
"name": "ac_gs",
"description": "Précipitations accumulées (mm) - Saison de croissance (1 avril à 31 octobre)",
"help": ""
},
{
"name": "ac_mo",
"description": "Précipitations accumulées (mm) - Mois civil",
"help": ""
},
{
"name": "ac_wi",
"description": "Précipitations accumulées (mm) - Saison d'hiver (1 novembre à 31 mars)",
"help": ""
},
{
"name": "chu_gs",
"description": "Unités thermiques - Saison de croissance (1 avril à 31 octobre)",
"help": ""
},
{
"name": "chu_mo",
"description": "Unités thermiques - Mois civil",
"help": ""
},
{
"name": "cold_cy",
"description": "Nombre de jours présentant une température quotidienne minimale inférieure à -30 °C - Année civile",
"help": ""
},
{
"name": "dd_cy",
"description": "Nombre de jours secs - Année civile",
"help": ""
},
{
"name": "dd_gs",
"description": "Nombre de jours secs - Saison de croissance (1 avril à 31 octobre)",
"help": ""
},
{
"name": "dd_mo",
"description": "Nombre de jours secs - Mois civil",
"help": ""
},
{
"name": "fd-2_gs",
"description": "Jours de gel (-2°C) - Saison de croissance (1 avril à 31 octobre)",
"help": ""
},
{
"name": "fd-2_mo",
"description": "Jours de gel (-2°C) - Mois civil",
"help": ""
},
{
"name": "fd-4_gs",
"description": "Jours de gel (-4°C) - Saison de croissance (1 avril à 31 octobre)",
"help": ""
},
{
"name": "fd-4_mo",
"description": "Jours de gel (-4°C) - Mois civil",
"help": ""
},
{
"name": "fd0_gs",
"description": "Jours de gel (0°C) - Saison de croissance (1 avril à 31 octobre)",
"help": ""
},
{
"name": "fd0_mo",
"description": "Jours de gel (0°C) - Mois civil",
"help": ""
},
{
"name": "fff-2_gs",
"description": "Date du premier gel automnal (-2°C) - Saison de croissance (1 avril à 31 octobre)",
"help": ""
},
{
"name": "fff-4_gs",
"description": "Date du premier gel automnal (-4°C) - Saison de croissance (1 avril à 31 octobre)",
"help": ""
},
{
"name": "fff0_gs",
"description": "Date du premier gel automnal (0°C) - Saison de croissance (1 avril à 31 octobre)",
"help": ""
},
{
"name": "ffp-2_gs",
"description": "Nombre de jours sans gel (-2°C) - Saison de croissance (1 avril à 31 octobre)",
"help": ""
},
{
"name": "ffp-4_gs",
"description": "Nombre de jours sans gel (-4°C) - Saison de croissance (1 avril à 31 octobre)",
"help": ""
},
{
"name": "ffp0_gs",
"description": "Nombre de jours sans gel (0°C) - Saison de croissance (1 avril à 31 octobre)",
"help": ""
},
{
"name": "gdd00_gs",
"description": "Degrés-jours de croissance, base 0 - Saison de croissance (1 avril à 31 octobre)",
"help": ""
},
{
"name": "gdd00_mo",
"description": "Degrés-jours de croissance - base 0 - Mois civil",
"help": ""
},
{
"name": "gdd05_gs",
"description": "Degrés-jours de croissance, base 5 - Saison de croissance (1 avril à 31 octobre)",
"help": ""
},
{
"name": "gdd05_mo",
"description": "Degrés-jours de croissance - base 5 - Mois civil",
"help": ""
},
{
"name": "gdd10_gs",
"description": "Degrés-jours de croissance, base 10 - Saison de croissance (1 avril à 31 octobre)",
"help": ""
},
{
"name": "gdd10_mo",
"description": "Degrés-jours de croissance - base 10 - Mois civil",
"help": ""
},
{
"name": "gdd15_gs",
"description": "Degrés-jours de croissance, base 15 - Saison de croissance (1 avril à 31 octobre)",
"help": ""
},
{
"name": "gdd15_mo",
"description": "Degrés-jours de croissance - base 15 - Mois civil",
"help": ""
},
{
"name": "hd25_gs",
"description": "Nombre de jours au-dessus de 25°C - Saison de croissance (1 avril à 31 octobre)",
"help": ""
},
{
"name": "hd25_mo",
"description": "Nombre de jours au-dessus de 25°C - Mois civil",
"help": ""
},
{
"name": "hd30_gs",
"description": "Nombre de jours au-dessus de 30°C - Saison de croissance (1 avril à 31 octobre)",
"help": ""
},
{
"name": "hd30_mo",
"description": "Nombre de jours au-dessus de 30°C - Mois civil",
"help": ""
},
{
"name": "hd32_gs",
"description": "Nombre de jours au-dessus de 32°C - Saison de croissance (1 avril à 31 octobre)",
"help": ""
},
{
"name": "hd32_mo",
"description": "Nombre de jours au-dessus de 32°C - Mois civil",
"help": ""
},
{
"name": "lsf-2_gs",
"description": "Date du dernier gel printanier (-2°C) - Saison de croissance (1 avril à 31 octobre)",
"help": ""
},
{
"name": "lsf-4_gs",
"description": "Date du dernier gel printanier (-4°C) - Saison de croissance (1 avril à 31 octobre)",
"help": ""
},
{
"name": "lsf0_gs",
"description": "Date du dernier gel printanier (0°C) - Saison de croissance (1 avril à 31 octobre)",
"help": ""
},
{
"name": "pet_cy",
"description": "Évapotranspiration potentielle (mm) - Année civile",
"help": ""
},
{
"name": "pet_gs",
"description": "Évapotranspiration potentielle (mm) - Saison de croissance (1 avril à 31 octobre)",
"help": ""
},
{
"name": "pet_mo",
"description": "Évapotranspiration potentielle (mm) - Mois civil",
"help": ""
},
{
"name": "ta_m01",
"description": "Température moyennes (°C) - Janvier",
"help": ""
},
{
"name": "ta_m02",
"description": "Température moyennes (°C) - Février",
"help": ""
},
{
"name": "ta_m03",
"description": "Température moyennes (°C) - Mars",
"help": ""
},
{
"name": "ta_m04",
"description": "Température moyennes (°C) - Avril",
"help": ""
},
{
"name": "ta_m05",
"description": "Température moyennes (°C) - Mai",
"help": ""
},
{
"name": "ta_m06",
"description": "Température moyennes (°C) - Juin",
"help": ""
},
{
"name": "ta_m07",
"description": "Température moyennes (°C) - Juillet",
"help": ""
},
{
"name": "ta_m08",
"description": "Température moyennes (°C) - Août",
"help": ""
},
{
"name": "ta_m09",
"description": "Température moyennes (°C) - Septembre",
"help": ""
},
{
"name": "ta_m10",
"description": "Température moyennes (°C) - Octobre",
"help": ""
},
{
"name": "ta_m11",
"description": "Température moyennes (°C) - Novembre",
"help": ""
},
{
"name": "ta_m12",
"description": "Température moyennes (°C) - Décembre",
"help": ""
},
{
"name": "tn_m01",
"description": "Température minimale (°C) - Janvier",
"help": ""
},
{
"name": "tn_m02",
"description": "Température minimale (°C) - Février",
"help": ""
},
{
"name": "tn_m03",
"description": "Température minimale (°C) - Mars",
"help": ""
},
{
"name": "tn_m04",
"description": "Température minimale (°C) - Avril",
"help": ""
},
{
"name": "tn_m05",
"description": "Température minimale (°C) - Mai",
"help": ""
},
{
"name": "tn_m06",
"description": "Température minimale (°C) - Juin",
"help": ""
},
{
"name": "tn_m07",
"description": "Température minimale (°C) - Juillet",
"help": ""
},
{
"name": "tn_m08",
"description": "Température minimale (°C) - Août",
"help": ""
},
{
"name": "tn_m09",
"description": "Température minimale (°C) - Septembre",
"help": ""
},
{
"name": "tn_m10",
"description": "Température minimale (°C) - Octobre",
"help": ""
},
{
"name": "tn_m11",
"description": "Température minimale (°C) - Novembre",
"help": ""
},
{
"name": "tn_m12",
"description": "Température minimale (°C) - Décembre",
"help": ""
},
{
"name": "trop_gs",
"description": "Nombre de jours présentant une température quotidienne minimale supérieure à 20 °C - Saison de croissance (1 avril à 31 octobre)",
"help": ""
},
{
"name": "tx_m01",
"description": "Température maximale (°C) - Janvier",
"help": ""
},
{
"name": "tx_m02",
"description": "Température maximale (°C) - Février",
"help": ""
},
{
"name": "tx_m03",
"description": "Température maximale (°C) - Mars",
"help": ""
},
{
"name": "tx_m04",
"description": "Température maximale (°C) - Avril",
"help": ""
},
{
"name": "tx_m05",
"description": "Température maximale (°C) - Mai",
"help": ""
},
{
"name": "tx_m06",
"description": "Température maximale (°C) - Juin",
"help": ""
},
{
"name": "tx_m07",
"description": "Température maximale (°C) - Juillet",
"help": ""
},
{
"name": "tx_m08",
"description": "Température maximale (°C) - Août",
"help": ""
},
{
"name": "tx_m09",
"description": "Température maximale (°C) - Septembre",
"help": ""
},
{
"name": "tx_m10",
"description": "Température maximale (°C) - Octobre",
"help": ""
},
{
"name": "tx_m11",
"description": "Température maximale (°C) - novembre ",
"help": ""
},
{
"name": "tx_m12",
"description": "Température maximale (°C) - Décembre",
"help": ""
}
]}
Mensuration Capabilities: Basic
Has Histograms: false
Has Colormap: false
Has Multi Dimensions : false
Rendering Rule:
Min Scale: 0
Max Scale: 0
Copyright Text: Agriculture et Agroalimentaire Canada
Service Data Type: esriImageServiceDataTypeGeneric
Min Values: N/A
Max Values: N/A
Mean Values: N/A
Standard Deviation Values: N/A
Object ID Field: OBJECTID
Fields:
-
OBJECTID
(
type: esriFieldTypeOID, alias: OBJECTID
)
-
Shape
(
type: esriFieldTypeGeometry, alias: Shape
)
-
Name
(
type: esriFieldTypeString, alias: Name, length: 200
)
-
MinPS
(
type: esriFieldTypeDouble, alias: MinPS
)
-
MaxPS
(
type: esriFieldTypeDouble, alias: MaxPS
)
-
LowPS
(
type: esriFieldTypeDouble, alias: LowPS
)
-
HighPS
(
type: esriFieldTypeDouble, alias: HighPS
)
-
Category
(
type: esriFieldTypeInteger, alias: Category
, Coded Values:
[0: Unknown]
, [1: Primary]
, [2: Overview]
, ...6 more...
)
-
Tag
(
type: esriFieldTypeString, alias: Tag, length: 100
)
-
GroupName
(
type: esriFieldTypeString, alias: GroupName, length: 100
)
-
ProductName
(
type: esriFieldTypeString, alias: ProductName, length: 100
)
-
CenterX
(
type: esriFieldTypeDouble, alias: CenterX
)
-
CenterY
(
type: esriFieldTypeDouble, alias: CenterY
)
-
ZOrder
(
type: esriFieldTypeInteger, alias: ZOrder
)
-
Shape_Length
(
type: esriFieldTypeDouble, alias: Shape_Length
)
-
Shape_Area
(
type: esriFieldTypeDouble, alias: Shape_Area
)
-
dateEnd
(
type: esriFieldTypeDate, alias: dateEnd, length: 8
)
-
tType
(
type: esriFieldTypeString, alias: tType, length: 30
)
-
dateStart
(
type: esriFieldTypeDate, alias: dateStart, length: 8
)
-
tYears
(
type: esriFieldTypeString, alias: tYears, length: 9
)
Default Mosaic Method: ByAttribute
Allowed Mosaic Methods: ByAttribute,None,LockRaster
SortField: ZOrder
SortValue: 0
Mosaic Operator: First
Default Compression Quality: 75
Default Resampling Method: Bilinear
Max Record Count: 1000
Max Image Height: 4100
Max Image Width: 15000
Max Download Image Count: 20
Max Mosaic Image Count: 1
Allow Raster Function: true
Allow Copy: true
Allow Analysis: true
Allow Compute TiePoints: false
Supports Statistics: true
Supports Advanced Queries: true
Use StandardizedQueries: true
Raster Type Infos:
Name: Raster Dataset
Description: Supports all ArcGIS Raster Datasets
Help:
Has Raster Attribute Table: false
Edit Fields Info: null
Ownership Based AccessControl For Rasters: null
Child Resources:
Info
Statistics
Key Properties
Legend
Raster Function Infos
Supported Operations:
Export Image
Query
Identify
Measure
Compute Histograms
Compute Statistics Histograms
Get Samples
Compute Class Statistics
Query Boundary
Compute Pixel Location
Compute Angles
Validate
Project