{
 "currentVersion": 11.1,
 "serviceDescription": "Les données climatiques normales dérivées représentent les moyennes sur 30 ans (1961-1990, 1971-2000, 1981-2010, 1991-2020) des conditions climatiques observées à un endroit particulier. Les données climatiques normales dérivées représentent les moyennes ou les «\u2009normales\u2009» sur 30 ans pour les précipitations, la température, les degrés-jours de croissance, les unités de chaleur des cultures, le gel, les périodes de sécheresse et l'évapotranspiration potentielle. Ces tendances normales sont essentielles pour comprendre les risques agroclimatiques au Canada. Ces conditions normales peuvent servir de base de comparaison avec les conditions actuelles et sont particulièrement utiles pour surveiller le risque de sécheresse. Pour plus d'information, consulter : https://ouvert.canada.ca/data/fr/dataset/3a060b8f-e662-4a60-b297-3bed859ffc8a",
 "name": "normales_climatiques",
 "description": "Les données climatiques normales dérivées représentent les moyennes sur 30 ans (1961-1990, 1971-2000, 1981-2010, 1991-2020) des conditions climatiques observées à un endroit particulier. Les données climatiques normales dérivées représentent les moyennes ou les «\u2009normales\u2009» sur 30 ans pour les précipitations, la température, les degrés-jours de croissance, les unités de chaleur des cultures, le gel, les périodes de sécheresse et l'évapotranspiration potentielle. Ces tendances normales sont essentielles pour comprendre les risques agroclimatiques au Canada. Ces conditions normales peuvent servir de base de comparaison avec les conditions actuelles et sont particulièrement utiles pour surveiller le risque de sécheresse. Pour plus d'information, consulter : https://ouvert.canada.ca/data/fr/dataset/3a060b8f-e662-4a60-b297-3bed859ffc8a",
 "extent": {
  "xmin": -1.57133747907E7,
  "ymin": 5005292.8807,
  "xmax": -5783374.7907,
  "ymax": 1.83152928807E7,
  "spatialReference": {
   "wkid": 102100,
   "latestWkid": 3857
  }
 },
 "initialExtent": {
  "xmin": -1.57133747907E7,
  "ymin": 5005292.8807,
  "xmax": -5783374.7907,
  "ymax": 1.83152928807E7,
  "spatialReference": {
   "wkid": 102100,
   "latestWkid": 3857
  }
 },
 "fullExtent": {
  "xmin": -1.57133747907E7,
  "ymin": 5005292.8807,
  "xmax": -5783374.7907,
  "ymax": 1.83152928807E7,
  "spatialReference": {
   "wkid": 102100,
   "latestWkid": 3857
  }
 },
 "sortableFields": "MinPS,MaxPS,LowPS,HighPS,CenterX,CenterY,ZOrder,Shape_Length,Shape_Area,dateEnd,dateStart",
 "bandCount": 1,
 "pixelType": "F32",
 "minValues": [],
 "maxValues": [],
 "meanValues": [],
 "stdvValues": [],
 "hasMultidimensions": false,
 "pixelSizeX": 5000,
 "pixelSizeY": 5000,
 "datasetFormat": "AMD",
 "uncompressedSize": 21146928,
 "blockWidth": 2048,
 "blockHeight": 256,
 "compressionType": "None",
 "bandNames": [
  "Band_1"
 ],
 "allowCopy": true,
 "allowAnalysis": true,
 "itemAccess": false,
 "minPixelSize": 0,
 "maxPixelSize": 0,
 "copyrightText": "Agriculture et Agroalimentaire Canada",
 "serviceDataType": "esriImageServiceDataTypeGeneric",
 "serviceSourceType": "esriImageServiceSourceTypeMosaicDataset",
 "objectIdField": "OBJECTID",
 "fields": [
  {
   "name": "OBJECTID",
   "type": "esriFieldTypeOID",
   "alias": "OBJECTID",
   "domain": null
  },
  {
   "name": "Shape",
   "type": "esriFieldTypeGeometry",
   "alias": "Shape",
   "domain": null
  },
  {
   "name": "Name",
   "type": "esriFieldTypeString",
   "alias": "Name",
   "domain": null,
   "length": 200
  },
  {
   "name": "MinPS",
   "type": "esriFieldTypeDouble",
   "alias": "MinPS",
   "domain": null
  },
  {
   "name": "MaxPS",
   "type": "esriFieldTypeDouble",
   "alias": "MaxPS",
   "domain": null
  },
  {
   "name": "LowPS",
   "type": "esriFieldTypeDouble",
   "alias": "LowPS",
   "domain": null
  },
  {
   "name": "HighPS",
   "type": "esriFieldTypeDouble",
   "alias": "HighPS",
   "domain": null
  },
  {
   "name": "Category",
   "type": "esriFieldTypeInteger",
   "alias": "Category",
   "domain": {
    "type": "codedValue",
    "name": "MosaicCatalogItemCategoryDomain",
    "description": "Catalog item categories.",
    "codedValues": [
     {
      "name": "Unknown",
      "code": 0
     },
     {
      "name": "Primary",
      "code": 1
     },
     {
      "name": "Overview",
      "code": 2
     },
     {
      "name": "Unprocessed Overview",
      "code": 3
     },
     {
      "name": "Partial Overview",
      "code": 4
     },
     {
      "name": "Inactive",
      "code": 5
     },
     {
      "name": "Uploaded",
      "code": 253
     },
     {
      "name": "Incomplete",
      "code": 254
     },
     {
      "name": "Custom",
      "code": 255
     }
    ],
    "mergePolicy": "esriMPTDefaultValue",
    "splitPolicy": "esriSPTDefaultValue"
   }
  },
  {
   "name": "Tag",
   "type": "esriFieldTypeString",
   "alias": "Tag",
   "domain": null,
   "length": 100
  },
  {
   "name": "GroupName",
   "type": "esriFieldTypeString",
   "alias": "GroupName",
   "domain": null,
   "length": 100
  },
  {
   "name": "ProductName",
   "type": "esriFieldTypeString",
   "alias": "ProductName",
   "domain": null,
   "length": 100
  },
  {
   "name": "CenterX",
   "type": "esriFieldTypeDouble",
   "alias": "CenterX",
   "domain": null
  },
  {
   "name": "CenterY",
   "type": "esriFieldTypeDouble",
   "alias": "CenterY",
   "domain": null
  },
  {
   "name": "ZOrder",
   "type": "esriFieldTypeInteger",
   "alias": "ZOrder",
   "domain": null
  },
  {
   "name": "Shape_Length",
   "type": "esriFieldTypeDouble",
   "alias": "Shape_Length",
   "domain": null
  },
  {
   "name": "Shape_Area",
   "type": "esriFieldTypeDouble",
   "alias": "Shape_Area",
   "domain": null
  },
  {
   "name": "dateEnd",
   "type": "esriFieldTypeDate",
   "alias": "dateEnd",
   "domain": null,
   "length": 8
  },
  {
   "name": "tType",
   "type": "esriFieldTypeString",
   "alias": "tType",
   "domain": null,
   "length": 30
  },
  {
   "name": "dateStart",
   "type": "esriFieldTypeDate",
   "alias": "dateStart",
   "domain": null,
   "length": 8
  },
  {
   "name": "tYears",
   "type": "esriFieldTypeString",
   "alias": "tYears",
   "domain": null,
   "length": 9
  }
 ],
 "capabilities": "Image,Metadata,Catalog,Mensuration",
 "defaultMosaicMethod": "ByAttribute",
 "allowedMosaicMethods": "ByAttribute,None,LockRaster",
 "sortField": "ZOrder",
 "sortValue": "0",
 "sortAscending": true,
 "mosaicOperator": "First",
 "maxDownloadSizeLimit": 2048,
 "defaultCompressionQuality": 75,
 "defaultResamplingMethod": "Bilinear",
 "maxImageHeight": 4100,
 "maxImageWidth": 15000,
 "maxRecordCount": 1000,
 "maxDownloadImageCount": 20,
 "maxMosaicImageCount": 1,
 "allowRasterFunction": true,
 "rasterFunctionInfos": [
  {
   "name": "None",
   "description": "Make a Raster or Raster Dataset into a Function Raster Dataset.",
   "help": ""
  },
  {
   "name": "ac_cy",
   "description": "Précipitations accumulées (mm) - Année civile",
   "help": ""
  },
  {
   "name": "ac_gs",
   "description": "Précipitations accumulées (mm) - Saison de croissance (1 avril à 31 octobre)",
   "help": ""
  },
  {
   "name": "ac_mo",
   "description": "Précipitations accumulées (mm) - Mois civil",
   "help": ""
  },
  {
   "name": "ac_wi",
   "description": "Précipitations accumulées (mm) - Saison d'hiver (1 novembre à 31 mars)",
   "help": ""
  },
  {
   "name": "chu_gs",
   "description": "Unités thermiques - Saison de croissance (1 avril à 31 octobre)",
   "help": ""
  },
  {
   "name": "chu_mo",
   "description": "Unités thermiques - Mois civil",
   "help": ""
  },
  {
   "name": "cold_cy",
   "description": "Nombre de jours présentant une température quotidienne minimale inférieure à -30 °C - Année civile",
   "help": ""
  },
  {
   "name": "dd_cy",
   "description": "Nombre de jours secs - Année civile",
   "help": ""
  },
  {
   "name": "dd_gs",
   "description": "Nombre de jours secs - Saison de croissance (1 avril à 31 octobre)",
   "help": ""
  },
  {
   "name": "dd_mo",
   "description": "Nombre de jours secs - Mois civil",
   "help": ""
  },
  {
   "name": "fd-2_gs",
   "description": "Jours de gel (-2°C) - Saison de croissance (1 avril à 31 octobre)",
   "help": ""
  },
  {
   "name": "fd-2_mo",
   "description": "Jours de gel (-2°C) - Mois civil",
   "help": ""
  },
  {
   "name": "fd-4_gs",
   "description": "Jours de gel (-4°C) - Saison de croissance (1 avril à 31 octobre)",
   "help": ""
  },
  {
   "name": "fd-4_mo",
   "description": "Jours de gel (-4°C) - Mois civil",
   "help": ""
  },
  {
   "name": "fd0_gs",
   "description": "Jours de gel (0°C) - Saison de croissance (1 avril à 31 octobre)",
   "help": ""
  },
  {
   "name": "fd0_mo",
   "description": "Jours de gel (0°C) - Mois civil",
   "help": ""
  },
  {
   "name": "fff-2_gs",
   "description": "Date du premier gel automnal (-2°C) - Saison de croissance (1 avril à 31 octobre)",
   "help": ""
  },
  {
   "name": "fff-4_gs",
   "description": "Date du premier gel automnal (-4°C) - Saison de croissance (1 avril à 31 octobre)",
   "help": ""
  },
  {
   "name": "fff0_gs",
   "description": "Date du premier gel automnal (0°C) - Saison de croissance (1 avril à 31 octobre)",
   "help": ""
  },
  {
   "name": "ffp-2_gs",
   "description": "Nombre de jours sans gel (-2°C) - Saison de croissance (1 avril à 31 octobre)",
   "help": ""
  },
  {
   "name": "ffp-4_gs",
   "description": "Nombre de jours sans gel (-4°C) - Saison de croissance (1 avril à 31 octobre)",
   "help": ""
  },
  {
   "name": "ffp0_gs",
   "description": "Nombre de jours sans gel (0°C) - Saison de croissance (1 avril à 31 octobre)",
   "help": ""
  },
  {
   "name": "gdd00_gs",
   "description": "Degrés-jours de croissance, base 0 - Saison de croissance (1 avril à 31 octobre)",
   "help": ""
  },
  {
   "name": "gdd00_mo",
   "description": "Degrés-jours de croissance - base 0 - Mois civil",
   "help": ""
  },
  {
   "name": "gdd05_gs",
   "description": "Degrés-jours de croissance, base 5 - Saison de croissance (1 avril à 31 octobre)",
   "help": ""
  },
  {
   "name": "gdd05_mo",
   "description": "Degrés-jours de croissance - base 5 - Mois civil",
   "help": ""
  },
  {
   "name": "gdd10_gs",
   "description": "Degrés-jours de croissance, base 10 - Saison de croissance (1 avril à 31 octobre)",
   "help": ""
  },
  {
   "name": "gdd10_mo",
   "description": "Degrés-jours de croissance - base 10 - Mois civil",
   "help": ""
  },
  {
   "name": "gdd15_gs",
   "description": "Degrés-jours de croissance, base 15 - Saison de croissance (1 avril à 31 octobre)",
   "help": ""
  },
  {
   "name": "gdd15_mo",
   "description": "Degrés-jours de croissance - base 15 - Mois civil",
   "help": ""
  },
  {
   "name": "hd25_gs",
   "description": "Nombre de jours au-dessus de 25°C - Saison de croissance (1 avril à 31 octobre)",
   "help": ""
  },
  {
   "name": "hd25_mo",
   "description": "Nombre de jours au-dessus de 25°C - Mois civil",
   "help": ""
  },
  {
   "name": "hd30_gs",
   "description": "Nombre de jours au-dessus de 30°C - Saison de croissance (1 avril à 31 octobre)",
   "help": ""
  },
  {
   "name": "hd30_mo",
   "description": "Nombre de jours au-dessus de 30°C - Mois civil",
   "help": ""
  },
  {
   "name": "hd32_gs",
   "description": "Nombre de jours au-dessus de 32°C - Saison de croissance (1 avril à 31 octobre)",
   "help": ""
  },
  {
   "name": "hd32_mo",
   "description": "Nombre de jours au-dessus de 32°C - Mois civil",
   "help": ""
  },
  {
   "name": "lsf-2_gs",
   "description": "Date du dernier gel printanier (-2°C) - Saison de croissance (1 avril à 31 octobre)",
   "help": ""
  },
  {
   "name": "lsf-4_gs",
   "description": "Date du dernier gel printanier (-4°C) - Saison de croissance (1 avril à 31 octobre)",
   "help": ""
  },
  {
   "name": "lsf0_gs",
   "description": "Date du dernier gel printanier (0°C) - Saison de croissance (1 avril à 31 octobre)",
   "help": ""
  },
  {
   "name": "pet_cy",
   "description": "Évapotranspiration potentielle (mm) - Année civile",
   "help": ""
  },
  {
   "name": "pet_gs",
   "description": "Évapotranspiration potentielle (mm) - Saison de croissance (1 avril à 31 octobre)",
   "help": ""
  },
  {
   "name": "pet_mo",
   "description": "Évapotranspiration potentielle (mm) - Mois civil",
   "help": ""
  },
  {
   "name": "ta_m01",
   "description": "Température moyennes (°C) - Janvier",
   "help": ""
  },
  {
   "name": "ta_m02",
   "description": "Température moyennes (°C) - Février",
   "help": ""
  },
  {
   "name": "ta_m03",
   "description": "Température moyennes (°C) - Mars",
   "help": ""
  },
  {
   "name": "ta_m04",
   "description": "Température moyennes (°C) - Avril",
   "help": ""
  },
  {
   "name": "ta_m05",
   "description": "Température moyennes (°C) - Mai",
   "help": ""
  },
  {
   "name": "ta_m06",
   "description": "Température moyennes (°C) - Juin",
   "help": ""
  },
  {
   "name": "ta_m07",
   "description": "Température moyennes (°C) - Juillet",
   "help": ""
  },
  {
   "name": "ta_m08",
   "description": "Température moyennes (°C) - Août",
   "help": ""
  },
  {
   "name": "ta_m09",
   "description": "Température moyennes (°C) - Septembre",
   "help": ""
  },
  {
   "name": "ta_m10",
   "description": "Température moyennes (°C) - Octobre",
   "help": ""
  },
  {
   "name": "ta_m11",
   "description": "Température moyennes (°C) - Novembre",
   "help": ""
  },
  {
   "name": "ta_m12",
   "description": "Température moyennes (°C) - Décembre",
   "help": ""
  },
  {
   "name": "tn_m01",
   "description": "Température minimale (°C) - Janvier",
   "help": ""
  },
  {
   "name": "tn_m02",
   "description": "Température minimale (°C) - Février",
   "help": ""
  },
  {
   "name": "tn_m03",
   "description": "Température minimale (°C) - Mars",
   "help": ""
  },
  {
   "name": "tn_m04",
   "description": "Température minimale (°C) - Avril",
   "help": ""
  },
  {
   "name": "tn_m05",
   "description": "Température minimale (°C) - Mai",
   "help": ""
  },
  {
   "name": "tn_m06",
   "description": "Température minimale (°C) - Juin",
   "help": ""
  },
  {
   "name": "tn_m07",
   "description": "Température minimale (°C) - Juillet",
   "help": ""
  },
  {
   "name": "tn_m08",
   "description": "Température minimale (°C) - Août",
   "help": ""
  },
  {
   "name": "tn_m09",
   "description": "Température minimale (°C) - Septembre",
   "help": ""
  },
  {
   "name": "tn_m10",
   "description": "Température minimale (°C) - Octobre",
   "help": ""
  },
  {
   "name": "tn_m11",
   "description": "Température minimale (°C) - Novembre",
   "help": ""
  },
  {
   "name": "tn_m12",
   "description": "Température minimale (°C) - Décembre",
   "help": ""
  },
  {
   "name": "trop_gs",
   "description": "Nombre de jours présentant une température quotidienne minimale supérieure à 20 °C - Saison de croissance (1 avril à 31 octobre)",
   "help": ""
  },
  {
   "name": "tx_m01",
   "description": "Température maximale (°C) - Janvier",
   "help": ""
  },
  {
   "name": "tx_m02",
   "description": "Température maximale (°C) - Février",
   "help": ""
  },
  {
   "name": "tx_m03",
   "description": "Température maximale (°C) - Mars",
   "help": ""
  },
  {
   "name": "tx_m04",
   "description": "Température maximale (°C) - Avril",
   "help": ""
  },
  {
   "name": "tx_m05",
   "description": "Température maximale (°C) - Mai",
   "help": ""
  },
  {
   "name": "tx_m06",
   "description": "Température maximale (°C) - Juin",
   "help": ""
  },
  {
   "name": "tx_m07",
   "description": "Température maximale (°C) - Juillet",
   "help": ""
  },
  {
   "name": "tx_m08",
   "description": "Température maximale (°C) - Août",
   "help": ""
  },
  {
   "name": "tx_m09",
   "description": "Température maximale (°C) - Septembre",
   "help": ""
  },
  {
   "name": "tx_m10",
   "description": "Température maximale (°C) - Octobre",
   "help": ""
  },
  {
   "name": "tx_m11",
   "description": "Température maximale (°C) - novembre ",
   "help": ""
  },
  {
   "name": "tx_m12",
   "description": "Température maximale (°C) - Décembre",
   "help": ""
  }
 ],
 "rasterTypeInfos": [
  {
   "name": "Raster Dataset",
   "description": "Supports all ArcGIS Raster Datasets",
   "help": ""
  }
 ],
 "mensurationCapabilities": "Basic",
 "hasHistograms": false,
 "hasColormap": false,
 "hasRasterAttributeTable": false,
 "minScale": 0,
 "maxScale": 0,
 "exportTilesAllowed": false,
 "supportsStatistics": true,
 "supportsAdvancedQueries": true,
 "editFieldsInfo": null,
 "ownershipBasedAccessControlForRasters": null,
 "allowComputeTiePoints": false,
 "useStandardizedQueries": true,
 "advancedQueryCapabilities": {
  "useStandardizedQueries": true,
  "supportsStatistics": true,
  "supportsOrderBy": true,
  "supportsDistinct": true,
  "supportsPagination": true
 },
 "spatialReference": {
  "wkid": 102100,
  "latestWkid": 3857
 }
}
