View In:
ArcGIS JavaScript
ArcGIS Online Map Viewer
ArcGIS Earth
Service Description: En 2009, l'équipe d'observation de la Terre de la Direction générale des sciences et de la technologie (DGST) d'Agriculture et Agroalimentaire Canada (AAC) a entrepris un processus visant à produire des cartes numériques de l'inventaire annuel des cultures à l'aide d'images satellitaires. Portant principalement sur les provinces des Prairies, une méthodologie par arbre de décision a été utilisée à l'aide de l'imagerie satellite optique (AWiFS, Landsat-5) et radar (RADARSAT2), avec une résolution spatiale finale de 56 m. Des méthodes ont également été mises au point pour améliorer la classification optique à l'aide de l'imagerie RADARSAT-2, en vue de résoudre des problèmes liés à la couverture nuageuse. En même temps que les acquisitions par satellite, des données de réalité de terrain ont été fournies par des sociétés d'assurance-récolte provinciales, tandis que des observations ponctuelles provenaient de nos collègues d'AAC des régions. Le processus global pour la réalisation de la Carte de l'inventaire des cultures comprend les étapes suivantes : acquisition de données par satellite; acquisition de données sur le terrain en vue du processus d'entraînement à la classification et de l'évaluation de l'exactitude; mise en œuvre opérationnelle de la méthode de classification. La méthodologie initiale a été élaborée en partenariat avec la Direction générale de la recherche d'AAC, et soutenue en partie par l'Agence spatiale canadienne. L'objectif à long terme consistait à étendre cette initiative, à partir de l'expérience dans les Prairies, et de produire un inventaire annuel des cultures pour tout le territoire agricole du Canada. Pour plus d'information, consulter : https://ouvert.canada.ca/data/fr/dataset/ce7873ff-fbc0-4864-946e-6a1b4d739154
Name: inventaire_annuel_des_cultures/2009
Description: En 2009, l'équipe d'observation de la Terre de la Direction générale des sciences et de la technologie (DGST) d'Agriculture et Agroalimentaire Canada (AAC) a entrepris un processus visant à produire des cartes numériques de l'inventaire annuel des cultures à l'aide d'images satellitaires. Portant principalement sur les provinces des Prairies, une méthodologie par arbre de décision a été utilisée à l'aide de l'imagerie satellite optique (AWiFS, Landsat-5) et radar (RADARSAT2), avec une résolution spatiale finale de 56 m. Des méthodes ont également été mises au point pour améliorer la classification optique à l'aide de l'imagerie RADARSAT-2, en vue de résoudre des problèmes liés à la couverture nuageuse. En même temps que les acquisitions par satellite, des données de réalité de terrain ont été fournies par des sociétés d'assurance-récolte provinciales, tandis que des observations ponctuelles provenaient de nos collègues d'AAC des régions. Le processus global pour la réalisation de la Carte de l'inventaire des cultures comprend les étapes suivantes : acquisition de données par satellite; acquisition de données sur le terrain en vue du processus d'entraînement à la classification et de l'évaluation de l'exactitude; mise en œuvre opérationnelle de la méthode de classification. La méthodologie initiale a été élaborée en partenariat avec la Direction générale de la recherche d'AAC, et soutenue en partie par l'Agence spatiale canadienne. L'objectif à long terme consistait à étendre cette initiative, à partir de l'expérience dans les Prairies, et de produire un inventaire annuel des cultures pour tout le territoire agricole du Canada. Pour plus d'information, consulter : https://ouvert.canada.ca/data/fr/dataset/ce7873ff-fbc0-4864-946e-6a1b4d739154
Single Fused Map Cache: false
Extent:
XMin: -1.3623780251699999E7
YMin: 6095823.9570999965
XMax: -1.0577996251699999E7
YMax: 8364663.9570999965
Spatial Reference: 102100
(3857)
LatestVCSWkid(0)
Initial Extent:
XMin: -1.3623780251699999E7
YMin: 6095823.9570999965
XMax: -1.0577996251699999E7
YMax: 8364663.9570999965
Spatial Reference: 102100
(3857)
LatestVCSWkid(0)
Full Extent:
XMin: -1.3623780251699999E7
YMin: 6095823.9570999965
XMax: -1.0577996251699999E7
YMax: 8364663.9570999965
Spatial Reference: 102100
(3857)
LatestVCSWkid(0)
Pixel Size X: 56.0
Pixel Size Y: 56.0
Band Count: 1
Pixel Type: U8
RasterFunction Infos: {"rasterFunctionInfos": [
{
"name": "inventaire_annuel_des_cultures",
"description": "Inventaire annuel des cultures combiné Remap and Attribute Table raster functions",
"help": ""
},
{
"name": "inventaire_annuel_des_cultures_simplifie",
"description": "Inventaire annuel des cultures simplifié Remap and Attribute Table raster functions",
"help": ""
},
{
"name": "inventaire_annuel_des_cultures_plus_simplifie",
"description": "Inventaire annuel des cultures plus simplifié Remap and Attribute Table raster functions",
"help": ""
},
{
"name": "inventaire_annuel_des_cultures_le_plus_simplifie",
"description": "Inventaire annuel des cultures le plus simplifié Remap and Attribute Table raster functions",
"help": ""
},
{
"name": "None",
"description": "Make a Raster or Raster Dataset into a Function Raster Dataset.",
"help": ""
}
]}
Mensuration Capabilities: Basic
Has Histograms: true
Has Colormap: false
Has Multi Dimensions : false
Rendering Rule:
Min Scale: 0
Max Scale: 0
Copyright Text: Agriculture et Agroalimentaire Canada
Service Data Type: esriImageServiceDataTypeThematic
Min Values: 0
Max Values: 230
Mean Values: 149.80387930217947
Standard Deviation Values: 64.47470415817702
Object ID Field: OBJECTID
Fields:
-
OBJECTID
(
type: esriFieldTypeOID, alias: OBJECTID
)
-
Shape
(
type: esriFieldTypeGeometry, alias: Shape
)
-
Name
(
type: esriFieldTypeString, alias: Name, length: 200
)
-
MinPS
(
type: esriFieldTypeDouble, alias: MinPS
)
-
MaxPS
(
type: esriFieldTypeDouble, alias: MaxPS
)
-
LowPS
(
type: esriFieldTypeDouble, alias: LowPS
)
-
HighPS
(
type: esriFieldTypeDouble, alias: HighPS
)
-
Category
(
type: esriFieldTypeInteger, alias: Category
, Coded Values:
[0: Unknown]
, [1: Primary]
, [2: Overview]
, ...6 more...
)
-
Tag
(
type: esriFieldTypeString, alias: Tag, length: 100
)
-
GroupName
(
type: esriFieldTypeString, alias: GroupName, length: 100
)
-
ProductName
(
type: esriFieldTypeString, alias: ProductName, length: 100
)
-
CenterX
(
type: esriFieldTypeDouble, alias: CenterX
)
-
CenterY
(
type: esriFieldTypeDouble, alias: CenterY
)
-
ZOrder
(
type: esriFieldTypeInteger, alias: ZOrder
)
-
Shape_Length
(
type: esriFieldTypeDouble, alias: Shape_Length
)
-
Shape_Area
(
type: esriFieldTypeDouble, alias: Shape_Area
)
Default Mosaic Method: Center
Allowed Mosaic Methods: Center,None,NorthWest,LockRaster,ByAttribute,Nadir,Viewpoint,Seamline
SortField:
SortValue: null
Mosaic Operator: First
Default Compression Quality: 75
Default Resampling Method: Nearest
Max Record Count: 1000
Max Image Height: 70000
Max Image Width: 70000
Max Download Image Count: 20
Max Mosaic Image Count: 20
Allow Raster Function: true
Allow Copy: true
Allow Analysis: true
Allow Compute TiePoints: false
Supports Statistics: true
Supports Advanced Queries: true
Use StandardizedQueries: true
Raster Type Infos:
Name: Raster Dataset
Description: Supports all ArcGIS Raster Datasets
Help:
Has Raster Attribute Table: false
Edit Fields Info: null
Ownership Based AccessControl For Rasters: null
Child Resources:
Info
Histograms
Statistics
Key Properties
Legend
Raster Function Infos
Supported Operations:
Export Image
Query
Identify
Measure
Compute Histograms
Compute Statistics Histograms
Get Samples
Compute Class Statistics
Query Boundary
Compute Pixel Location
Compute Angles
Validate
Project