{
 "currentVersion": 11.1,
 "serviceDescription": "En 2009, l'équipe d'observation de la Terre de la Direction générale des sciences et de la technologie (DGST) d'Agriculture et Agroalimentaire Canada (AAC) a entrepris un processus visant à produire des cartes numériques de l'inventaire annuel des cultures à l'aide d'images satellitaires. Portant principalement sur les provinces des Prairies, une méthodologie par arbre de décision a été utilisée à l'aide de l'imagerie satellite optique (AWiFS, Landsat-5) et radar (RADARSAT­2), avec une résolution spatiale finale de 56 m. Des méthodes ont également été mises au point pour améliorer la classification optique à l'aide de l'imagerie RADARSAT-2, en vue de résoudre des problèmes liés à la couverture nuageuse. En même temps que les acquisitions par satellite, des données de réalité de terrain ont été fournies par des sociétés d'assurance-récolte provinciales, tandis que des observations ponctuelles provenaient de nos collègues d'AAC des régions. Le processus global pour la réalisation de la Carte de l'inventaire des cultures comprend les étapes suivantes : acquisition de données par satellite; acquisition de données sur le terrain en vue du processus d'entraînement à la classification et de l'évaluation de l'exactitude; mise en œuvre opérationnelle de la méthode de classification. La méthodologie initiale a été élaborée en partenariat avec la Direction générale de la recherche d'AAC, et soutenue en partie par l'Agence spatiale canadienne. L'objectif à long terme consistait à étendre cette initiative, à partir de l'expérience dans les Prairies, et de produire un inventaire annuel des cultures pour tout le territoire agricole du Canada. Pour plus d'information, consulter : https://ouvert.canada.ca/data/fr/dataset/ce7873ff-fbc0-4864-946e-6a1b4d739154",
 "name": "inventaire_annuel_des_cultures/2009",
 "description": "En 2009, l'équipe d'observation de la Terre de la Direction générale des sciences et de la technologie (DGST) d'Agriculture et Agroalimentaire Canada (AAC) a entrepris un processus visant à produire des cartes numériques de l'inventaire annuel des cultures à l'aide d'images satellitaires. Portant principalement sur les provinces des Prairies, une méthodologie par arbre de décision a été utilisée à l'aide de l'imagerie satellite optique (AWiFS, Landsat-5) et radar (RADARSAT­2), avec une résolution spatiale finale de 56 m. Des méthodes ont également été mises au point pour améliorer la classification optique à l'aide de l'imagerie RADARSAT-2, en vue de résoudre des problèmes liés à la couverture nuageuse. En même temps que les acquisitions par satellite, des données de réalité de terrain ont été fournies par des sociétés d'assurance-récolte provinciales, tandis que des observations ponctuelles provenaient de nos collègues d'AAC des régions. Le processus global pour la réalisation de la Carte de l'inventaire des cultures comprend les étapes suivantes : acquisition de données par satellite; acquisition de données sur le terrain en vue du processus d'entraînement à la classification et de l'évaluation de l'exactitude; mise en œuvre opérationnelle de la méthode de classification. La méthodologie initiale a été élaborée en partenariat avec la Direction générale de la recherche d'AAC, et soutenue en partie par l'Agence spatiale canadienne. L'objectif à long terme consistait à étendre cette initiative, à partir de l'expérience dans les Prairies, et de produire un inventaire annuel des cultures pour tout le territoire agricole du Canada. Pour plus d'information, consulter : https://ouvert.canada.ca/data/fr/dataset/ce7873ff-fbc0-4864-946e-6a1b4d739154",
 "extent": {
  "xmin": -1.3623780251699999E7,
  "ymin": 6095823.9570999965,
  "xmax": -1.0577996251699999E7,
  "ymax": 8364663.9570999965,
  "spatialReference": {
   "wkid": 102100,
   "latestWkid": 3857
  }
 },
 "initialExtent": {
  "xmin": -1.3623780251699999E7,
  "ymin": 6095823.9570999965,
  "xmax": -1.0577996251699999E7,
  "ymax": 8364663.9570999965,
  "spatialReference": {
   "wkid": 102100,
   "latestWkid": 3857
  }
 },
 "fullExtent": {
  "xmin": -1.3623780251699999E7,
  "ymin": 6095823.9570999965,
  "xmax": -1.0577996251699999E7,
  "ymax": 8364663.9570999965,
  "spatialReference": {
   "wkid": 102100,
   "latestWkid": 3857
  }
 },
 "sortableFields": "MinPS,MaxPS,LowPS,HighPS,CenterX,CenterY,ZOrder,Shape_Length,Shape_Area",
 "bandCount": 1,
 "pixelType": "U8",
 "minValues": [
  0
 ],
 "maxValues": [
  230
 ],
 "meanValues": [
  149.80387930217947
 ],
 "stdvValues": [
  64.47470415817702
 ],
 "hasMultidimensions": false,
 "pixelSizeX": 56,
 "pixelSizeY": 56,
 "datasetFormat": "AMD",
 "uncompressedSize": 2203570335,
 "blockWidth": 2048,
 "blockHeight": 256,
 "compressionType": "None",
 "bandNames": [
  "Band_1"
 ],
 "allowCopy": true,
 "allowAnalysis": true,
 "itemAccess": false,
 "minPixelSize": 0,
 "maxPixelSize": 0,
 "copyrightText": "Agriculture et Agroalimentaire Canada",
 "serviceDataType": "esriImageServiceDataTypeThematic",
 "serviceSourceType": "esriImageServiceSourceTypeMosaicDataset",
 "objectIdField": "OBJECTID",
 "fields": [
  {
   "name": "OBJECTID",
   "type": "esriFieldTypeOID",
   "alias": "OBJECTID",
   "domain": null
  },
  {
   "name": "Shape",
   "type": "esriFieldTypeGeometry",
   "alias": "Shape",
   "domain": null
  },
  {
   "name": "Name",
   "type": "esriFieldTypeString",
   "alias": "Name",
   "domain": null,
   "length": 200
  },
  {
   "name": "MinPS",
   "type": "esriFieldTypeDouble",
   "alias": "MinPS",
   "domain": null
  },
  {
   "name": "MaxPS",
   "type": "esriFieldTypeDouble",
   "alias": "MaxPS",
   "domain": null
  },
  {
   "name": "LowPS",
   "type": "esriFieldTypeDouble",
   "alias": "LowPS",
   "domain": null
  },
  {
   "name": "HighPS",
   "type": "esriFieldTypeDouble",
   "alias": "HighPS",
   "domain": null
  },
  {
   "name": "Category",
   "type": "esriFieldTypeInteger",
   "alias": "Category",
   "domain": {
    "type": "codedValue",
    "name": "MosaicCatalogItemCategoryDomain",
    "description": "Catalog item categories.",
    "codedValues": [
     {
      "name": "Unknown",
      "code": 0
     },
     {
      "name": "Primary",
      "code": 1
     },
     {
      "name": "Overview",
      "code": 2
     },
     {
      "name": "Unprocessed Overview",
      "code": 3
     },
     {
      "name": "Partial Overview",
      "code": 4
     },
     {
      "name": "Inactive",
      "code": 5
     },
     {
      "name": "Uploaded",
      "code": 253
     },
     {
      "name": "Incomplete",
      "code": 254
     },
     {
      "name": "Custom",
      "code": 255
     }
    ],
    "mergePolicy": "esriMPTDefaultValue",
    "splitPolicy": "esriSPTDefaultValue"
   }
  },
  {
   "name": "Tag",
   "type": "esriFieldTypeString",
   "alias": "Tag",
   "domain": null,
   "length": 100
  },
  {
   "name": "GroupName",
   "type": "esriFieldTypeString",
   "alias": "GroupName",
   "domain": null,
   "length": 100
  },
  {
   "name": "ProductName",
   "type": "esriFieldTypeString",
   "alias": "ProductName",
   "domain": null,
   "length": 100
  },
  {
   "name": "CenterX",
   "type": "esriFieldTypeDouble",
   "alias": "CenterX",
   "domain": null
  },
  {
   "name": "CenterY",
   "type": "esriFieldTypeDouble",
   "alias": "CenterY",
   "domain": null
  },
  {
   "name": "ZOrder",
   "type": "esriFieldTypeInteger",
   "alias": "ZOrder",
   "domain": null
  },
  {
   "name": "Shape_Length",
   "type": "esriFieldTypeDouble",
   "alias": "Shape_Length",
   "domain": null
  },
  {
   "name": "Shape_Area",
   "type": "esriFieldTypeDouble",
   "alias": "Shape_Area",
   "domain": null
  }
 ],
 "capabilities": "Image,Metadata,Catalog,Mensuration",
 "defaultMosaicMethod": "Center",
 "allowedMosaicMethods": "Center,None,NorthWest,LockRaster,ByAttribute,Nadir,Viewpoint,Seamline",
 "sortField": "",
 "sortValue": null,
 "sortAscending": true,
 "mosaicOperator": "First",
 "maxDownloadSizeLimit": 2048,
 "defaultCompressionQuality": 75,
 "defaultResamplingMethod": "Nearest",
 "maxImageHeight": 70000,
 "maxImageWidth": 70000,
 "maxRecordCount": 1000,
 "maxDownloadImageCount": 20,
 "maxMosaicImageCount": 20,
 "allowRasterFunction": true,
 "rasterFunctionInfos": [
  {
   "name": "inventaire_annuel_des_cultures",
   "description": "Inventaire annuel des cultures combiné Remap and Attribute Table raster functions",
   "help": ""
  },
  {
   "name": "inventaire_annuel_des_cultures_simplifie",
   "description": "Inventaire annuel des cultures simplifié Remap and Attribute Table raster functions",
   "help": ""
  },
  {
   "name": "inventaire_annuel_des_cultures_plus_simplifie",
   "description": "Inventaire annuel des cultures plus simplifié Remap and Attribute Table raster functions",
   "help": ""
  },
  {
   "name": "inventaire_annuel_des_cultures_le_plus_simplifie",
   "description": "Inventaire annuel des cultures le plus simplifié Remap and Attribute Table raster functions",
   "help": ""
  },
  {
   "name": "None",
   "description": "Make a Raster or Raster Dataset into a Function Raster Dataset.",
   "help": ""
  }
 ],
 "rasterTypeInfos": [
  {
   "name": "Raster Dataset",
   "description": "Supports all ArcGIS Raster Datasets",
   "help": ""
  }
 ],
 "mensurationCapabilities": "Basic",
 "hasHistograms": true,
 "hasColormap": false,
 "hasRasterAttributeTable": false,
 "minScale": 0,
 "maxScale": 0,
 "exportTilesAllowed": false,
 "supportsStatistics": true,
 "supportsAdvancedQueries": true,
 "editFieldsInfo": null,
 "ownershipBasedAccessControlForRasters": null,
 "allowComputeTiePoints": false,
 "useStandardizedQueries": true,
 "advancedQueryCapabilities": {
  "useStandardizedQueries": true,
  "supportsStatistics": true,
  "supportsOrderBy": true,
  "supportsDistinct": true,
  "supportsPagination": true
 },
 "spatialReference": {
  "wkid": 102100,
  "latestWkid": 3857
 }
}
