View In:
ArcGIS JavaScript
ArcGIS Online Map Viewer
ArcGIS Earth
Service Description: Derived normal climate data represent 30-year averages (1961-1990, 1971-2000, 1981-2010, 1991-2020) of climate conditions observed at a particular location. The derived normal climate data represents 30-year averages or 'normals' for precipitation, temperature, growing degree days, crop heat units, frost, dry spells, and potential evapotranspiration. These normal trends are key to understanding agroclimate risks in Canada. These normals can be used as a baseline to compare against current conditions, and are particularly useful for monitoring drought risk. For more information, visit: https://open.canada.ca/data/en/dataset/3a060b8f-e662-4a60-b297-3bed859ffc8a
Name: climate_normals
Description: Derived normal climate data represent 30-year averages (1961-1990, 1971-2000, 1981-2010, 1991-2020) of climate conditions observed at a particular location. The derived normal climate data represents 30-year averages or 'normals' for precipitation, temperature, growing degree days, crop heat units, frost, dry spells, and potential evapotranspiration. These normal trends are key to understanding agroclimate risks in Canada. These normals can be used as a baseline to compare against current conditions, and are particularly useful for monitoring drought risk. For more information, visit: https://open.canada.ca/data/en/dataset/3a060b8f-e662-4a60-b297-3bed859ffc8a
Single Fused Map Cache: false
Extent:
XMin: -1.57133747907E7
YMin: 5005292.8807
XMax: -5783374.7907
YMax: 1.83152928807E7
Spatial Reference: 102100
(3857)
LatestVCSWkid(0)
Initial Extent:
XMin: -1.57133747907E7
YMin: 5005292.8807
XMax: -5783374.7907
YMax: 1.83152928807E7
Spatial Reference: 102100
(3857)
LatestVCSWkid(0)
Full Extent:
XMin: -1.57133747907E7
YMin: 5005292.8807
XMax: -5783374.7907
YMax: 1.83152928807E7
Spatial Reference: 102100
(3857)
LatestVCSWkid(0)
Pixel Size X: 5000.0
Pixel Size Y: 5000.0
Band Count: 1
Pixel Type: F32
RasterFunction Infos: {"rasterFunctionInfos": [
{
"name": "None",
"description": "Make a Raster or Raster Dataset into a Function Raster Dataset.",
"help": ""
},
{
"name": "ac_cy",
"description": "Precipitation accumulation (mm) - Calendar year",
"help": ""
},
{
"name": "ac_gs",
"description": "Precipitation accumulation (mm) - Growing season (April 1 to October 31)",
"help": ""
},
{
"name": "ac_mo",
"description": "Precipitation accumulation (mm) - Calendar month",
"help": ""
},
{
"name": "ac_wi",
"description": "Precipitation accumulation (mm) - Winter season (November 1 to March 31)",
"help": ""
},
{
"name": "chu_gs",
"description": "Crop heat unit - Growing season (April 1 to October 31)",
"help": ""
},
{
"name": "chu_mo",
"description": "Crop heat unit - Calendar month",
"help": ""
},
{
"name": "cold_cy",
"description": "Number of days with temperature below -30°C - Calendar year",
"help": ""
},
{
"name": "dd_cy",
"description": "Dry day count - Calendar year",
"help": ""
},
{
"name": "dd_gs",
"description": "Dry day count - Growing season (April 1 to October 31)",
"help": ""
},
{
"name": "dd_mo",
"description": "Dry day count - Calendar month",
"help": ""
},
{
"name": "fd-2_gs",
"description": "Frost day count (-2°C) - Growing season (April 1 to October 31)",
"help": ""
},
{
"name": "fd-2_mo",
"description": "Frost day count (-2°C) - Calendar month",
"help": ""
},
{
"name": "fd-4_gs",
"description": "Frost day count (-4°C) - Growing season (April 1 to October 31)",
"help": ""
},
{
"name": "fd-4_mo",
"description": "Frost day count (-4°C) - Calendar month",
"help": ""
},
{
"name": "fd0_gs",
"description": "Frost day count (0°C) - Growing season (April 1 to October 31)",
"help": ""
},
{
"name": "fd0_mo",
"description": "Frost day count (0°C) - Calendar month",
"help": ""
},
{
"name": "fff-2_gs",
"description": "First fall frost (-2°C) - Growing season (April 1 to October 31)",
"help": ""
},
{
"name": "fff-4_gs",
"description": "First fall frost (-4°C) - Growing season (April 1 to October 31)",
"help": ""
},
{
"name": "fff0_gs",
"description": "First fall frost (0°C) - Growing season (April 1 to October 31)",
"help": ""
},
{
"name": "ffp-2_gs",
"description": "Frost free period (-2°C) - Growing season (April 1 to October 31)",
"help": ""
},
{
"name": "ffp-4_gs",
"description": "Frost free period (-4°C) - Growing season (April 1 to October 31)",
"help": ""
},
{
"name": "ffp0_gs",
"description": "Frost free period (0°C) - Growing season (April 1 to October 31)",
"help": ""
},
{
"name": "gdd00_gs",
"description": "Growing degree days, Base 0 - Growing season (April 1 to October 31)",
"help": ""
},
{
"name": "gdd00_mo",
"description": "Growing degree days, Base 0 - Calendar month",
"help": ""
},
{
"name": "gdd05_gs",
"description": "Growing degree days, Base 5 - Growing season (April 1 to October 31)",
"help": ""
},
{
"name": "gdd05_mo",
"description": "Growing degree days, Base 5 - Calendar month",
"help": ""
},
{
"name": "gdd10_gs",
"description": "Growing degree days, Base 10 - Growing season (April 1 to October 31)",
"help": ""
},
{
"name": "gdd10_mo",
"description": "Growing degree days, Base 10 - Calendar month",
"help": ""
},
{
"name": "gdd15_gs",
"description": "Growing degree days, Base 15 - Growing season (April 1 to October 31)",
"help": ""
},
{
"name": "gdd15_mo",
"description": "Growing degree days, Base 15 - Calendar month",
"help": ""
},
{
"name": "hd25_gs",
"description": "Number of days with temperature above 25°C - Growing season (April 1 to October 31)",
"help": ""
},
{
"name": "hd25_mo",
"description": "Number of days with temperature above 25°C - Calendar month",
"help": ""
},
{
"name": "hd30_gs",
"description": "Number of days with temperature above 30°C - Growing season (April 1 to October 31)",
"help": ""
},
{
"name": "hd30_mo",
"description": "Number of days with temperature above 30°C - Calendar month",
"help": ""
},
{
"name": "hd32_gs",
"description": "Number of days with temperature above 32°C - Growing season (April 1 to October 31)",
"help": ""
},
{
"name": "hd32_mo",
"description": "Number of days with temperature above 32°C - Calendar month",
"help": ""
},
{
"name": "lsf-2_gs",
"description": "Last spring frost (-2°C) - Growing season (April 1 to October 31)",
"help": ""
},
{
"name": "lsf-4_gs",
"description": "Last spring frost (-4°C) - Growing season (April 1 to October 31)",
"help": ""
},
{
"name": "lsf0_gs",
"description": "Last spring frost (0°C) - Growing season (April 1 to October 31)",
"help": ""
},
{
"name": "pet_cy",
"description": "Potential evapotranspiraton (mm) - Calendar year",
"help": ""
},
{
"name": "pet_gs",
"description": "Potential evapotranspiraton (mm) - Growing season (April 1 to October 31)",
"help": ""
},
{
"name": "pet_mo",
"description": "Potential evapotranspiraton (mm) - Calendar month",
"help": ""
},
{
"name": "ta_m01",
"description": "Mean temperature (°C) - January",
"help": ""
},
{
"name": "ta_m02",
"description": "Mean temperature (°C) - February",
"help": ""
},
{
"name": "ta_m03",
"description": "Mean temperature (°C) - March",
"help": ""
},
{
"name": "ta_m04",
"description": "Mean temperature (°C) - April",
"help": ""
},
{
"name": "ta_m05",
"description": "Mean temperature (°C) - May",
"help": ""
},
{
"name": "ta_m06",
"description": "Mean temperature (°C) - June",
"help": ""
},
{
"name": "ta_m07",
"description": "Mean temperature (°C) - July",
"help": ""
},
{
"name": "ta_m08",
"description": "Mean temperature (°C) - August",
"help": ""
},
{
"name": "ta_m09",
"description": "Mean temperature (°C) - September",
"help": ""
},
{
"name": "ta_m10",
"description": "Mean temperature (°C) - October",
"help": ""
},
{
"name": "ta_m11",
"description": "Mean temperature (°C) - November",
"help": ""
},
{
"name": "ta_m12",
"description": "Mean temperature (°C) - December",
"help": ""
},
{
"name": "tn_m01",
"description": "Minimum temperature (°C) - January",
"help": ""
},
{
"name": "tn_m02",
"description": "Minimum temperature (°C) - February",
"help": ""
},
{
"name": "tn_m03",
"description": "Minimum temperature (°C) - March",
"help": ""
},
{
"name": "tn_m04",
"description": "Minimum temperature (°C) - April",
"help": ""
},
{
"name": "tn_m05",
"description": "Minimum temperature (°C) - May",
"help": ""
},
{
"name": "tn_m06",
"description": "Minimum temperature (°C) - June",
"help": ""
},
{
"name": "tn_m07",
"description": "Minimum temperature (°C) - July",
"help": ""
},
{
"name": "tn_m08",
"description": "Minimum temperature (°C) - August",
"help": ""
},
{
"name": "tn_m09",
"description": "Minimum temperature (°C) - September",
"help": ""
},
{
"name": "tn_m10",
"description": "Minimum temperature (°C) - October",
"help": ""
},
{
"name": "tn_m11",
"description": "Minimum temperature (°C) - November",
"help": ""
},
{
"name": "tn_m12",
"description": "Minimum temperature (°C) - December",
"help": ""
},
{
"name": "trop_gs",
"description": "Number of days with minimum daily temperature above 20°C - Growing season (April 1 to October 31)",
"help": ""
},
{
"name": "tx_m01",
"description": "Maximum temperature (°C) - January",
"help": ""
},
{
"name": "tx_m02",
"description": "Maximum temperature (°C) - February",
"help": ""
},
{
"name": "tx_m03",
"description": "Maximum temperature (°C) - March",
"help": ""
},
{
"name": "tx_m04",
"description": "Maximum temperature (°C) - April",
"help": ""
},
{
"name": "tx_m05",
"description": "Maximum temperature (°C) - May",
"help": ""
},
{
"name": "tx_m06",
"description": "Maximum temperature (°C) - June",
"help": ""
},
{
"name": "tx_m07",
"description": "Maximum temperature (°C) - July",
"help": ""
},
{
"name": "tx_m08",
"description": "Maximum temperature (°C) - August",
"help": ""
},
{
"name": "tx_m09",
"description": "Maximum temperature (°C) - September",
"help": ""
},
{
"name": "tx_m10",
"description": "Maximum temperature (°C) - October",
"help": ""
},
{
"name": "tx_m11",
"description": "Maximum temperature (°C) - November",
"help": ""
},
{
"name": "tx_m12",
"description": "Maximum temperature (°C) - December",
"help": ""
}
]}
Mensuration Capabilities: Basic
Has Histograms: false
Has Colormap: false
Has Multi Dimensions : false
Rendering Rule:
Min Scale: 0
Max Scale: 0
Copyright Text: Agriculture and Agri-Food Canada
Service Data Type: esriImageServiceDataTypeGeneric
Min Values: N/A
Max Values: N/A
Mean Values: N/A
Standard Deviation Values: N/A
Object ID Field: OBJECTID
Fields:
-
OBJECTID
(
type: esriFieldTypeOID, alias: OBJECTID
)
-
Shape
(
type: esriFieldTypeGeometry, alias: Shape
)
-
Name
(
type: esriFieldTypeString, alias: Name, length: 200
)
-
MinPS
(
type: esriFieldTypeDouble, alias: MinPS
)
-
MaxPS
(
type: esriFieldTypeDouble, alias: MaxPS
)
-
LowPS
(
type: esriFieldTypeDouble, alias: LowPS
)
-
HighPS
(
type: esriFieldTypeDouble, alias: HighPS
)
-
Category
(
type: esriFieldTypeInteger, alias: Category
, Coded Values:
[0: Unknown]
, [1: Primary]
, [2: Overview]
, ...6 more...
)
-
Tag
(
type: esriFieldTypeString, alias: Tag, length: 100
)
-
GroupName
(
type: esriFieldTypeString, alias: GroupName, length: 100
)
-
ProductName
(
type: esriFieldTypeString, alias: ProductName, length: 100
)
-
CenterX
(
type: esriFieldTypeDouble, alias: CenterX
)
-
CenterY
(
type: esriFieldTypeDouble, alias: CenterY
)
-
ZOrder
(
type: esriFieldTypeInteger, alias: ZOrder
)
-
Shape_Length
(
type: esriFieldTypeDouble, alias: Shape_Length
)
-
Shape_Area
(
type: esriFieldTypeDouble, alias: Shape_Area
)
-
dateEnd
(
type: esriFieldTypeDate, alias: dateEnd, length: 8
)
-
tType
(
type: esriFieldTypeString, alias: tType, length: 30
)
-
dateStart
(
type: esriFieldTypeDate, alias: dateStart, length: 8
)
-
tYears
(
type: esriFieldTypeString, alias: tYears, length: 9
)
Default Mosaic Method: ByAttribute
Allowed Mosaic Methods: ByAttribute,None,LockRaster
SortField: ZOrder
SortValue: 0
Mosaic Operator: First
Default Compression Quality: 75
Default Resampling Method: Bilinear
Max Record Count: 1000
Max Image Height: 4100
Max Image Width: 15000
Max Download Image Count: 20
Max Mosaic Image Count: 1
Allow Raster Function: true
Allow Copy: true
Allow Analysis: true
Allow Compute TiePoints: false
Supports Statistics: true
Supports Advanced Queries: true
Use StandardizedQueries: true
Raster Type Infos:
Name: Raster Dataset
Description: Supports all ArcGIS Raster Datasets
Help:
Has Raster Attribute Table: false
Edit Fields Info: null
Ownership Based AccessControl For Rasters: null
Child Resources:
Info
Statistics
Key Properties
Legend
Raster Function Infos
Supported Operations:
Export Image
Query
Identify
Measure
Compute Histograms
Compute Statistics Histograms
Get Samples
Compute Class Statistics
Query Boundary
Compute Pixel Location
Compute Angles
Validate
Project