{
 "currentVersion": 11.1,
 "serviceDescription": "Derived normal climate data represent 30-year averages (1961-1990, 1971-2000, 1981-2010, 1991-2020) of climate conditions observed at a particular location. The derived normal climate data represents 30-year averages or 'normals' for precipitation, temperature, growing degree days, crop heat units, frost, dry spells, and potential evapotranspiration. These normal trends are key to understanding agroclimate risks in Canada. These normals can be used as a baseline to compare against current conditions, and are particularly useful for monitoring drought risk. For more information, visit: https://open.canada.ca/data/en/dataset/3a060b8f-e662-4a60-b297-3bed859ffc8a",
 "name": "climate_normals",
 "description": "Derived normal climate data represent 30-year averages (1961-1990, 1971-2000, 1981-2010, 1991-2020) of climate conditions observed at a particular location. The derived normal climate data represents 30-year averages or 'normals' for precipitation, temperature, growing degree days, crop heat units, frost, dry spells, and potential evapotranspiration. These normal trends are key to understanding agroclimate risks in Canada. These normals can be used as a baseline to compare against current conditions, and are particularly useful for monitoring drought risk. For more information, visit: https://open.canada.ca/data/en/dataset/3a060b8f-e662-4a60-b297-3bed859ffc8a",
 "extent": {
  "xmin": -1.57133747907E7,
  "ymin": 5005292.8807,
  "xmax": -5783374.7907,
  "ymax": 1.83152928807E7,
  "spatialReference": {
   "wkid": 102100,
   "latestWkid": 3857
  }
 },
 "initialExtent": {
  "xmin": -1.57133747907E7,
  "ymin": 5005292.8807,
  "xmax": -5783374.7907,
  "ymax": 1.83152928807E7,
  "spatialReference": {
   "wkid": 102100,
   "latestWkid": 3857
  }
 },
 "fullExtent": {
  "xmin": -1.57133747907E7,
  "ymin": 5005292.8807,
  "xmax": -5783374.7907,
  "ymax": 1.83152928807E7,
  "spatialReference": {
   "wkid": 102100,
   "latestWkid": 3857
  }
 },
 "sortableFields": "MinPS,MaxPS,LowPS,HighPS,CenterX,CenterY,ZOrder,Shape_Length,Shape_Area,dateEnd,dateStart",
 "bandCount": 1,
 "pixelType": "F32",
 "minValues": [],
 "maxValues": [],
 "meanValues": [],
 "stdvValues": [],
 "hasMultidimensions": false,
 "pixelSizeX": 5000,
 "pixelSizeY": 5000,
 "datasetFormat": "AMD",
 "uncompressedSize": 21146928,
 "blockWidth": 2048,
 "blockHeight": 256,
 "compressionType": "None",
 "bandNames": [
  "Band_1"
 ],
 "allowCopy": true,
 "allowAnalysis": true,
 "itemAccess": false,
 "minPixelSize": 0,
 "maxPixelSize": 0,
 "copyrightText": "Agriculture and Agri-Food Canada",
 "serviceDataType": "esriImageServiceDataTypeGeneric",
 "serviceSourceType": "esriImageServiceSourceTypeMosaicDataset",
 "objectIdField": "OBJECTID",
 "fields": [
  {
   "name": "OBJECTID",
   "type": "esriFieldTypeOID",
   "alias": "OBJECTID",
   "domain": null
  },
  {
   "name": "Shape",
   "type": "esriFieldTypeGeometry",
   "alias": "Shape",
   "domain": null
  },
  {
   "name": "Name",
   "type": "esriFieldTypeString",
   "alias": "Name",
   "domain": null,
   "length": 200
  },
  {
   "name": "MinPS",
   "type": "esriFieldTypeDouble",
   "alias": "MinPS",
   "domain": null
  },
  {
   "name": "MaxPS",
   "type": "esriFieldTypeDouble",
   "alias": "MaxPS",
   "domain": null
  },
  {
   "name": "LowPS",
   "type": "esriFieldTypeDouble",
   "alias": "LowPS",
   "domain": null
  },
  {
   "name": "HighPS",
   "type": "esriFieldTypeDouble",
   "alias": "HighPS",
   "domain": null
  },
  {
   "name": "Category",
   "type": "esriFieldTypeInteger",
   "alias": "Category",
   "domain": {
    "type": "codedValue",
    "name": "MosaicCatalogItemCategoryDomain",
    "description": "Catalog item categories.",
    "codedValues": [
     {
      "name": "Unknown",
      "code": 0
     },
     {
      "name": "Primary",
      "code": 1
     },
     {
      "name": "Overview",
      "code": 2
     },
     {
      "name": "Unprocessed Overview",
      "code": 3
     },
     {
      "name": "Partial Overview",
      "code": 4
     },
     {
      "name": "Inactive",
      "code": 5
     },
     {
      "name": "Uploaded",
      "code": 253
     },
     {
      "name": "Incomplete",
      "code": 254
     },
     {
      "name": "Custom",
      "code": 255
     }
    ],
    "mergePolicy": "esriMPTDefaultValue",
    "splitPolicy": "esriSPTDefaultValue"
   }
  },
  {
   "name": "Tag",
   "type": "esriFieldTypeString",
   "alias": "Tag",
   "domain": null,
   "length": 100
  },
  {
   "name": "GroupName",
   "type": "esriFieldTypeString",
   "alias": "GroupName",
   "domain": null,
   "length": 100
  },
  {
   "name": "ProductName",
   "type": "esriFieldTypeString",
   "alias": "ProductName",
   "domain": null,
   "length": 100
  },
  {
   "name": "CenterX",
   "type": "esriFieldTypeDouble",
   "alias": "CenterX",
   "domain": null
  },
  {
   "name": "CenterY",
   "type": "esriFieldTypeDouble",
   "alias": "CenterY",
   "domain": null
  },
  {
   "name": "ZOrder",
   "type": "esriFieldTypeInteger",
   "alias": "ZOrder",
   "domain": null
  },
  {
   "name": "Shape_Length",
   "type": "esriFieldTypeDouble",
   "alias": "Shape_Length",
   "domain": null
  },
  {
   "name": "Shape_Area",
   "type": "esriFieldTypeDouble",
   "alias": "Shape_Area",
   "domain": null
  },
  {
   "name": "dateEnd",
   "type": "esriFieldTypeDate",
   "alias": "dateEnd",
   "domain": null,
   "length": 8
  },
  {
   "name": "tType",
   "type": "esriFieldTypeString",
   "alias": "tType",
   "domain": null,
   "length": 30
  },
  {
   "name": "dateStart",
   "type": "esriFieldTypeDate",
   "alias": "dateStart",
   "domain": null,
   "length": 8
  },
  {
   "name": "tYears",
   "type": "esriFieldTypeString",
   "alias": "tYears",
   "domain": null,
   "length": 9
  }
 ],
 "capabilities": "Image,Metadata,Catalog,Mensuration",
 "defaultMosaicMethod": "ByAttribute",
 "allowedMosaicMethods": "ByAttribute,None,LockRaster",
 "sortField": "ZOrder",
 "sortValue": "0",
 "sortAscending": true,
 "mosaicOperator": "First",
 "maxDownloadSizeLimit": 2048,
 "defaultCompressionQuality": 75,
 "defaultResamplingMethod": "Bilinear",
 "maxImageHeight": 4100,
 "maxImageWidth": 15000,
 "maxRecordCount": 1000,
 "maxDownloadImageCount": 20,
 "maxMosaicImageCount": 1,
 "allowRasterFunction": true,
 "rasterFunctionInfos": [
  {
   "name": "None",
   "description": "Make a Raster or Raster Dataset into a Function Raster Dataset.",
   "help": ""
  },
  {
   "name": "ac_cy",
   "description": "Precipitation accumulation (mm) - Calendar year",
   "help": ""
  },
  {
   "name": "ac_gs",
   "description": "Precipitation accumulation (mm) - Growing season (April 1 to October 31)",
   "help": ""
  },
  {
   "name": "ac_mo",
   "description": "Precipitation accumulation (mm) - Calendar month",
   "help": ""
  },
  {
   "name": "ac_wi",
   "description": "Precipitation accumulation (mm) - Winter season (November 1 to March 31)",
   "help": ""
  },
  {
   "name": "chu_gs",
   "description": "Crop heat unit - Growing season (April 1 to October 31)",
   "help": ""
  },
  {
   "name": "chu_mo",
   "description": "Crop heat unit - Calendar month",
   "help": ""
  },
  {
   "name": "cold_cy",
   "description": "Number of days with temperature below -30°C - Calendar year",
   "help": ""
  },
  {
   "name": "dd_cy",
   "description": "Dry day count - Calendar year",
   "help": ""
  },
  {
   "name": "dd_gs",
   "description": "Dry day count - Growing season (April 1 to October 31)",
   "help": ""
  },
  {
   "name": "dd_mo",
   "description": "Dry day count - Calendar month",
   "help": ""
  },
  {
   "name": "fd-2_gs",
   "description": "Frost day count (-2°C) - Growing season (April 1 to October 31)",
   "help": ""
  },
  {
   "name": "fd-2_mo",
   "description": "Frost day count (-2°C) - Calendar month",
   "help": ""
  },
  {
   "name": "fd-4_gs",
   "description": "Frost day count (-4°C) - Growing season (April 1 to October 31)",
   "help": ""
  },
  {
   "name": "fd-4_mo",
   "description": "Frost day count (-4°C) - Calendar month",
   "help": ""
  },
  {
   "name": "fd0_gs",
   "description": "Frost day count (0°C) - Growing season (April 1 to October 31)",
   "help": ""
  },
  {
   "name": "fd0_mo",
   "description": "Frost day count (0°C) - Calendar month",
   "help": ""
  },
  {
   "name": "fff-2_gs",
   "description": "First fall frost (-2°C) - Growing season (April 1 to October 31)",
   "help": ""
  },
  {
   "name": "fff-4_gs",
   "description": "First fall frost (-4°C) - Growing season (April 1 to October 31)",
   "help": ""
  },
  {
   "name": "fff0_gs",
   "description": "First fall frost (0°C) - Growing season (April 1 to October 31)",
   "help": ""
  },
  {
   "name": "ffp-2_gs",
   "description": "Frost free period (-2°C) - Growing season (April 1 to October 31)",
   "help": ""
  },
  {
   "name": "ffp-4_gs",
   "description": "Frost free period (-4°C) - Growing season (April 1 to October 31)",
   "help": ""
  },
  {
   "name": "ffp0_gs",
   "description": "Frost free period (0°C) - Growing season (April 1 to October 31)",
   "help": ""
  },
  {
   "name": "gdd00_gs",
   "description": "Growing degree days, Base 0 - Growing season (April 1 to October 31)",
   "help": ""
  },
  {
   "name": "gdd00_mo",
   "description": "Growing degree days, Base 0 - Calendar month",
   "help": ""
  },
  {
   "name": "gdd05_gs",
   "description": "Growing degree days, Base 5 - Growing season (April 1 to October 31)",
   "help": ""
  },
  {
   "name": "gdd05_mo",
   "description": "Growing degree days, Base 5 - Calendar month",
   "help": ""
  },
  {
   "name": "gdd10_gs",
   "description": "Growing degree days, Base 10 - Growing season (April 1 to October 31)",
   "help": ""
  },
  {
   "name": "gdd10_mo",
   "description": "Growing degree days, Base 10 - Calendar month",
   "help": ""
  },
  {
   "name": "gdd15_gs",
   "description": "Growing degree days, Base 15 - Growing season (April 1 to October 31)",
   "help": ""
  },
  {
   "name": "gdd15_mo",
   "description": "Growing degree days, Base 15 - Calendar month",
   "help": ""
  },
  {
   "name": "hd25_gs",
   "description": "Number of days with temperature above 25°C - Growing season (April 1 to October 31)",
   "help": ""
  },
  {
   "name": "hd25_mo",
   "description": "Number of days with temperature above 25°C - Calendar month",
   "help": ""
  },
  {
   "name": "hd30_gs",
   "description": "Number of days with temperature above 30°C - Growing season (April 1 to October 31)",
   "help": ""
  },
  {
   "name": "hd30_mo",
   "description": "Number of days with temperature above 30°C - Calendar month",
   "help": ""
  },
  {
   "name": "hd32_gs",
   "description": "Number of days with temperature above 32°C - Growing season (April 1 to October 31)",
   "help": ""
  },
  {
   "name": "hd32_mo",
   "description": "Number of days with temperature above 32°C - Calendar month",
   "help": ""
  },
  {
   "name": "lsf-2_gs",
   "description": "Last spring frost (-2°C) - Growing season (April 1 to October 31)",
   "help": ""
  },
  {
   "name": "lsf-4_gs",
   "description": "Last spring frost (-4°C) - Growing season (April 1 to October 31)",
   "help": ""
  },
  {
   "name": "lsf0_gs",
   "description": "Last spring frost (0°C) - Growing season (April 1 to October 31)",
   "help": ""
  },
  {
   "name": "pet_cy",
   "description": "Potential evapotranspiraton (mm) - Calendar year",
   "help": ""
  },
  {
   "name": "pet_gs",
   "description": "Potential evapotranspiraton (mm) - Growing season (April 1 to October 31)",
   "help": ""
  },
  {
   "name": "pet_mo",
   "description": "Potential evapotranspiraton (mm) - Calendar month",
   "help": ""
  },
  {
   "name": "ta_m01",
   "description": "Mean temperature (°C) - January",
   "help": ""
  },
  {
   "name": "ta_m02",
   "description": "Mean temperature (°C) - February",
   "help": ""
  },
  {
   "name": "ta_m03",
   "description": "Mean temperature (°C) - March",
   "help": ""
  },
  {
   "name": "ta_m04",
   "description": "Mean temperature (°C) - April",
   "help": ""
  },
  {
   "name": "ta_m05",
   "description": "Mean temperature (°C) - May",
   "help": ""
  },
  {
   "name": "ta_m06",
   "description": "Mean temperature (°C) - June",
   "help": ""
  },
  {
   "name": "ta_m07",
   "description": "Mean temperature (°C) - July",
   "help": ""
  },
  {
   "name": "ta_m08",
   "description": "Mean temperature (°C) - August",
   "help": ""
  },
  {
   "name": "ta_m09",
   "description": "Mean temperature (°C) - September",
   "help": ""
  },
  {
   "name": "ta_m10",
   "description": "Mean temperature (°C) - October",
   "help": ""
  },
  {
   "name": "ta_m11",
   "description": "Mean temperature (°C) - November",
   "help": ""
  },
  {
   "name": "ta_m12",
   "description": "Mean temperature (°C) - December",
   "help": ""
  },
  {
   "name": "tn_m01",
   "description": "Minimum temperature (°C) - January",
   "help": ""
  },
  {
   "name": "tn_m02",
   "description": "Minimum temperature (°C) - February",
   "help": ""
  },
  {
   "name": "tn_m03",
   "description": "Minimum temperature (°C) - March",
   "help": ""
  },
  {
   "name": "tn_m04",
   "description": "Minimum temperature (°C) - April",
   "help": ""
  },
  {
   "name": "tn_m05",
   "description": "Minimum temperature (°C) - May",
   "help": ""
  },
  {
   "name": "tn_m06",
   "description": "Minimum temperature (°C) - June",
   "help": ""
  },
  {
   "name": "tn_m07",
   "description": "Minimum temperature (°C) - July",
   "help": ""
  },
  {
   "name": "tn_m08",
   "description": "Minimum temperature (°C) - August",
   "help": ""
  },
  {
   "name": "tn_m09",
   "description": "Minimum temperature (°C) - September",
   "help": ""
  },
  {
   "name": "tn_m10",
   "description": "Minimum temperature (°C) - October",
   "help": ""
  },
  {
   "name": "tn_m11",
   "description": "Minimum temperature (°C) - November",
   "help": ""
  },
  {
   "name": "tn_m12",
   "description": "Minimum temperature (°C) - December",
   "help": ""
  },
  {
   "name": "trop_gs",
   "description": "Number of days with minimum daily temperature above 20°C - Growing season (April 1 to October 31)",
   "help": ""
  },
  {
   "name": "tx_m01",
   "description": "Maximum temperature (°C) - January",
   "help": ""
  },
  {
   "name": "tx_m02",
   "description": "Maximum temperature (°C) - February",
   "help": ""
  },
  {
   "name": "tx_m03",
   "description": "Maximum temperature (°C) - March",
   "help": ""
  },
  {
   "name": "tx_m04",
   "description": "Maximum temperature (°C) - April",
   "help": ""
  },
  {
   "name": "tx_m05",
   "description": "Maximum temperature (°C) - May",
   "help": ""
  },
  {
   "name": "tx_m06",
   "description": "Maximum temperature (°C) - June",
   "help": ""
  },
  {
   "name": "tx_m07",
   "description": "Maximum temperature (°C) - July",
   "help": ""
  },
  {
   "name": "tx_m08",
   "description": "Maximum temperature (°C) - August",
   "help": ""
  },
  {
   "name": "tx_m09",
   "description": "Maximum temperature (°C) - September",
   "help": ""
  },
  {
   "name": "tx_m10",
   "description": "Maximum temperature (°C) - October",
   "help": ""
  },
  {
   "name": "tx_m11",
   "description": "Maximum temperature (°C) - November",
   "help": ""
  },
  {
   "name": "tx_m12",
   "description": "Maximum temperature (°C) - December",
   "help": ""
  }
 ],
 "rasterTypeInfos": [
  {
   "name": "Raster Dataset",
   "description": "Supports all ArcGIS Raster Datasets",
   "help": ""
  }
 ],
 "mensurationCapabilities": "Basic",
 "hasHistograms": false,
 "hasColormap": false,
 "hasRasterAttributeTable": false,
 "minScale": 0,
 "maxScale": 0,
 "exportTilesAllowed": false,
 "supportsStatistics": true,
 "supportsAdvancedQueries": true,
 "editFieldsInfo": null,
 "ownershipBasedAccessControlForRasters": null,
 "allowComputeTiePoints": false,
 "useStandardizedQueries": true,
 "advancedQueryCapabilities": {
  "useStandardizedQueries": true,
  "supportsStatistics": true,
  "supportsOrderBy": true,
  "supportsDistinct": true,
  "supportsPagination": true
 },
 "spatialReference": {
  "wkid": 102100,
  "latestWkid": 3857
 }
}
