View In:
ArcGIS JavaScript
ArcGIS Online Map Viewer
ArcGIS Earth
Service Description: Le modèle adaptatif du bilan hydrique des sols (MABH) est continu et déterministe et a été élaborépar AAC. Ilrepose sur la prémisse que l'eau disponible pour la croissance des plantes est obtenue par les précipitations ou l'irrigation, et perdue par évapotranspiration et ruissellement, ainsi que par drainage latéral et profond. La perte ou le gain net quotidien est ajoutéou soustrait de l'eau déjà présente dans la zone d'enracinement. L'eau est prélevée simultanément, mais àdes vitesses et des profondeurs de sol différentes, selon l'évapotranspiration potentielle, le stade de développement des cultures, les caractéristiques de libération d'eau de chaque couche de sol et l'eau disponible. Pour plus d'information, consulter : https://ouvert.canada.ca/data/fr/dataset/fac11dba-a837-4607-97d2-b74fecdbb869 (Modèle adaptatif du bilan hydrique des sols), https://ouvert.canada.ca/data/fr/dataset/efe9606f-df8b-47a1-a5a1-6933992885a7 (Humidité totale du sol (mm)), https://ouvert.canada.ca/data/fr/dataset/ee7e9a50-f1cb-4cc0-87ad-6f0cc5227756 (Pourcentage d'humidité normale du sol), https://ouvert.canada.ca/data/fr/dataset/c62d2fa0-d3bc-4686-9e21-e1fbc6c56950 (Écart par rapport à l'humidité normale du sol (mm))
Name: agclimat/modele_adaptatif_du_bilan_hydrique_des_sols
Description: Le modèle adaptatif du bilan hydrique des sols (MABH) est continu et déterministe et a été élaborépar AAC. Ilrepose sur la prémisse que l'eau disponible pour la croissance des plantes est obtenue par les précipitations ou l'irrigation, et perdue par évapotranspiration et ruissellement, ainsi que par drainage latéral et profond. La perte ou le gain net quotidien est ajoutéou soustrait de l'eau déjà présente dans la zone d'enracinement. L'eau est prélevée simultanément, mais àdes vitesses et des profondeurs de sol différentes, selon l'évapotranspiration potentielle, le stade de développement des cultures, les caractéristiques de libération d'eau de chaque couche de sol et l'eau disponible. Pour plus d'information, consulter : https://ouvert.canada.ca/data/fr/dataset/fac11dba-a837-4607-97d2-b74fecdbb869 (Modèle adaptatif du bilan hydrique des sols), https://ouvert.canada.ca/data/fr/dataset/efe9606f-df8b-47a1-a5a1-6933992885a7 (Humidité totale du sol (mm)), https://ouvert.canada.ca/data/fr/dataset/ee7e9a50-f1cb-4cc0-87ad-6f0cc5227756 (Pourcentage d'humidité normale du sol), https://ouvert.canada.ca/data/fr/dataset/c62d2fa0-d3bc-4686-9e21-e1fbc6c56950 (Écart par rapport à l'humidité normale du sol (mm))
Single Fused Map Cache: false
Extent:
XMin: -1.51688760665E7
YMin: 4170368.102300003
XMax: -5808876.066500001
YMax: 8815368.102300003
Spatial Reference: 102100
(3857)
LatestVCSWkid(0)
Initial Extent:
XMin: -1.51688760665E7
YMin: 4170368.102300003
XMax: -5808876.066500001
YMax: 8815368.102300003
Spatial Reference: 102100
(3857)
LatestVCSWkid(0)
Full Extent:
XMin: -1.51688760665E7
YMin: 4170368.102300003
XMax: -5808876.066500001
YMax: 8815368.102300003
Spatial Reference: 102100
(3857)
LatestVCSWkid(0)
Time Info:
Start Time Field: dateEnd
End Time Field: dateEnd
Time Extent:
[2018/12/31 12:00:00 UTC, 2026/09/14 12:00:00 UTC]
Time Reference:
N/A
Pixel Size X: 5000.0
Pixel Size Y: 5000.0
Band Count: 1
Pixel Type: F32
RasterFunction Infos: {"rasterFunctionInfos": [
{
"name": "tsm",
"description": "Humidité totale du sol (mm)",
"help": ""
},
{
"name": "dnm",
"description": "Écart par rapport à l'humidité normale du sol (mm)",
"help": ""
},
{
"name": "pnm",
"description": "Pourcentage d'humidité normale du sol (%)",
"help": ""
},
{
"name": "None",
"description": "",
"help": ""
}
]}
Mensuration Capabilities: Basic
Has Histograms: false
Has Colormap: false
Has Multi Dimensions : false
Rendering Rule:
Min Scale: 0
Max Scale: 0
Copyright Text: Agriculture et Agroalimentaire Canada
Service Data Type: esriImageServiceDataTypeGeneric
Min Values: N/A
Max Values: N/A
Mean Values: N/A
Standard Deviation Values: N/A
Object ID Field: OBJECTID
Fields:
-
OBJECTID
(
type: esriFieldTypeOID, alias: OBJECTID
)
-
Shape
(
type: esriFieldTypeGeometry, alias: Shape
)
-
Name
(
type: esriFieldTypeString, alias: Name, length: 200
)
-
MinPS
(
type: esriFieldTypeDouble, alias: MinPS
)
-
MaxPS
(
type: esriFieldTypeDouble, alias: MaxPS
)
-
LowPS
(
type: esriFieldTypeDouble, alias: LowPS
)
-
HighPS
(
type: esriFieldTypeDouble, alias: HighPS
)
-
Category
(
type: esriFieldTypeInteger, alias: Category
, Coded Values:
[0: Unknown]
, [1: Primary]
, [2: Overview]
, ...6 more...
)
-
Tag
(
type: esriFieldTypeString, alias: Tag, length: 100
)
-
GroupName
(
type: esriFieldTypeString, alias: GroupName, length: 100
)
-
ProductName
(
type: esriFieldTypeString, alias: ProductName, length: 100
)
-
CenterX
(
type: esriFieldTypeDouble, alias: CenterX
)
-
CenterY
(
type: esriFieldTypeDouble, alias: CenterY
)
-
ZOrder
(
type: esriFieldTypeInteger, alias: ZOrder
)
-
Shape_Length
(
type: esriFieldTypeDouble, alias: Shape_Length
)
-
Shape_Area
(
type: esriFieldTypeDouble, alias: Shape_Area
)
-
dateEnd
(
type: esriFieldTypeDate, alias: dateEnd, length: 8
)
-
tType
(
type: esriFieldTypeString, alias: tType, length: 30
)
Default Mosaic Method: ByAttribute
Allowed Mosaic Methods: ByAttribute,None,LockRaster
SortField: dateEnd
SortValue: 3000
Mosaic Operator: First
Default Compression Quality: 75
Default Resampling Method: Bilinear
Max Record Count: 1000
Max Image Height: 4100
Max Image Width: 15000
Max Download Image Count: 20
Max Mosaic Image Count: 1
Allow Raster Function: true
Allow Copy: true
Allow Analysis: true
Allow Compute TiePoints: false
Supports Statistics: true
Supports Advanced Queries: true
Use StandardizedQueries: true
Raster Type Infos:
Name: Raster Dataset
Description: Supports all ArcGIS Raster Datasets
Help:
Has Raster Attribute Table: false
Edit Fields Info: null
Ownership Based AccessControl For Rasters: null
Child Resources:
Info
Statistics
Key Properties
Legend
Raster Function Infos
Supported Operations:
Export Image
Query
Identify
Measure
Compute Histograms
Compute Statistics Histograms
Get Samples
Compute Class Statistics
Query Boundary
Compute Pixel Location
Compute Angles
Validate
Project