{
 "currentVersion": 11.1,
 "serviceDescription": "Le modèle adaptatif du bilan hydrique des sols (MABH) est continu et déterministe et a été élaborépar AAC. Ilrepose sur la prémisse que l'eau disponible pour la croissance des plantes est obtenue par les précipitations ou l'irrigation, et perdue par évapotranspiration et ruissellement, ainsi que par drainage latéral et profond. La perte ou le gain net quotidien est ajoutéou soustrait de l'eau déjà présente dans la zone d'enracinement. L'eau est prélevée simultanément, mais àdes vitesses et des profondeurs de sol différentes, selon l'évapotranspiration potentielle, le stade de développement des cultures, les caractéristiques de libération d'eau de chaque couche de sol et l'eau disponible. Pour plus d'information, consulter : https://ouvert.canada.ca/data/fr/dataset/fac11dba-a837-4607-97d2-b74fecdbb869 (Modèle adaptatif du bilan hydrique des sols), https://ouvert.canada.ca/data/fr/dataset/efe9606f-df8b-47a1-a5a1-6933992885a7 (Humidité totale du sol (mm)), https://ouvert.canada.ca/data/fr/dataset/ee7e9a50-f1cb-4cc0-87ad-6f0cc5227756 (Pourcentage d'humidité normale du sol), https://ouvert.canada.ca/data/fr/dataset/c62d2fa0-d3bc-4686-9e21-e1fbc6c56950 (Écart par rapport à l'humidité normale du sol (mm))",
 "name": "agclimat/modele_adaptatif_du_bilan_hydrique_des_sols",
 "description": "Le modèle adaptatif du bilan hydrique des sols (MABH) est continu et déterministe et a été élaborépar AAC. Ilrepose sur la prémisse que l'eau disponible pour la croissance des plantes est obtenue par les précipitations ou l'irrigation, et perdue par évapotranspiration et ruissellement, ainsi que par drainage latéral et profond. La perte ou le gain net quotidien est ajoutéou soustrait de l'eau déjà présente dans la zone d'enracinement. L'eau est prélevée simultanément, mais àdes vitesses et des profondeurs de sol différentes, selon l'évapotranspiration potentielle, le stade de développement des cultures, les caractéristiques de libération d'eau de chaque couche de sol et l'eau disponible. Pour plus d'information, consulter : https://ouvert.canada.ca/data/fr/dataset/fac11dba-a837-4607-97d2-b74fecdbb869 (Modèle adaptatif du bilan hydrique des sols), https://ouvert.canada.ca/data/fr/dataset/efe9606f-df8b-47a1-a5a1-6933992885a7 (Humidité totale du sol (mm)), https://ouvert.canada.ca/data/fr/dataset/ee7e9a50-f1cb-4cc0-87ad-6f0cc5227756 (Pourcentage d'humidité normale du sol), https://ouvert.canada.ca/data/fr/dataset/c62d2fa0-d3bc-4686-9e21-e1fbc6c56950 (Écart par rapport à l'humidité normale du sol (mm))",
 "extent": {
  "xmin": -1.51688760665E7,
  "ymin": 4170368.102300003,
  "xmax": -5808876.066500001,
  "ymax": 8815368.102300003,
  "spatialReference": {
   "wkid": 102100,
   "latestWkid": 3857
  }
 },
 "initialExtent": {
  "xmin": -1.51688760665E7,
  "ymin": 4170368.102300003,
  "xmax": -5808876.066500001,
  "ymax": 8815368.102300003,
  "spatialReference": {
   "wkid": 102100,
   "latestWkid": 3857
  }
 },
 "fullExtent": {
  "xmin": -1.51688760665E7,
  "ymin": 4170368.102300003,
  "xmax": -5808876.066500001,
  "ymax": 8815368.102300003,
  "spatialReference": {
   "wkid": 102100,
   "latestWkid": 3857
  }
 },
 "sortableFields": "MinPS,MaxPS,LowPS,HighPS,CenterX,CenterY,ZOrder,Shape_Length,Shape_Area,dateEnd",
 "bandCount": 1,
 "pixelType": "F32",
 "minValues": [],
 "maxValues": [],
 "meanValues": [],
 "stdvValues": [],
 "hasMultidimensions": false,
 "timeInfo": {
  "startTimeField": "dateEnd",
  "endTimeField": "dateEnd",
  "timeExtent": [
   1546257600000,
   1786968000000
  ],
  "timeReference": null
 },
 "pixelSizeX": 5000,
 "pixelSizeY": 5000,
 "datasetFormat": "AMD",
 "uncompressedSize": 6956352,
 "blockWidth": 2048,
 "blockHeight": 256,
 "compressionType": "None",
 "bandNames": [
  "Band_1"
 ],
 "allowCopy": true,
 "allowAnalysis": true,
 "itemAccess": false,
 "minPixelSize": 0,
 "maxPixelSize": 0,
 "copyrightText": "Agriculture et Agroalimentaire Canada",
 "serviceDataType": "esriImageServiceDataTypeGeneric",
 "serviceSourceType": "esriImageServiceSourceTypeMosaicDataset",
 "objectIdField": "OBJECTID",
 "fields": [
  {
   "name": "OBJECTID",
   "type": "esriFieldTypeOID",
   "alias": "OBJECTID",
   "domain": null
  },
  {
   "name": "Shape",
   "type": "esriFieldTypeGeometry",
   "alias": "Shape",
   "domain": null
  },
  {
   "name": "Name",
   "type": "esriFieldTypeString",
   "alias": "Name",
   "domain": null,
   "length": 200
  },
  {
   "name": "MinPS",
   "type": "esriFieldTypeDouble",
   "alias": "MinPS",
   "domain": null
  },
  {
   "name": "MaxPS",
   "type": "esriFieldTypeDouble",
   "alias": "MaxPS",
   "domain": null
  },
  {
   "name": "LowPS",
   "type": "esriFieldTypeDouble",
   "alias": "LowPS",
   "domain": null
  },
  {
   "name": "HighPS",
   "type": "esriFieldTypeDouble",
   "alias": "HighPS",
   "domain": null
  },
  {
   "name": "Category",
   "type": "esriFieldTypeInteger",
   "alias": "Category",
   "domain": {
    "type": "codedValue",
    "name": "MosaicCatalogItemCategoryDomain",
    "description": "Catalog item categories.",
    "codedValues": [
     {
      "name": "Unknown",
      "code": 0
     },
     {
      "name": "Primary",
      "code": 1
     },
     {
      "name": "Overview",
      "code": 2
     },
     {
      "name": "Unprocessed Overview",
      "code": 3
     },
     {
      "name": "Partial Overview",
      "code": 4
     },
     {
      "name": "Inactive",
      "code": 5
     },
     {
      "name": "Uploaded",
      "code": 253
     },
     {
      "name": "Incomplete",
      "code": 254
     },
     {
      "name": "Custom",
      "code": 255
     }
    ],
    "mergePolicy": "esriMPTDefaultValue",
    "splitPolicy": "esriSPTDefaultValue"
   }
  },
  {
   "name": "Tag",
   "type": "esriFieldTypeString",
   "alias": "Tag",
   "domain": null,
   "length": 100
  },
  {
   "name": "GroupName",
   "type": "esriFieldTypeString",
   "alias": "GroupName",
   "domain": null,
   "length": 100
  },
  {
   "name": "ProductName",
   "type": "esriFieldTypeString",
   "alias": "ProductName",
   "domain": null,
   "length": 100
  },
  {
   "name": "CenterX",
   "type": "esriFieldTypeDouble",
   "alias": "CenterX",
   "domain": null
  },
  {
   "name": "CenterY",
   "type": "esriFieldTypeDouble",
   "alias": "CenterY",
   "domain": null
  },
  {
   "name": "ZOrder",
   "type": "esriFieldTypeInteger",
   "alias": "ZOrder",
   "domain": null
  },
  {
   "name": "Shape_Length",
   "type": "esriFieldTypeDouble",
   "alias": "Shape_Length",
   "domain": null
  },
  {
   "name": "Shape_Area",
   "type": "esriFieldTypeDouble",
   "alias": "Shape_Area",
   "domain": null
  },
  {
   "name": "dateEnd",
   "type": "esriFieldTypeDate",
   "alias": "dateEnd",
   "domain": null,
   "length": 8
  },
  {
   "name": "tType",
   "type": "esriFieldTypeString",
   "alias": "tType",
   "domain": null,
   "length": 30
  }
 ],
 "capabilities": "Image,Metadata,Catalog,Mensuration",
 "defaultMosaicMethod": "ByAttribute",
 "allowedMosaicMethods": "ByAttribute,None,LockRaster",
 "sortField": "dateEnd",
 "sortValue": "3000",
 "sortAscending": true,
 "mosaicOperator": "First",
 "maxDownloadSizeLimit": 2048,
 "defaultCompressionQuality": 75,
 "defaultResamplingMethod": "Bilinear",
 "maxImageHeight": 4100,
 "maxImageWidth": 15000,
 "maxRecordCount": 1000,
 "maxDownloadImageCount": 20,
 "maxMosaicImageCount": 1,
 "allowRasterFunction": true,
 "rasterFunctionInfos": [
  {
   "name": "tsm",
   "description": "Humidité totale du sol (mm)",
   "help": ""
  },
  {
   "name": "dnm",
   "description": "Écart par rapport à l'humidité normale du sol (mm)",
   "help": ""
  },
  {
   "name": "pnm",
   "description": "Pourcentage d'humidité normale du sol (%)",
   "help": ""
  },
  {
   "name": "None",
   "description": "",
   "help": ""
  }
 ],
 "rasterTypeInfos": [
  {
   "name": "Raster Dataset",
   "description": "Supports all ArcGIS Raster Datasets",
   "help": ""
  }
 ],
 "mensurationCapabilities": "Basic",
 "hasHistograms": false,
 "hasColormap": false,
 "hasRasterAttributeTable": false,
 "minScale": 0,
 "maxScale": 0,
 "exportTilesAllowed": false,
 "supportsStatistics": true,
 "supportsAdvancedQueries": true,
 "editFieldsInfo": null,
 "ownershipBasedAccessControlForRasters": null,
 "allowComputeTiePoints": false,
 "useStandardizedQueries": true,
 "advancedQueryCapabilities": {
  "useStandardizedQueries": true,
  "supportsStatistics": true,
  "supportsOrderBy": true,
  "supportsDistinct": true,
  "supportsPagination": true
 },
 "spatialReference": {
  "wkid": 102100,
  "latestWkid": 3857
 }
}
