View In:
ArcGIS JavaScript
ArcGIS Online Map Viewer
ArcGIS Earth
Service Description: Predicted Soil Great Group class as defined by the The Canadian System of Soil Classification (third edition). The Canadian Soil Information Service has developed a detailed dataset of Canada's soils and associated properties using advanced machine learning techniques. The Soil Landscape Grids of Canada is produced using a combination of historical and current data from both soil sampling and remote sensing. The machine learning model is trained using over 10,000 pedon locations from across Canada as well as 70 covariate datasets. This new dataset is pivotal in addressing the gaps left by legacy soil surveys and facilitates more comprehensive assessments nationwide. As new data becomes available and machine learning techniques advance, this information can be updated much faster than with traditional soil surveying methods. For more information, visit: https://open.canada.ca/data/en/dataset/4d39c9f9-a85c-4bf2-b920-138fdd423384
Name: soil_landscape_grids_100m/soil_great_group_taxonomy
Description: Predicted Soil Great Group class as defined by the The Canadian System of Soil Classification (third edition). The Canadian Soil Information Service has developed a detailed dataset of Canada's soils and associated properties using advanced machine learning techniques. The Soil Landscape Grids of Canada is produced using a combination of historical and current data from both soil sampling and remote sensing. The machine learning model is trained using over 10,000 pedon locations from across Canada as well as 70 covariate datasets. This new dataset is pivotal in addressing the gaps left by legacy soil surveys and facilitates more comprehensive assessments nationwide. As new data becomes available and machine learning techniques advance, this information can be updated much faster than with traditional soil surveying methods. For more information, visit: https://open.canada.ca/data/en/dataset/4d39c9f9-a85c-4bf2-b920-138fdd423384
Single Fused Map Cache: false
Extent:
XMin: -1.85274714175E7
YMin: 4937126.469600003
XMax: -2435531.4175000004
YMax: 1.8821246469600003E7
Spatial Reference: 102100
(3857)
LatestVCSWkid(0)
Initial Extent:
XMin: -1.85274714175E7
YMin: 4937126.469600003
XMax: -2435531.4175000004
YMax: 1.8821246469600003E7
Spatial Reference: 102100
(3857)
LatestVCSWkid(0)
Full Extent:
XMin: -1.85274714175E7
YMin: 4937126.469600003
XMax: -2435531.4175000004
YMax: 1.8821246469600003E7
Spatial Reference: 102100
(3857)
LatestVCSWkid(0)
Pixel Size X: 30.0
Pixel Size Y: 30.0
Band Count: 1
Pixel Type: S8
RasterFunction Infos: {"rasterFunctionInfos": [
{
"name": "soil_landscape_grids_of_canada_100m_great_group",
"description": "Soil great group classifications",
"help": ""
},
{
"name": "None",
"description": "",
"help": ""
}
]}
Mensuration Capabilities: None
Has Histograms: true
Has Colormap: false
Has Multi Dimensions : false
Rendering Rule:
Min Scale: 0
Max Scale: 0
Copyright Text: Agriculture and Agri-Food Canada
Service Data Type: esriImageServiceDataTypeThematic
Min Values: 0
Max Values: 30
Mean Values: 12.428854161256403
Standard Deviation Values: 6.25965075464129
Object ID Field: OBJECTID
Fields:
-
OBJECTID
(
type: esriFieldTypeOID, alias: OBJECTID
)
-
Shape
(
type: esriFieldTypeGeometry, alias: Shape
)
-
Name
(
type: esriFieldTypeString, alias: Name, length: 200
)
-
MinPS
(
type: esriFieldTypeDouble, alias: MinPS
)
-
MaxPS
(
type: esriFieldTypeDouble, alias: MaxPS
)
-
LowPS
(
type: esriFieldTypeDouble, alias: LowPS
)
-
HighPS
(
type: esriFieldTypeDouble, alias: HighPS
)
-
Category
(
type: esriFieldTypeInteger, alias: Category
, Coded Values:
[0: Unknown]
, [1: Primary]
, [2: Overview]
, ...6 more...
)
-
Tag
(
type: esriFieldTypeString, alias: Tag, length: 100
)
-
GroupName
(
type: esriFieldTypeString, alias: GroupName, length: 100
)
-
ProductName
(
type: esriFieldTypeString, alias: ProductName, length: 100
)
-
CenterX
(
type: esriFieldTypeDouble, alias: CenterX
)
-
CenterY
(
type: esriFieldTypeDouble, alias: CenterY
)
-
ZOrder
(
type: esriFieldTypeInteger, alias: ZOrder
)
-
Shape_Length
(
type: esriFieldTypeDouble, alias: Shape_Length
)
-
Shape_Area
(
type: esriFieldTypeDouble, alias: Shape_Area
)
Default Mosaic Method: Northwest
Allowed Mosaic Methods: NorthWest,None,Center,LockRaster,ByAttribute,Nadir,Viewpoint,Seamline
SortField:
SortValue: null
Mosaic Operator: First
Default Compression Quality: 75
Default Resampling Method: Nearest
Max Record Count: 1000
Max Image Height: 70000
Max Image Width: 70000
Max Download Image Count: 20
Max Mosaic Image Count: 20
Allow Raster Function: true
Allow Copy: true
Allow Analysis: true
Allow Compute TiePoints: false
Supports Statistics: true
Supports Advanced Queries: true
Use StandardizedQueries: true
Raster Type Infos:
Name: Raster Dataset
Description: Supports all ArcGIS Raster Datasets
Help:
Has Raster Attribute Table: false
Edit Fields Info: null
Ownership Based AccessControl For Rasters: null
Child Resources:
Info
Histograms
Statistics
Key Properties
Legend
Raster Function Infos
Supported Operations:
Export Image
Query
Identify
Compute Histograms
Compute Statistics Histograms
Get Samples
Compute Class Statistics
Query Boundary
Compute Pixel Location
Compute Angles
Validate
Project