View In:
ArcGIS JavaScript
ArcGIS Online Map Viewer
ArcGIS Earth
Service Description: Predicted sand percentage (%) at a defined depth range (0-5 cm, 5-15 cm, 15-30 cm, 30-60 cm, 60- 100 cm). The Canadian Soil Information Service has developed a detailed dataset of Canada's soils and associated properties using advanced machine learning techniques. The Soil Landscape Grids of Canada is produced using a combination of historical and current data from both soil sampling and remote sensing. The machine learning model is trained using over 10,000 pedon locations from across Canada as well as 70 covariate datasets. This new dataset is pivotal in addressing the gaps left by legacy soil surveys and facilitates more comprehensive assessments nationwide. As new data becomes available and machine learning techniques advance, this information can be updated much faster than with traditional soil surveying methods. For more information, visit: https://open.canada.ca/data/en/dataset/4d39c9f9-a85c-4bf2-b920-138fdd423384
Name: soil_landscape_grids_100m/sand
Description: Predicted sand percentage (%) at a defined depth range (0-5 cm, 5-15 cm, 15-30 cm, 30-60 cm, 60- 100 cm). The Canadian Soil Information Service has developed a detailed dataset of Canada's soils and associated properties using advanced machine learning techniques. The Soil Landscape Grids of Canada is produced using a combination of historical and current data from both soil sampling and remote sensing. The machine learning model is trained using over 10,000 pedon locations from across Canada as well as 70 covariate datasets. This new dataset is pivotal in addressing the gaps left by legacy soil surveys and facilitates more comprehensive assessments nationwide. As new data becomes available and machine learning techniques advance, this information can be updated much faster than with traditional soil surveying methods. For more information, visit: https://open.canada.ca/data/en/dataset/4d39c9f9-a85c-4bf2-b920-138fdd423384
Single Fused Map Cache: false
Extent:
XMin: -1.85274714175E7
YMin: 4937146.4695999995
XMax: -2435471.4175000004
YMax: 1.88212464696E7
Spatial Reference: 102100
(3857)
LatestVCSWkid(0)
Initial Extent:
XMin: -1.85274714175E7
YMin: 4937146.4695999995
XMax: -2435471.4175000004
YMax: 1.88212464696E7
Spatial Reference: 102100
(3857)
LatestVCSWkid(0)
Full Extent:
XMin: -1.85274714175E7
YMin: 4937146.4695999995
XMax: -2435471.4175000004
YMax: 1.88212464696E7
Spatial Reference: 102100
(3857)
LatestVCSWkid(0)
Pixel Size X: 100.0
Pixel Size Y: 100.0
Band Count: 1
Pixel Type: F32
RasterFunction Infos: {"rasterFunctionInfos": [{
"name": "None",
"description": "",
"help": ""
}]}
Mensuration Capabilities: Basic
Has Histograms: true
Has Colormap: false
Has Multi Dimensions : true
Rendering Rule:
Min Scale: 0
Max Scale: 0
Copyright Text: Agriculture and Agri-Food Canada
Service Data Type: esriImageServiceDataTypeScientific
Min Values: 0
Max Values: 100
Mean Values: 53.62267155252783
Standard Deviation Values: 17.53409866736073
Object ID Field:
Fields:
None
Default Mosaic Method: Center
Allowed Mosaic Methods:
SortField:
SortValue: null
Mosaic Operator: First
Default Compression Quality: 75
Default Resampling Method: Bilinear
Max Record Count: null
Max Image Height: 4100
Max Image Width: 15000
Max Download Image Count: null
Max Mosaic Image Count: null
Allow Raster Function: true
Allow Copy: true
Allow Analysis: true
Allow Compute TiePoints: false
Supports Statistics: false
Supports Advanced Queries: false
Use StandardizedQueries: true
Raster Type Infos:
Name: Raster Dataset
Description: Supports all ArcGIS Raster Datasets
Help:
Has Raster Attribute Table: false
Edit Fields Info: null
Ownership Based AccessControl For Rasters: null
Child Resources:
Info
Histograms
Statistics
Key Properties
Legend
Raster Function Infos
Multidimensional Info
Slices
Supported Operations:
Export Image
Identify
Measure
Compute Histograms
Compute Statistics Histograms
Get Samples
Compute Class Statistics
Query Boundary
Compute Pixel Location
Compute Angles
Validate
Project