View In:
ArcGIS JavaScript
ArcGIS Online Map Viewer
ArcGIS Earth
Service Description: L'indice normalisé précipitations moins évapotranspiration (INPE) est calculé à peu près de la même façon que l'INP. La principale différence est que l'INP évalue la variance des précipitations, tandis que l'INPE tient également compte de la demande de l'évapotranspiration, qui est soustraite de toute accumulation de précipitations avant l'évaluation. Contrairement à l'INP, l'INPE tient compte de la principale incidence de l'augmentation des températures sur la demande en eau. Les valeurs de l'INP indiquent le nombre d'écarts-types entre l'anomalie observée et la période d'enregistrement à long terme; les valeurs positives correspondent à des conditions plus humides que la moyenne. Les périodes calculées pour les centiles des précipitations (mensuel) sont de 1, 2, 3, 6, 9, 12, 18 et 24 mois. Chaque semaine ISO est numérotée de 1 à 52 (parfois 53) au cours d'une année. Une semaine ISO commence le lundi et se termine le dimanche. Les données historiques remontent à 1980. Les valeurs des indices ont été calculées à l'aide de l'ensemble xclim de Python. Les périodes peuvent être filtrées à l'aide du champ tType dans le service, où le suffixe « m » désigne une échelle de temps mensuelle et « w » une échelle de temps hebdomadaire. Pour plus d'information, consulter : https://ouvert.canada.ca/data/fr/dataset/9704ceb1-287e-42ed-a04d-39ca4154b99f
Name: sniad/indice_normalise_precipitations_moins_evapotranspiration
Description: L'indice normalisé précipitations moins évapotranspiration (INPE) est calculé à peu près de la même façon que l'INP. La principale différence est que l'INP évalue la variance des précipitations, tandis que l'INPE tient également compte de la demande de l'évapotranspiration, qui est soustraite de toute accumulation de précipitations avant l'évaluation. Contrairement à l'INP, l'INPE tient compte de la principale incidence de l'augmentation des températures sur la demande en eau. Les valeurs de l'INP indiquent le nombre d'écarts-types entre l'anomalie observée et la période d'enregistrement à long terme; les valeurs positives correspondent à des conditions plus humides que la moyenne. Les périodes calculées pour les centiles des précipitations (mensuel) sont de 1, 2, 3, 6, 9, 12, 18 et 24 mois. Chaque semaine ISO est numérotée de 1 à 52 (parfois 53) au cours d'une année. Une semaine ISO commence le lundi et se termine le dimanche. Les données historiques remontent à 1980. Les valeurs des indices ont été calculées à l'aide de l'ensemble xclim de Python. Les périodes peuvent être filtrées à l'aide du champ tType dans le service, où le suffixe « m » désigne une échelle de temps mensuelle et « w » une échelle de temps hebdomadaire. Pour plus d'information, consulter : https://ouvert.canada.ca/data/fr/dataset/9704ceb1-287e-42ed-a04d-39ca4154b99f
Single Fused Map Cache: false
Extent:
XMin: -2.0037507842788246E7
YMin: 1942475.858145211
XMax: 2.002424200497104E7
YMax: 2.003750834278928E7
Spatial Reference: 102100
(3857)
LatestVCSWkid(0)
Initial Extent:
XMin: -2.0037507842788246E7
YMin: 1942475.858145211
XMax: 2.002424200497104E7
YMax: 2.003750834278928E7
Spatial Reference: 102100
(3857)
LatestVCSWkid(0)
Full Extent:
XMin: -2.0037507842788246E7
YMin: 1942475.858145211
XMax: 2.002424200497104E7
YMax: 2.003750834278928E7
Spatial Reference: 102100
(3857)
LatestVCSWkid(0)
Time Info:
Start Time Field: dateEnd
End Time Field: dateEnd
Time Extent:
[2015/01/11 12:00:00 UTC, 2026/09/13 12:00:00 UTC]
Time Reference:
N/A
Pixel Size X: 20377.28883405864
Pixel Size Y: 20377.288834058636
Band Count: 1
Pixel Type: F32
RasterFunction Infos: {"rasterFunctionInfos": [
{
"name": "sniad_indice_normalise_precipitations_moins_evapotranspiration",
"description": "Indice normalisé précipitations moins évapotranspiration (INPE)",
"help": ""
},
{
"name": "None",
"description": "Make a Raster or Raster Dataset into a Function Raster Dataset.",
"help": ""
}
]}
Mensuration Capabilities: Basic
Has Histograms: false
Has Colormap: false
Has Multi Dimensions : false
Rendering Rule:
Min Scale: 0
Max Scale: 0
Copyright Text: Agriculture et Agroalimentaire Canada
Service Data Type: esriImageServiceDataTypeGeneric
Min Values: N/A
Max Values: N/A
Mean Values: N/A
Standard Deviation Values: N/A
Object ID Field: OBJECTID
Fields:
-
OBJECTID
(
type: esriFieldTypeOID, alias: OBJECTID
)
-
Shape
(
type: esriFieldTypeGeometry, alias: Shape
)
-
Name
(
type: esriFieldTypeString, alias: Name, length: 200
)
-
MinPS
(
type: esriFieldTypeDouble, alias: MinPS
)
-
MaxPS
(
type: esriFieldTypeDouble, alias: MaxPS
)
-
LowPS
(
type: esriFieldTypeDouble, alias: LowPS
)
-
HighPS
(
type: esriFieldTypeDouble, alias: HighPS
)
-
Category
(
type: esriFieldTypeInteger, alias: Category
, Coded Values:
[0: Unknown]
, [1: Primary]
, [2: Overview]
, ...6 more...
)
-
Tag
(
type: esriFieldTypeString, alias: Tag, length: 100
)
-
GroupName
(
type: esriFieldTypeString, alias: GroupName, length: 100
)
-
ProductName
(
type: esriFieldTypeString, alias: ProductName, length: 100
)
-
CenterX
(
type: esriFieldTypeDouble, alias: CenterX
)
-
CenterY
(
type: esriFieldTypeDouble, alias: CenterY
)
-
ZOrder
(
type: esriFieldTypeInteger, alias: ZOrder
)
-
Shape_Length
(
type: esriFieldTypeDouble, alias: Shape_Length
)
-
Shape_Area
(
type: esriFieldTypeDouble, alias: Shape_Area
)
-
dateEnd
(
type: esriFieldTypeDate, alias: dateEnd, length: 8
)
-
tType
(
type: esriFieldTypeString, alias: tType, length: 30
)
Default Mosaic Method: ByAttribute
Allowed Mosaic Methods: ByAttribute,None,LockRaster
SortField: dateEnd
SortValue: 3000
Mosaic Operator: First
Default Compression Quality: 75
Default Resampling Method: Bilinear
Max Record Count: 1000
Max Image Height: 4100
Max Image Width: 15000
Max Download Image Count: 20
Max Mosaic Image Count: 1
Allow Raster Function: true
Allow Copy: true
Allow Analysis: true
Allow Compute TiePoints: false
Supports Statistics: true
Supports Advanced Queries: true
Use StandardizedQueries: true
Raster Type Infos:
Name: Raster Dataset
Description: Supports all ArcGIS Raster Datasets
Help:
Has Raster Attribute Table: false
Edit Fields Info: null
Ownership Based AccessControl For Rasters: null
Child Resources:
Info
Statistics
Key Properties
Legend
Raster Function Infos
Supported Operations:
Export Image
Query
Identify
Measure
Compute Histograms
Compute Statistics Histograms
Get Samples
Compute Class Statistics
Query Boundary
Compute Pixel Location
Compute Angles
Validate
Project