View In:
ArcGIS JavaScript
ArcGIS Online Map Viewer
ArcGIS Earth
Service Description: En 2022, l'équipe d'observation de la Terre de la Direction générale des sciences et de la technologie (DGST) d'Agriculture et Agroalimentaire Canada (AAC) a répété le processus visant à produire des cartes numériques de l'inventaire annuel des cultures à l'aide d'images satellitaires pour toutes les provinces du Canada, afin de soutenir la réalisation d'un inventaire national des cultures. Nouveauté cette année, une carte des régions agricoles du Territoire du Yukon a également été produite. Une méthodologie par arbre de décision a été utilisée à l'aide d'images satellitaires optiques (Landsat-8, Landsat-9, Sentinel-2) et radar (MCR) avec une résolution spatiale finale de 30 m. En même temps que les acquisitions par satellite, des données de réalité de terrain ont été fournies par des sociétés d'assurance-récolte provinciales (Alberta, Saskatchewan, Manitoba et Québec); tandis que des observations ponctuelles provenaient du Ministère d'Environnement, Eau et Changement climatique de l'Île-du-PrinceÉdouard; Ministère de l'Agriculture, de l'Alimentation et des Affaires rurales de l'Ontario; Université de Guelph - campus de Ridgetown; Ministère de l'Agriculture de Colombie-Britannique; l'acquisition de données a aussi été supportée par les centres régionaux de recherches et développement d'AAC à Saint-Jean de Terre-Neuve, Kentville, Fredericton, Guelph, Summerland, et Whitehorse. Pour plus d'information, consulter : https://ouvert.canada.ca/data/fr/dataset/ee44d2d4-f887-47d1-9a5b-4c9c7b43bb46
Name: inventaire_annuel_des_cultures/2022
Description: En 2022, l'équipe d'observation de la Terre de la Direction générale des sciences et de la technologie (DGST) d'Agriculture et Agroalimentaire Canada (AAC) a répété le processus visant à produire des cartes numériques de l'inventaire annuel des cultures à l'aide d'images satellitaires pour toutes les provinces du Canada, afin de soutenir la réalisation d'un inventaire national des cultures. Nouveauté cette année, une carte des régions agricoles du Territoire du Yukon a également été produite. Une méthodologie par arbre de décision a été utilisée à l'aide d'images satellitaires optiques (Landsat-8, Landsat-9, Sentinel-2) et radar (MCR) avec une résolution spatiale finale de 30 m. En même temps que les acquisitions par satellite, des données de réalité de terrain ont été fournies par des sociétés d'assurance-récolte provinciales (Alberta, Saskatchewan, Manitoba et Québec); tandis que des observations ponctuelles provenaient du Ministère d'Environnement, Eau et Changement climatique de l'Île-du-PrinceÉdouard; Ministère de l'Agriculture, de l'Alimentation et des Affaires rurales de l'Ontario; Université de Guelph - campus de Ridgetown; Ministère de l'Agriculture de Colombie-Britannique; l'acquisition de données a aussi été supportée par les centres régionaux de recherches et développement d'AAC à Saint-Jean de Terre-Neuve, Kentville, Fredericton, Guelph, Summerland, et Whitehorse. Pour plus d'information, consulter : https://ouvert.canada.ca/data/fr/dataset/ee44d2d4-f887-47d1-9a5b-4c9c7b43bb46
Single Fused Map Cache: false
Extent:
XMin: -1.60579871473E7
YMin: 4944671.507999998
XMax: -5542717.147299999
YMax: 9934691.507999998
Spatial Reference: 102100
(3857)
LatestVCSWkid(0)
Initial Extent:
XMin: -1.60579871473E7
YMin: 4944671.507999998
XMax: -5542717.147299999
YMax: 9934691.507999998
Spatial Reference: 102100
(3857)
LatestVCSWkid(0)
Full Extent:
XMin: -1.60579871473E7
YMin: 4944671.507999998
XMax: -5542717.147299999
YMax: 9934691.507999998
Spatial Reference: 102100
(3857)
LatestVCSWkid(0)
Pixel Size X: 30.0
Pixel Size Y: 30.0
Band Count: 1
Pixel Type: U8
RasterFunction Infos: {"rasterFunctionInfos": [
{
"name": "inventaire_annuel_des_cultures",
"description": "Inventaire annuel des cultures combiné Remap and Attribute Table raster functions",
"help": ""
},
{
"name": "inventaire_annuel_des_cultures_simplifie",
"description": "Inventaire annuel des cultures simplifié Remap and Attribute Table raster functions",
"help": ""
},
{
"name": "inventaire_annuel_des_cultures_plus_simplifie",
"description": "Inventaire annuel des cultures plus simplifié Remap and Attribute Table raster functions",
"help": ""
},
{
"name": "inventaire_annuel_des_cultures_le_plus_simplifie",
"description": "Inventaire annuel des cultures le plus simplifié Remap and Attribute Table raster functions",
"help": ""
},
{
"name": "None",
"description": "Make a Raster or Raster Dataset into a Function Raster Dataset.",
"help": ""
}
]}
Mensuration Capabilities: Basic
Has Histograms: true
Has Colormap: false
Has Multi Dimensions : false
Rendering Rule:
Min Scale: 0
Max Scale: 0
Copyright Text: Agriculture et Agroalimentaire Canada
Service Data Type: esriImageServiceDataTypeThematic
Min Values: 0
Max Values: 230
Mean Values: 153.03163060219782
Standard Deviation Values: 63.98780581331587
Object ID Field: OBJECTID
Fields:
-
OBJECTID
(
type: esriFieldTypeOID, alias: OBJECTID
)
-
Shape
(
type: esriFieldTypeGeometry, alias: Shape
)
-
Name
(
type: esriFieldTypeString, alias: Name, length: 200
)
-
MinPS
(
type: esriFieldTypeDouble, alias: MinPS
)
-
MaxPS
(
type: esriFieldTypeDouble, alias: MaxPS
)
-
LowPS
(
type: esriFieldTypeDouble, alias: LowPS
)
-
HighPS
(
type: esriFieldTypeDouble, alias: HighPS
)
-
Category
(
type: esriFieldTypeInteger, alias: Category
, Coded Values:
[0: Unknown]
, [1: Primary]
, [2: Overview]
, ...6 more...
)
-
Tag
(
type: esriFieldTypeString, alias: Tag, length: 100
)
-
GroupName
(
type: esriFieldTypeString, alias: GroupName, length: 100
)
-
ProductName
(
type: esriFieldTypeString, alias: ProductName, length: 100
)
-
CenterX
(
type: esriFieldTypeDouble, alias: CenterX
)
-
CenterY
(
type: esriFieldTypeDouble, alias: CenterY
)
-
ZOrder
(
type: esriFieldTypeInteger, alias: ZOrder
)
-
Shape_Length
(
type: esriFieldTypeDouble, alias: Shape_Length
)
-
Shape_Area
(
type: esriFieldTypeDouble, alias: Shape_Area
)
Default Mosaic Method: Center
Allowed Mosaic Methods: Center,None,NorthWest,LockRaster,ByAttribute,Nadir,Viewpoint,Seamline
SortField:
SortValue: null
Mosaic Operator: First
Default Compression Quality: 75
Default Resampling Method: Nearest
Max Record Count: 1000
Max Image Height: 70000
Max Image Width: 70000
Max Download Image Count: 20
Max Mosaic Image Count: 20
Allow Raster Function: true
Allow Copy: true
Allow Analysis: true
Allow Compute TiePoints: false
Supports Statistics: true
Supports Advanced Queries: true
Use StandardizedQueries: true
Raster Type Infos:
Name: Raster Dataset
Description: Supports all ArcGIS Raster Datasets
Help:
Has Raster Attribute Table: false
Edit Fields Info: null
Ownership Based AccessControl For Rasters: null
Child Resources:
Info
Histograms
Statistics
Key Properties
Legend
Raster Function Infos
Supported Operations:
Export Image
Query
Identify
Measure
Compute Histograms
Compute Statistics Histograms
Get Samples
Compute Class Statistics
Query Boundary
Compute Pixel Location
Compute Angles
Validate
Project