View In:
ArcGIS JavaScript
ArcGIS Online Map Viewer
ArcGIS Earth
Service Description: L'agriculture est un important secteur de production primaire au Canada. La production agricole, la rentabilité, la durabilité et la sécurité alimentaire dépendent de nombreux facteurs agrométéorologiques. Les phénomènes météorologiques extrêmes au Canada, comme les sécheresses, les inondations, les vagues de chaleur, les gels et les tempêtes de forte intensité, peuvent avoir des répercussions importantes sur la production des grandes cultures. Agriculture et Agroalimentaire Canada (AAC) et Environnement et Changement climatique Canada (ECCC) ont élaboré ensemble une série d'indices agrométéorologiques des phénomènes extrêmes fondés sur quatre grandes catégories de facteurs météorologiques : température, précipitations, chaleur et vent. Les indices de conditions météorologiques extrêmes sont conçus comme des outils de prévision à court terme et sont produits à l'aide des prévisions à moyen terme d'ECCC pour créer un indice hebdomadaire produit sur une base quotidienne. Les vents peuvent avoir une influence importante sur la croissance et le rendement des cultures, principalement en raison des dommages mécaniques causés aux organes végétatifs et reproducteurs des plantes, d'un déséquilibre dans les relations plantes-sol-atmosphère-eau comme l'évapotranspiration et de la répartition des ravageurs et maladies dans les champs agricoles. La vitesse maximale du vent et le nombre de jours de vent fort au cours de la période de prévision représentent respectivement des épisodes de vent fort à court terme et à long terme. Pour plus d'information, consulter : https://ouvert.canada.ca/data/fr/dataset/c5569a81-2942-4ac4-8eaa-9a9d731b4c79
Name: indices_meteorologiques_extremes/vent
Description: L'agriculture est un important secteur de production primaire au Canada. La production agricole, la rentabilité, la durabilité et la sécurité alimentaire dépendent de nombreux facteurs agrométéorologiques. Les phénomènes météorologiques extrêmes au Canada, comme les sécheresses, les inondations, les vagues de chaleur, les gels et les tempêtes de forte intensité, peuvent avoir des répercussions importantes sur la production des grandes cultures. Agriculture et Agroalimentaire Canada (AAC) et Environnement et Changement climatique Canada (ECCC) ont élaboré ensemble une série d'indices agrométéorologiques des phénomènes extrêmes fondés sur quatre grandes catégories de facteurs météorologiques : température, précipitations, chaleur et vent. Les indices de conditions météorologiques extrêmes sont conçus comme des outils de prévision à court terme et sont produits à l'aide des prévisions à moyen terme d'ECCC pour créer un indice hebdomadaire produit sur une base quotidienne. Les vents peuvent avoir une influence importante sur la croissance et le rendement des cultures, principalement en raison des dommages mécaniques causés aux organes végétatifs et reproducteurs des plantes, d'un déséquilibre dans les relations plantes-sol-atmosphère-eau comme l'évapotranspiration et de la répartition des ravageurs et maladies dans les champs agricoles. La vitesse maximale du vent et le nombre de jours de vent fort au cours de la période de prévision représentent respectivement des épisodes de vent fort à court terme et à long terme. Pour plus d'information, consulter : https://ouvert.canada.ca/data/fr/dataset/c5569a81-2942-4ac4-8eaa-9a9d731b4c79
Single Fused Map Cache: false
Extent:
XMin: -1.62240326851E7
YMin: 4648835.762899995
XMax: -5370032.6851
YMax: 1.8538835762899995E7
Spatial Reference: 102100
(3857)
LatestVCSWkid(0)
Initial Extent:
XMin: -1.62240326851E7
YMin: 4648835.762899995
XMax: -5370032.6851
YMax: 1.8538835762899995E7
Spatial Reference: 102100
(3857)
LatestVCSWkid(0)
Full Extent:
XMin: -1.62240326851E7
YMin: 4648835.762899995
XMax: -5370032.6851
YMax: 1.8538835762899995E7
Spatial Reference: 102100
(3857)
LatestVCSWkid(0)
Time Info:
Start Time Field: dateEnd
End Time Field: dateEnd
Time Extent:
[2026/09/17 12:00:00 UTC, 2026/09/18 12:00:00 UTC]
Time Reference:
N/A
Pixel Size X: 1000.0
Pixel Size Y: 1000.0
Band Count: 1
Pixel Type: F32
RasterFunction Infos: {"rasterFunctionInfos": [
{
"name": "None",
"description": "Make a Raster or Raster Dataset into a Function Raster Dataset.",
"help": ""
},
{
"name": "njs",
"description": "Nombre de jours de sécheresse",
"help": ""
},
{
"name": "vmv",
"description": "Vitesse maximale du vent (km/h)",
"help": ""
},
{
"name": "jvf",
"description": "Jours de vent fort",
"help": ""
},
{
"name": "probabilite",
"description": "Probabilité (%)",
"help": ""
}
]}
Mensuration Capabilities: Basic
Has Histograms: false
Has Colormap: false
Has Multi Dimensions : false
Rendering Rule:
Min Scale: 0
Max Scale: 0
Copyright Text: Agriculture et Agroalimentaire Canada, Environnement et Changement climatique Canada, Gouvernement du Canada
Service Data Type: esriImageServiceDataTypeGeneric
Min Values: N/A
Max Values: N/A
Mean Values: N/A
Standard Deviation Values: N/A
Object ID Field: OBJECTID
Fields:
-
OBJECTID
(
type: esriFieldTypeOID, alias: OBJECTID
)
-
Shape
(
type: esriFieldTypeGeometry, alias: Shape
)
-
Name
(
type: esriFieldTypeString, alias: Name, length: 200
)
-
MinPS
(
type: esriFieldTypeDouble, alias: MinPS
)
-
MaxPS
(
type: esriFieldTypeDouble, alias: MaxPS
)
-
LowPS
(
type: esriFieldTypeDouble, alias: LowPS
)
-
HighPS
(
type: esriFieldTypeDouble, alias: HighPS
)
-
Category
(
type: esriFieldTypeInteger, alias: Category
, Coded Values:
[0: Unknown]
, [1: Primary]
, [2: Overview]
, ...6 more...
)
-
Tag
(
type: esriFieldTypeString, alias: Tag, length: 100
)
-
GroupName
(
type: esriFieldTypeString, alias: GroupName, length: 100
)
-
ProductName
(
type: esriFieldTypeString, alias: ProductName, length: 100
)
-
CenterX
(
type: esriFieldTypeDouble, alias: CenterX
)
-
CenterY
(
type: esriFieldTypeDouble, alias: CenterY
)
-
ZOrder
(
type: esriFieldTypeInteger, alias: ZOrder
)
-
Shape_Length
(
type: esriFieldTypeDouble, alias: Shape_Length
)
-
Shape_Area
(
type: esriFieldTypeDouble, alias: Shape_Area
)
-
dateEnd
(
type: esriFieldTypeDate, alias: dateEnd, length: 8
)
-
tType
(
type: esriFieldTypeString, alias: tType, length: 30
)
Default Mosaic Method: ByAttribute
Allowed Mosaic Methods: ByAttribute,None,LockRaster
SortField: dateEnd
SortValue: 3000
Mosaic Operator: First
Default Compression Quality: 75
Default Resampling Method: Bilinear
Max Record Count: 1000
Max Image Height: 4100
Max Image Width: 15000
Max Download Image Count: 20
Max Mosaic Image Count: 1
Allow Raster Function: true
Allow Copy: true
Allow Analysis: true
Allow Compute TiePoints: false
Supports Statistics: true
Supports Advanced Queries: true
Use StandardizedQueries: true
Raster Type Infos:
Name: Raster Dataset
Description: Supports all ArcGIS Raster Datasets
Help:
Has Raster Attribute Table: false
Edit Fields Info: null
Ownership Based AccessControl For Rasters: null
Child Resources:
Info
Statistics
Key Properties
Legend
Raster Function Infos
Supported Operations:
Export Image
Query
Identify
Measure
Compute Histograms
Compute Statistics Histograms
Get Samples
Compute Class Statistics
Query Boundary
Compute Pixel Location
Compute Angles
Validate
Project