View In:
ArcGIS JavaScript
ArcGIS Online Map Viewer
ArcGIS Earth
Service Description: Le nouvel ensemble de données mondial, appelé l'indice de stress évaporatif (ISE), disponible en ligne et produit chaque semaine à une résolution de 5 kilomètres pour l'ensemble du globe, révèle les régions de sécheresse où la végétation est stressée en raison du manque d'eau, permettant aux ministères de l'agriculture de fournir aux agriculteurs des conseils pratiques sur l'irrigation. L'ISE peut capturer les premiers signaux de «sécheresse éclair», une condition provoquée par des périodes prolongées de conditions chaudes, sèches et venteuses conduisant à une diminution rapide de l'humidité du sol. Des taux réduits de perte d'eau peuvent être observés grâce à l'utilisation de la température de la surface du sol avant de pouvoir être observés par le biais d'une diminution de la santé de la végétation ou de la «verdure». L'ISE décrit l'humidité du sol à travers le paysage sans utiliser les données de précipitations observées. Ceci est critique dans les régions en développement et dans d'autres parties du monde où les observations au sol des précipitations sont insuffisantes. L'ISE est basée sur des observations satellitaires de la température à la surface du sol, qui sont utilisées pour estimer la perte d'eau due à l'évapotranspiration (ET), la perte d'eau par évaporation du sol et de la surface des plantes et via la transpiration à travers les feuilles des plantes. En général, une végétation verte saine ayant accès à un approvisionnement adéquat en eau se réchauffe à un rythme beaucoup plus lent que la végétation sèche et / ou stressée. Sur la base des variations de la température de la surface terrestre, l'ISE indique comment le taux actuel d'ET se compare aux conditions normales. Les valeurs ISE négatives montrent des taux d'ET inférieurs à la normale, indiquant une végétation stressée en raison d'une humidité insuffisante du sol. (La première réponse des plantes, lorsqu'elles sont stressées par le manque d'eau, est de réduire leur transpiration pour conserver l'eau à l'intérieur de la plante.) Auteur: Christopher Hain (NASA Marshall Space Flight Center), Martha Anderson (USDA Agricultural Research Service). Pour plus d'information, consulter : https://servirglobal.net/Global/Evaporative-Stress-Index-4-weeks (SERVIR Global)
Name: indice_de_stress_evaporatif
Description: Le nouvel ensemble de données mondial, appelé l'indice de stress évaporatif (ISE), disponible en ligne et produit chaque semaine à une résolution de 5 kilomètres pour l'ensemble du globe, révèle les régions de sécheresse où la végétation est stressée en raison du manque d'eau, permettant aux ministères de l'agriculture de fournir aux agriculteurs des conseils pratiques sur l'irrigation. L'ISE peut capturer les premiers signaux de «sécheresse éclair», une condition provoquée par des périodes prolongées de conditions chaudes, sèches et venteuses conduisant à une diminution rapide de l'humidité du sol. Des taux réduits de perte d'eau peuvent être observés grâce à l'utilisation de la température de la surface du sol avant de pouvoir être observés par le biais d'une diminution de la santé de la végétation ou de la «verdure». L'ISE décrit l'humidité du sol à travers le paysage sans utiliser les données de précipitations observées. Ceci est critique dans les régions en développement et dans d'autres parties du monde où les observations au sol des précipitations sont insuffisantes. L'ISE est basée sur des observations satellitaires de la température à la surface du sol, qui sont utilisées pour estimer la perte d'eau due à l'évapotranspiration (ET), la perte d'eau par évaporation du sol et de la surface des plantes et via la transpiration à travers les feuilles des plantes. En général, une végétation verte saine ayant accès à un approvisionnement adéquat en eau se réchauffe à un rythme beaucoup plus lent que la végétation sèche et / ou stressée. Sur la base des variations de la température de la surface terrestre, l'ISE indique comment le taux actuel d'ET se compare aux conditions normales. Les valeurs ISE négatives montrent des taux d'ET inférieurs à la normale, indiquant une végétation stressée en raison d'une humidité insuffisante du sol. (La première réponse des plantes, lorsqu'elles sont stressées par le manque d'eau, est de réduire leur transpiration pour conserver l'eau à l'intérieur de la plante.) Auteur: Christopher Hain (NASA Marshall Space Flight Center), Martha Anderson (USDA Agricultural Research Service). Pour plus d'information, consulter : https://servirglobal.net/Global/Evaporative-Stress-Index-4-weeks (SERVIR Global)
Single Fused Map Cache: false
Extent:
XMin: -1.56960482E7
YMin: 5160979.440000001
XMax: -5900366.573587244
YMax: 1.782191196E7
Spatial Reference: 102100
(3857)
LatestVCSWkid(0)
Initial Extent:
XMin: -1.56960482E7
YMin: 5160979.440000001
XMax: -5900366.573587244
YMax: 1.782191196E7
Spatial Reference: 102100
(3857)
LatestVCSWkid(0)
Full Extent:
XMin: -1.56960482E7
YMin: 5160979.440000001
XMax: -5900366.573587244
YMax: 1.782191196E7
Spatial Reference: 102100
(3857)
LatestVCSWkid(0)
Time Info:
Start Time Field: dateEnd
End Time Field: dateEnd
Time Extent:
[2025/01/01 12:00:00 UTC, 2026/05/28 12:00:00 UTC]
Time Reference:
N/A
Pixel Size X: 5607.144605845881
Pixel Size Y: 5607.144605845881
Band Count: 1
Pixel Type: F32
RasterFunction Infos: {"rasterFunctionInfos": [
{
"name": "ise_modis_4semaines",
"description": "Remap and Attribute Table raster functions",
"help": ""
},
{
"name": "None",
"description": "",
"help": ""
}
]}
Mensuration Capabilities:
Has Histograms: false
Has Colormap: false
Has Multi Dimensions : false
Rendering Rule:
Min Scale: 0
Max Scale: 0
Copyright Text: Agriculture et Agroalimentaire Canada, NASA, USDA
Service Data Type: esriImageServiceDataTypeGeneric
Min Values: N/A
Max Values: N/A
Mean Values: N/A
Standard Deviation Values: N/A
Object ID Field: OBJECTID
Fields:
-
OBJECTID
(
type: esriFieldTypeOID, alias: OBJECTID
)
-
Shape
(
type: esriFieldTypeGeometry, alias: Shape
)
-
Name
(
type: esriFieldTypeString, alias: Name, length: 200
)
-
MinPS
(
type: esriFieldTypeDouble, alias: MinPS
)
-
MaxPS
(
type: esriFieldTypeDouble, alias: MaxPS
)
-
LowPS
(
type: esriFieldTypeDouble, alias: LowPS
)
-
HighPS
(
type: esriFieldTypeDouble, alias: HighPS
)
-
Category
(
type: esriFieldTypeInteger, alias: Category
, Coded Values:
[0: Unknown]
, [1: Primary]
, [2: Overview]
, ...6 more...
)
-
Tag
(
type: esriFieldTypeString, alias: Tag, length: 100
)
-
GroupName
(
type: esriFieldTypeString, alias: GroupName, length: 100
)
-
ProductName
(
type: esriFieldTypeString, alias: ProductName, length: 100
)
-
CenterX
(
type: esriFieldTypeDouble, alias: CenterX
)
-
CenterY
(
type: esriFieldTypeDouble, alias: CenterY
)
-
ZOrder
(
type: esriFieldTypeInteger, alias: ZOrder
)
-
Shape_Length
(
type: esriFieldTypeDouble, alias: Shape_Length
)
-
Shape_Area
(
type: esriFieldTypeDouble, alias: Shape_Area
)
-
dateEnd
(
type: esriFieldTypeDate, alias: dateEnd, length: 8
)
Default Mosaic Method: ByAttribute
Allowed Mosaic Methods: ByAttribute,None,LockRaster
SortField: dateEnd
SortValue: 3000
Mosaic Operator: First
Default Compression Quality: 75
Default Resampling Method: Bilinear
Max Record Count: 1000
Max Image Height: 4100
Max Image Width: 15000
Max Download Image Count: 20
Max Mosaic Image Count: 1
Allow Raster Function: true
Allow Copy: true
Allow Analysis: true
Allow Compute TiePoints: false
Supports Statistics: true
Supports Advanced Queries: true
Use StandardizedQueries: true
Raster Type Infos:
Name: Raster Dataset
Description: Supports all ArcGIS Raster Datasets
Help:
Has Raster Attribute Table: false
Edit Fields Info: null
Ownership Based AccessControl For Rasters: null
Child Resources:
Info
Statistics
Key Properties
Legend
Raster Function Infos
Supported Operations:
Export Image
Query
Identify
Compute Histograms
Compute Statistics Histograms
Get Samples
Compute Class Statistics
Query Boundary
Compute Pixel Location
Compute Angles
Validate
Project