View In:
ArcGIS JavaScript
ArcGIS Online Map Viewer
ArcGIS Earth
Service Description: Ces données indiquent la sécheresse de la surface des terres mesurée selon l'état de la végétation. Les données sont produites chaque semaine à partir des renseignements hebdomadaires sur les anomalies de précipitation (nommément l'indice normalisé de précipitations ou INP), et l'état de la végétation mesurée par l'indice de végétation par différence normalisée (IVDN) obtenue grâce à l'instrument satellisé MODIS. Ces ensembles de données dynamiques ainsi que les ensembles de données statiques sur la couverture des terres, la capacité de rétention d'eau par le sol, l'irrigation, les écozones et l'altitude des terres sont utilisés pour modéliser la gravité de la sécheresse à l'aide de l'indice de sévérité de sécheresse de Palmer (ISSP). Le modèle mapcubist entraîné à l'aide de données historiques est exécuté en temps réel sur les données d'entrées changeantes pour produire des scores de gravité de la sécheresse. Ce modèle exécuté à une résolution de 1 km a été produit par l'AAC, la Commission géologique des États-Unis et le Moniteur des sécheresses aux États-Unis de l'Université du Nebraska à Lincoln. Pour plus d'information, consulter : https://ouvert.canada.ca/data/fr/dataset/447c4ab0-f2d4-4f6b-9a44-d621874f1b45
Name: indice_de_reaction_de_la_vegetation_a_la_secheresse
Description: Ces données indiquent la sécheresse de la surface des terres mesurée selon l'état de la végétation. Les données sont produites chaque semaine à partir des renseignements hebdomadaires sur les anomalies de précipitation (nommément l'indice normalisé de précipitations ou INP), et l'état de la végétation mesurée par l'indice de végétation par différence normalisée (IVDN) obtenue grâce à l'instrument satellisé MODIS. Ces ensembles de données dynamiques ainsi que les ensembles de données statiques sur la couverture des terres, la capacité de rétention d'eau par le sol, l'irrigation, les écozones et l'altitude des terres sont utilisés pour modéliser la gravité de la sécheresse à l'aide de l'indice de sévérité de sécheresse de Palmer (ISSP). Le modèle mapcubist entraîné à l'aide de données historiques est exécuté en temps réel sur les données d'entrées changeantes pour produire des scores de gravité de la sécheresse. Ce modèle exécuté à une résolution de 1 km a été produit par l'AAC, la Commission géologique des États-Unis et le Moniteur des sécheresses aux États-Unis de l'Université du Nebraska à Lincoln. Pour plus d'information, consulter : https://ouvert.canada.ca/data/fr/dataset/447c4ab0-f2d4-4f6b-9a44-d621874f1b45
Single Fused Map Cache: false
Extent:
XMin: -1.51537099432E7
YMin: 4148918.526599996
XMax: -5299709.9432
YMax: 8781918.526599996
Spatial Reference: 102100
(3857)
LatestVCSWkid(0)
Initial Extent:
XMin: -1.51537099432E7
YMin: 4148918.526599996
XMax: -5299709.9432
YMax: 8781918.526599996
Spatial Reference: 102100
(3857)
LatestVCSWkid(0)
Full Extent:
XMin: -1.51537099432E7
YMin: 4148918.526599996
XMax: -5299709.9432
YMax: 8781918.526599996
Spatial Reference: 102100
(3857)
LatestVCSWkid(0)
Time Info:
Start Time Field: dateEnd
End Time Field: dateEnd
Time Extent:
[2020/05/17 12:00:00 UTC, 2026/08/30 12:00:00 UTC]
Time Reference:
N/A
Pixel Size X: 1000.0
Pixel Size Y: 1000.0
Band Count: 1
Pixel Type: F32
RasterFunction Infos: {"rasterFunctionInfos": [
{
"name": "indice_vegetation_secheresse",
"description": "Remap and Attribute Table raster functions",
"help": ""
},
{
"name": "None",
"description": "",
"help": ""
}
]}
Mensuration Capabilities: Basic
Has Histograms: false
Has Colormap: false
Has Multi Dimensions : false
Rendering Rule:
Min Scale: 0
Max Scale: 0
Copyright Text: Agriculture et Agroalimentaire Canada
Service Data Type: esriImageServiceDataTypeGeneric
Min Values: N/A
Max Values: N/A
Mean Values: N/A
Standard Deviation Values: N/A
Object ID Field: OBJECTID
Fields:
-
OBJECTID
(
type: esriFieldTypeOID, alias: OBJECTID
)
-
Shape
(
type: esriFieldTypeGeometry, alias: Shape
)
-
Name
(
type: esriFieldTypeString, alias: Name, length: 200
)
-
MinPS
(
type: esriFieldTypeDouble, alias: MinPS
)
-
MaxPS
(
type: esriFieldTypeDouble, alias: MaxPS
)
-
LowPS
(
type: esriFieldTypeDouble, alias: LowPS
)
-
HighPS
(
type: esriFieldTypeDouble, alias: HighPS
)
-
Category
(
type: esriFieldTypeInteger, alias: Category
, Coded Values:
[0: Unknown]
, [1: Primary]
, [2: Overview]
, ...6 more...
)
-
Tag
(
type: esriFieldTypeString, alias: Tag, length: 100
)
-
GroupName
(
type: esriFieldTypeString, alias: GroupName, length: 100
)
-
ProductName
(
type: esriFieldTypeString, alias: ProductName, length: 100
)
-
CenterX
(
type: esriFieldTypeDouble, alias: CenterX
)
-
CenterY
(
type: esriFieldTypeDouble, alias: CenterY
)
-
ZOrder
(
type: esriFieldTypeInteger, alias: ZOrder
)
-
Shape_Length
(
type: esriFieldTypeDouble, alias: Shape_Length
)
-
Shape_Area
(
type: esriFieldTypeDouble, alias: Shape_Area
)
-
dateEnd
(
type: esriFieldTypeDate, alias: dateEnd, length: 8
)
Default Mosaic Method: ByAttribute
Allowed Mosaic Methods: ByAttribute,None,LockRaster
SortField: dateEnd
SortValue: 3000
Mosaic Operator: First
Default Compression Quality: 75
Default Resampling Method: Bilinear
Max Record Count: 1000
Max Image Height: 4100
Max Image Width: 15000
Max Download Image Count: 20
Max Mosaic Image Count: 1
Allow Raster Function: true
Allow Copy: true
Allow Analysis: true
Allow Compute TiePoints: false
Supports Statistics: true
Supports Advanced Queries: true
Use StandardizedQueries: true
Raster Type Infos:
Name: Raster Dataset
Description: Supports all ArcGIS Raster Datasets
Help:
Has Raster Attribute Table: false
Edit Fields Info: null
Ownership Based AccessControl For Rasters: null
Child Resources:
Info
Statistics
Key Properties
Legend
Raster Function Infos
Supported Operations:
Export Image
Query
Identify
Measure
Compute Histograms
Compute Statistics Histograms
Get Samples
Compute Class Statistics
Query Boundary
Compute Pixel Location
Compute Angles
Validate
Project