View In:
ArcGIS JavaScript
ArcGIS Online Map Viewer
ArcGIS Earth
Service Description: Classe du grand groupe de sols prédite, telle que définie par le Système canadien de classification des sols (troisième édition). Le Service d'information sur les sols du Canada a élaboré un ensemble de données détaillé sur les sols canadiens et leurs propriétés connexes au moyen de techniques avancées d'apprentissage automatique. Les grilles des pédopaysages du Canada sont produites à partir d'une combinaison de données antérieures et actuelles provenant de l'échantillonnage des sols et de la télédétection. Le modèle d'apprentissage automatique est entraîné à l'aide de plus de 10 000 pédons provenant de l'ensemble du Canada et de 70 ensembles de données sur les covariables. Le nouvel ensemble de données est essentiel pour combler les lacunes laissées par les anciens levés pédologiques et faciliter des évaluations plus complètes à l'échelle nationale. Pour plus d'information, consulter : https://ouvert.canada.ca/data/fr/dataset/4d39c9f9-a85c-4bf2-b920-138fdd423384
Name: grilles_des_pedopaysages_100m/taxonomie_des_grands_groupes_de_sols
Description: Classe du grand groupe de sols prédite, telle que définie par le Système canadien de classification des sols (troisième édition). Le Service d'information sur les sols du Canada a élaboré un ensemble de données détaillé sur les sols canadiens et leurs propriétés connexes au moyen de techniques avancées d'apprentissage automatique. Les grilles des pédopaysages du Canada sont produites à partir d'une combinaison de données antérieures et actuelles provenant de l'échantillonnage des sols et de la télédétection. Le modèle d'apprentissage automatique est entraîné à l'aide de plus de 10 000 pédons provenant de l'ensemble du Canada et de 70 ensembles de données sur les covariables. Le nouvel ensemble de données est essentiel pour combler les lacunes laissées par les anciens levés pédologiques et faciliter des évaluations plus complètes à l'échelle nationale. Pour plus d'information, consulter : https://ouvert.canada.ca/data/fr/dataset/4d39c9f9-a85c-4bf2-b920-138fdd423384
Single Fused Map Cache: false
Extent:
XMin: -1.85274714175E7
YMin: 4937126.469600003
XMax: -2435531.4175000004
YMax: 1.8821246469600003E7
Spatial Reference: 102100
(3857)
LatestVCSWkid(0)
Initial Extent:
XMin: -1.85274714175E7
YMin: 4937126.469600003
XMax: -2435531.4175000004
YMax: 1.8821246469600003E7
Spatial Reference: 102100
(3857)
LatestVCSWkid(0)
Full Extent:
XMin: -1.85274714175E7
YMin: 4937126.469600003
XMax: -2435531.4175000004
YMax: 1.8821246469600003E7
Spatial Reference: 102100
(3857)
LatestVCSWkid(0)
Pixel Size X: 30.0
Pixel Size Y: 30.0
Band Count: 1
Pixel Type: S8
RasterFunction Infos: {"rasterFunctionInfos": [
{
"name": "grilles_des_pédopaysages_du_canada_100m_grand groupe",
"description": "Classe du grand groupe de sols prédite, telle que définie par le Système canadien de classification des sols (troisième édition). ",
"help": ""
},
{
"name": "None",
"description": "",
"help": ""
}
]}
Mensuration Capabilities: None
Has Histograms: true
Has Colormap: false
Has Multi Dimensions : false
Rendering Rule:
Min Scale: 0
Max Scale: 0
Copyright Text: Agriculture et Agroalimentaire Canada
Service Data Type: esriImageServiceDataTypeThematic
Min Values: 0
Max Values: 30
Mean Values: 12.428854161256403
Standard Deviation Values: 6.25965075464129
Object ID Field: OBJECTID
Fields:
-
OBJECTID
(
type: esriFieldTypeOID, alias: OBJECTID
)
-
Shape
(
type: esriFieldTypeGeometry, alias: Shape
)
-
Name
(
type: esriFieldTypeString, alias: Name, length: 200
)
-
MinPS
(
type: esriFieldTypeDouble, alias: MinPS
)
-
MaxPS
(
type: esriFieldTypeDouble, alias: MaxPS
)
-
LowPS
(
type: esriFieldTypeDouble, alias: LowPS
)
-
HighPS
(
type: esriFieldTypeDouble, alias: HighPS
)
-
Category
(
type: esriFieldTypeInteger, alias: Category
, Coded Values:
[0: Unknown]
, [1: Primary]
, [2: Overview]
, ...6 more...
)
-
Tag
(
type: esriFieldTypeString, alias: Tag, length: 100
)
-
GroupName
(
type: esriFieldTypeString, alias: GroupName, length: 100
)
-
ProductName
(
type: esriFieldTypeString, alias: ProductName, length: 100
)
-
CenterX
(
type: esriFieldTypeDouble, alias: CenterX
)
-
CenterY
(
type: esriFieldTypeDouble, alias: CenterY
)
-
ZOrder
(
type: esriFieldTypeInteger, alias: ZOrder
)
-
Shape_Length
(
type: esriFieldTypeDouble, alias: Shape_Length
)
-
Shape_Area
(
type: esriFieldTypeDouble, alias: Shape_Area
)
Default Mosaic Method: Northwest
Allowed Mosaic Methods: NorthWest,None,Center,LockRaster,ByAttribute,Nadir,Viewpoint,Seamline
SortField:
SortValue: null
Mosaic Operator: First
Default Compression Quality: 75
Default Resampling Method: Nearest
Max Record Count: 1000
Max Image Height: 70000
Max Image Width: 70000
Max Download Image Count: 20
Max Mosaic Image Count: 20
Allow Raster Function: true
Allow Copy: true
Allow Analysis: true
Allow Compute TiePoints: false
Supports Statistics: true
Supports Advanced Queries: true
Use StandardizedQueries: true
Raster Type Infos:
Name: Raster Dataset
Description: Supports all ArcGIS Raster Datasets
Help:
Has Raster Attribute Table: false
Edit Fields Info: null
Ownership Based AccessControl For Rasters: null
Child Resources:
Info
Histograms
Statistics
Key Properties
Legend
Raster Function Infos
Supported Operations:
Export Image
Query
Identify
Compute Histograms
Compute Statistics Histograms
Get Samples
Compute Class Statistics
Query Boundary
Compute Pixel Location
Compute Angles
Validate
Project