View In:
ArcGIS JavaScript
ArcGIS Online Map Viewer
ArcGIS Earth
Service Description: Dans la série de jeux de données « Anomalies de l'IVDN maximal hebdomadaire meilleure qualité », chaque valeur de pixel correspond à l'IVDN maximal de « meilleure qualité » pour une semaine donnée. Les observations de pixels demauvaise qualité sont supprimées de ce produit. Les observations dont la qualité est diminuée par la couverture neigeuse, les ombres, les nuages, les aérosols ou par des angles zénithaux faibles du capteur sont supprimées (et se voient attribuer la valeur « Données manquantes »). De plus, les valeurs négatives de l'IVDN maximal, obtenues lorsque la réflectance R est supérieure à la réflectance PIR, sont considérées comme étant exemptes de végétation et se voient attribuer une valeur de 0. On obtient ainsi un produit de l'IVDN maximal qui ne devrait contenir (en majeure partie) que des pixels couverts de végétation. Les valeurs de l'IVDN maximal sont jugées de grande qualité et couvrent un gradient de biomasse variant de 0 (aucune/faible biomasse) à 1 (biomasse élevée). Pour plus d'information, consulter : https://ouvert.canada.ca/data/fr/dataset/ea6b4be2-9826-47f3-a387-33ddf02592f4
Name: etendues_agricoles_mod_anomalies_ivdn_maximal_hebdomadaire_de_meilleure_qualite
Description: Dans la série de jeux de données « Anomalies de l'IVDN maximal hebdomadaire meilleure qualité », chaque valeur de pixel correspond à l'IVDN maximal de « meilleure qualité » pour une semaine donnée. Les observations de pixels demauvaise qualité sont supprimées de ce produit. Les observations dont la qualité est diminuée par la couverture neigeuse, les ombres, les nuages, les aérosols ou par des angles zénithaux faibles du capteur sont supprimées (et se voient attribuer la valeur « Données manquantes »). De plus, les valeurs négatives de l'IVDN maximal, obtenues lorsque la réflectance R est supérieure à la réflectance PIR, sont considérées comme étant exemptes de végétation et se voient attribuer une valeur de 0. On obtient ainsi un produit de l'IVDN maximal qui ne devrait contenir (en majeure partie) que des pixels couverts de végétation. Les valeurs de l'IVDN maximal sont jugées de grande qualité et couvrent un gradient de biomasse variant de 0 (aucune/faible biomasse) à 1 (biomasse élevée). Pour plus d'information, consulter : https://ouvert.canada.ca/data/fr/dataset/ea6b4be2-9826-47f3-a387-33ddf02592f4
Single Fused Map Cache: false
Extent:
XMin: -1.837281812018022E7
YMin: 5119339.770832116
XMax: -4474458.187190054
YMax: 8399737.88896513
Spatial Reference: 102100
(3857)
LatestVCSWkid(0)
Initial Extent:
XMin: -1.837281812018022E7
YMin: 5119339.770832116
XMax: -4474458.187190054
YMax: 8399737.88896513
Spatial Reference: 102100
(3857)
LatestVCSWkid(0)
Full Extent:
XMin: -1.837281812018022E7
YMin: 5119339.770832116
XMax: -4474458.187190054
YMax: 8399737.88896513
Spatial Reference: 102100
(3857)
LatestVCSWkid(0)
Time Info:
Start Time Field: dateEnd
End Time Field: dateEnd
Time Extent:
[2023/03/26 12:00:00 UTC, 2026/09/13 12:00:00 UTC]
Time Reference:
N/A
Pixel Size X: 534.9638157425006
Pixel Size Y: 534.9638157425006
Band Count: 1
Pixel Type: F32
RasterFunction Infos: {"rasterFunctionInfos": [
{
"name": "etendues_agricoles_mod_anomalies_ivdn_maximal_hebdomadaire_de_meilleure_qualite",
"description": "Remap and Attribute Table raster functions",
"help": ""
},
{
"name": "None",
"description": "",
"help": ""
}
]}
Mensuration Capabilities: Basic
Has Histograms: false
Has Colormap: false
Has Multi Dimensions : false
Rendering Rule:
Min Scale: 0
Max Scale: 0
Copyright Text: Agriculture et Agroalimentaire Canada
Service Data Type: esriImageServiceDataTypeGeneric
Min Values: N/A
Max Values: N/A
Mean Values: N/A
Standard Deviation Values: N/A
Object ID Field: OBJECTID
Fields:
-
OBJECTID
(
type: esriFieldTypeOID, alias: OBJECTID
)
-
Shape
(
type: esriFieldTypeGeometry, alias: Shape
)
-
Name
(
type: esriFieldTypeString, alias: Name, length: 200
)
-
MinPS
(
type: esriFieldTypeDouble, alias: MinPS
)
-
MaxPS
(
type: esriFieldTypeDouble, alias: MaxPS
)
-
LowPS
(
type: esriFieldTypeDouble, alias: LowPS
)
-
HighPS
(
type: esriFieldTypeDouble, alias: HighPS
)
-
Category
(
type: esriFieldTypeInteger, alias: Category
, Coded Values:
[0: Unknown]
, [1: Primary]
, [2: Overview]
, ...6 more...
)
-
Tag
(
type: esriFieldTypeString, alias: Tag, length: 100
)
-
GroupName
(
type: esriFieldTypeString, alias: GroupName, length: 100
)
-
ProductName
(
type: esriFieldTypeString, alias: ProductName, length: 100
)
-
CenterX
(
type: esriFieldTypeDouble, alias: CenterX
)
-
CenterY
(
type: esriFieldTypeDouble, alias: CenterY
)
-
ZOrder
(
type: esriFieldTypeInteger, alias: ZOrder
)
-
Shape_Length
(
type: esriFieldTypeDouble, alias: Shape_Length
)
-
Shape_Area
(
type: esriFieldTypeDouble, alias: Shape_Area
)
-
dateEnd
(
type: esriFieldTypeDate, alias: dateEnd, length: 8
)
Default Mosaic Method: ByAttribute
Allowed Mosaic Methods: ByAttribute,None,LockRaster
SortField: dateEnd
SortValue: 3000
Mosaic Operator: First
Default Compression Quality: 75
Default Resampling Method: Bilinear
Max Record Count: 1000
Max Image Height: 4100
Max Image Width: 15000
Max Download Image Count: 20
Max Mosaic Image Count: 1
Allow Raster Function: true
Allow Copy: true
Allow Analysis: true
Allow Compute TiePoints: false
Supports Statistics: true
Supports Advanced Queries: true
Use StandardizedQueries: true
Raster Type Infos:
Name: Raster Dataset
Description: Supports all ArcGIS Raster Datasets
Help:
Has Raster Attribute Table: false
Edit Fields Info: null
Ownership Based AccessControl For Rasters: null
Child Resources:
Info
Statistics
Key Properties
Legend
Raster Function Infos
Supported Operations:
Export Image
Query
Identify
Measure
Compute Histograms
Compute Statistics Histograms
Get Samples
Compute Class Statistics
Query Boundary
Compute Pixel Location
Compute Angles
Validate
Project