View In:
ArcGIS JavaScript
ArcGIS Online Map Viewer
ArcGIS Earth
Service Description: The Canadian Drought Monitor (CDM) is a composite product developed from a wide assortment of information such as the Normalized Difference Vegetation Index (NDVI), streamflow values, Palmer Drought Index, and drought indicators used by the agriculture, forest and water management sectors. Drought prone regions are analyzed based on precipitation, temperature, drought model index maps, and climate data and are interpreted by federal, provincial and academic scientists. Once a consensus is reached, a monthly map showing drought designations for Canada is digitized. Agriculture and Agri-Food Canada's National Agroclimate Information Service (NAIS) updates this dataset on a monthly basis, usually by the 10th of every month to correspond to the end of the previous month, and subsequent Canadian input into the larger North American Drought Monitor (NA-DM). The drought areas are classified as follows: - D0 (Abnormally Dry) - represents an event that occurs once every 3-5 years - D1 (Moderate Drought) - represents an event that occurs every 5-10 years - D2 (Severe Drought) - represents an event that occurs every 10-20 years - D3 (Extreme Drought) - represents an event that occurs every 20-25 years - D4 (Exceptional Drought) - represents an event that occurs every 50 years. For more information, visit: https://open.canada.ca/data/en/dataset/292646cd-619f-4200-afb1-8b2c52f984a2
Name: canadian_drought_monitor
Description: The Canadian Drought Monitor (CDM) is a composite product developed from a wide assortment of information such as the Normalized Difference Vegetation Index (NDVI), streamflow values, Palmer Drought Index, and drought indicators used by the agriculture, forest and water management sectors. Drought prone regions are analyzed based on precipitation, temperature, drought model index maps, and climate data and are interpreted by federal, provincial and academic scientists. Once a consensus is reached, a monthly map showing drought designations for Canada is digitized. Agriculture and Agri-Food Canada's National Agroclimate Information Service (NAIS) updates this dataset on a monthly basis, usually by the 10th of every month to correspond to the end of the previous month, and subsequent Canadian input into the larger North American Drought Monitor (NA-DM). The drought areas are classified as follows: - D0 (Abnormally Dry) - represents an event that occurs once every 3-5 years - D1 (Moderate Drought) - represents an event that occurs every 5-10 years - D2 (Severe Drought) - represents an event that occurs every 10-20 years - D3 (Extreme Drought) - represents an event that occurs every 20-25 years - D4 (Exceptional Drought) - represents an event that occurs every 50 years. For more information, visit: https://open.canada.ca/data/en/dataset/292646cd-619f-4200-afb1-8b2c52f984a2
Single Fused Map Cache: false
Extent:
XMin: -1.56980635866E7
YMin: 5116257.891900003
XMax: -5853063.5866
YMax: 1.7926257891900003E7
Spatial Reference: 102100
(3857)
LatestVCSWkid(0)
Initial Extent:
XMin: -1.56980635866E7
YMin: 5116257.891900003
XMax: -5853063.5866
YMax: 1.7926257891900003E7
Spatial Reference: 102100
(3857)
LatestVCSWkid(0)
Full Extent:
XMin: -1.56980635866E7
YMin: 5116257.891900003
XMax: -5853063.5866
YMax: 1.7926257891900003E7
Spatial Reference: 102100
(3857)
LatestVCSWkid(0)
Time Info:
Start Time Field: dateEnd
End Time Field: dateEnd
Time Extent:
[2002/11/28 12:00:00 UTC, 2026/08/28 12:00:00 UTC]
Time Reference:
N/A
Pixel Size X: 5000.0
Pixel Size Y: 5000.0
Band Count: 1
Pixel Type: S8
RasterFunction Infos: {"rasterFunctionInfos": [
{
"name": "canadian_drought_monitor",
"description": "Remap and Attribute Table raster functions",
"help": ""
},
{
"name": "cdm_drought_change",
"description": "A raster function template.",
"help": ""
},
{
"name": "None",
"description": "",
"help": ""
}
]}
Mensuration Capabilities: Basic
Has Histograms: false
Has Colormap: false
Has Multi Dimensions : false
Rendering Rule:
Min Scale: 0
Max Scale: 0
Copyright Text: Agriculture and Agri-Food Canada
Service Data Type: esriImageServiceDataTypeGeneric
Min Values: N/A
Max Values: N/A
Mean Values: N/A
Standard Deviation Values: N/A
Object ID Field: OBJECTID
Fields:
-
OBJECTID
(
type: esriFieldTypeOID, alias: OBJECTID
)
-
Shape
(
type: esriFieldTypeGeometry, alias: Shape
)
-
Name
(
type: esriFieldTypeString, alias: Name, length: 200
)
-
MinPS
(
type: esriFieldTypeDouble, alias: MinPS
)
-
MaxPS
(
type: esriFieldTypeDouble, alias: MaxPS
)
-
LowPS
(
type: esriFieldTypeDouble, alias: LowPS
)
-
HighPS
(
type: esriFieldTypeDouble, alias: HighPS
)
-
Category
(
type: esriFieldTypeInteger, alias: Category
, Coded Values:
[0: Unknown]
, [1: Primary]
, [2: Overview]
, ...6 more...
)
-
Tag
(
type: esriFieldTypeString, alias: Tag, length: 100
)
-
GroupName
(
type: esriFieldTypeString, alias: GroupName, length: 100
)
-
ProductName
(
type: esriFieldTypeString, alias: ProductName, length: 100
)
-
CenterX
(
type: esriFieldTypeDouble, alias: CenterX
)
-
CenterY
(
type: esriFieldTypeDouble, alias: CenterY
)
-
ZOrder
(
type: esriFieldTypeInteger, alias: ZOrder
)
-
Shape_Length
(
type: esriFieldTypeDouble, alias: Shape_Length
)
-
Shape_Area
(
type: esriFieldTypeDouble, alias: Shape_Area
)
-
dateEnd
(
type: esriFieldTypeDate, alias: dateEnd, length: 8
)
Default Mosaic Method: ByAttribute
Allowed Mosaic Methods: ByAttribute,None,LockRaster
SortField: dateEnd
SortValue: 3000
Mosaic Operator: First
Default Compression Quality: 75
Default Resampling Method: Nearest
Max Record Count: 1000
Max Image Height: 4100
Max Image Width: 15000
Max Download Image Count: 20
Max Mosaic Image Count: 1
Allow Raster Function: true
Allow Copy: true
Allow Analysis: true
Allow Compute TiePoints: false
Supports Statistics: true
Supports Advanced Queries: true
Use StandardizedQueries: true
Raster Type Infos:
Name: Raster Dataset
Description: Supports all ArcGIS Raster Datasets
Help:
Has Raster Attribute Table: false
Edit Fields Info: null
Ownership Based AccessControl For Rasters: null
Child Resources:
Info
Statistics
Key Properties
Legend
Raster Function Infos
Supported Operations:
Export Image
Query
Identify
Measure
Compute Histograms
Compute Statistics Histograms
Get Samples
Compute Class Statistics
Query Boundary
Compute Pixel Location
Compute Angles
Validate
Project