View In:
ArcGIS JavaScript
ArcGIS Online Map Viewer
ArcGIS Earth
Service Description: Dry spell periods are defined as a count of the number of days within the date range where daily precipitation was less than 0.5 mm. Consecutive days below 0.5 mm is a count of the number of days, starting from the date of the product and going back in time, since there has been a day with precipitation of at least 0.5 mm. This is not an accumulation of precipitation, simply a count of days. Dry spell products are only produced during the Growing Season, April 1 through October 31. For more information, visit: https://open.canada.ca/data/en/dataset/87528e87-9246-49cf-b539-2dba941d4931
Name: agclimate/dry_spell
Description: Dry spell periods are defined as a count of the number of days within the date range where daily precipitation was less than 0.5 mm. Consecutive days below 0.5 mm is a count of the number of days, starting from the date of the product and going back in time, since there has been a day with precipitation of at least 0.5 mm. This is not an accumulation of precipitation, simply a count of days. Dry spell products are only produced during the Growing Season, April 1 through October 31. For more information, visit: https://open.canada.ca/data/en/dataset/87528e87-9246-49cf-b539-2dba941d4931
Single Fused Map Cache: false
Extent:
XMin: -1.51691624019E7
YMin: 4170057.260800004
XMax: -5808162.401900001
YMax: 8816057.260800004
Spatial Reference: 102100
(3857)
LatestVCSWkid(0)
Initial Extent:
XMin: -1.51691624019E7
YMin: 4170057.260800004
XMax: -5808162.401900001
YMax: 8816057.260800004
Spatial Reference: 102100
(3857)
LatestVCSWkid(0)
Full Extent:
XMin: -1.51691624019E7
YMin: 4170057.260800004
XMax: -5808162.401900001
YMax: 8816057.260800004
Spatial Reference: 102100
(3857)
LatestVCSWkid(0)
Time Info:
Start Time Field: dateEnd
End Time Field: dateEnd
Time Extent:
[2013/04/01 12:00:00 UTC, 2026/09/17 12:00:00 UTC]
Time Reference:
N/A
Pixel Size X: 1000.0
Pixel Size Y: 1000.0
Band Count: 1
Pixel Type: U8
RasterFunction Infos: {"rasterFunctionInfos": [
{
"name": "ds_gs",
"description": "Growing season days with precipitation below 0.5 mm",
"help": ""
},
{
"name": "ds_30",
"description": "Days with precipitation below 0.5 mm - 30 days",
"help": ""
},
{
"name": "ds_60",
"description": "Days with precipitation below 0.5 mm - 60 days",
"help": ""
},
{
"name": "ds_90",
"description": "Days with precipitation below 0.5 mm - 90 days",
"help": ""
},
{
"name": "ds_cc",
"description": "Consecutive days with precipitation below 0.5 mm",
"help": ""
},
{
"name": "None",
"description": "",
"help": ""
}
]}
Mensuration Capabilities: Basic
Has Histograms: false
Has Colormap: false
Has Multi Dimensions : false
Rendering Rule:
Min Scale: 0
Max Scale: 0
Copyright Text: Agriculture and Agri-Food Canada
Service Data Type: esriImageServiceDataTypeGeneric
Min Values: N/A
Max Values: N/A
Mean Values: N/A
Standard Deviation Values: N/A
Object ID Field: OBJECTID
Fields:
-
OBJECTID
(
type: esriFieldTypeOID, alias: OBJECTID
)
-
Shape
(
type: esriFieldTypeGeometry, alias: Shape
)
-
Name
(
type: esriFieldTypeString, alias: Name, length: 200
)
-
MinPS
(
type: esriFieldTypeDouble, alias: MinPS
)
-
MaxPS
(
type: esriFieldTypeDouble, alias: MaxPS
)
-
LowPS
(
type: esriFieldTypeDouble, alias: LowPS
)
-
HighPS
(
type: esriFieldTypeDouble, alias: HighPS
)
-
Category
(
type: esriFieldTypeInteger, alias: Category
, Coded Values:
[0: Unknown]
, [1: Primary]
, [2: Overview]
, ...6 more...
)
-
Tag
(
type: esriFieldTypeString, alias: Tag, length: 100
)
-
GroupName
(
type: esriFieldTypeString, alias: GroupName, length: 100
)
-
ProductName
(
type: esriFieldTypeString, alias: ProductName, length: 100
)
-
CenterX
(
type: esriFieldTypeDouble, alias: CenterX
)
-
CenterY
(
type: esriFieldTypeDouble, alias: CenterY
)
-
ZOrder
(
type: esriFieldTypeInteger, alias: ZOrder
)
-
Shape_Length
(
type: esriFieldTypeDouble, alias: Shape_Length
)
-
Shape_Area
(
type: esriFieldTypeDouble, alias: Shape_Area
)
-
dateEnd
(
type: esriFieldTypeDate, alias: dateEnd, length: 8
)
-
tType
(
type: esriFieldTypeString, alias: tType, length: 30
)
Default Mosaic Method: ByAttribute
Allowed Mosaic Methods: ByAttribute,None,LockRaster
SortField: dateEnd
SortValue: 3000
Mosaic Operator: First
Default Compression Quality: 75
Default Resampling Method: Bilinear
Max Record Count: 1000
Max Image Height: 4100
Max Image Width: 15000
Max Download Image Count: 20
Max Mosaic Image Count: 1
Allow Raster Function: true
Allow Copy: true
Allow Analysis: true
Allow Compute TiePoints: false
Supports Statistics: true
Supports Advanced Queries: true
Use StandardizedQueries: true
Raster Type Infos:
Name: Raster Dataset
Description: Supports all ArcGIS Raster Datasets
Help:
Has Raster Attribute Table: false
Edit Fields Info: null
Ownership Based AccessControl For Rasters: null
Child Resources:
Info
Statistics
Key Properties
Legend
Raster Function Infos
Supported Operations:
Export Image
Query
Identify
Measure
Compute Histograms
Compute Statistics Histograms
Get Samples
Compute Class Statistics
Query Boundary
Compute Pixel Location
Compute Angles
Validate
Project