View In:
ArcGIS JavaScript
ArcGIS Online Map Viewer
ArcGIS Earth
Service Description: L'indice mixte (IM) est un modèle qui utilise de multiples indicateurs potentiels de sécheresse et d'humidité excessive (comme les valeurs de Palmer, les quantités de précipitations courantes et l'humidité du sol, notamment) et les combine en une valeur pondérée et normalisée située entre 0 et 100. Les intrants et la pondération utilisés dans ce modèle sont sujets à changement de temps à autre, car ils sont optimisésde façon à représenter au mieux l'étendue, la durée et la gravité des conditions météorologiques qui ont un effet. Pour plus d'information, consulter : https://ouvert.canada.ca/data/fr/dataset/07875f11-c342-4450-bdaa-0cdeaf43c0c9 (Court terme), https://ouvert.canada.ca/data/fr/dataset/b1c73404-1aee-4a59-ad5d-eda7db046676 (Long terme)
Name: agclimat/indice_mixte
Description: L'indice mixte (IM) est un modèle qui utilise de multiples indicateurs potentiels de sécheresse et d'humidité excessive (comme les valeurs de Palmer, les quantités de précipitations courantes et l'humidité du sol, notamment) et les combine en une valeur pondérée et normalisée située entre 0 et 100. Les intrants et la pondération utilisés dans ce modèle sont sujets à changement de temps à autre, car ils sont optimisésde façon à représenter au mieux l'étendue, la durée et la gravité des conditions météorologiques qui ont un effet. Pour plus d'information, consulter : https://ouvert.canada.ca/data/fr/dataset/07875f11-c342-4450-bdaa-0cdeaf43c0c9 (Court terme), https://ouvert.canada.ca/data/fr/dataset/b1c73404-1aee-4a59-ad5d-eda7db046676 (Long terme)
Single Fused Map Cache: false
Extent:
XMin: -1.51694839809E7
YMin: 4166831.1998000033
XMax: -5809483.980900001
YMax: 8816831.199800003
Spatial Reference: 102100
(3857)
LatestVCSWkid(0)
Initial Extent:
XMin: -1.51694839809E7
YMin: 4166831.1998000033
XMax: -5809483.980900001
YMax: 8816831.199800003
Spatial Reference: 102100
(3857)
LatestVCSWkid(0)
Full Extent:
XMin: -1.51694839809E7
YMin: 4166831.1998000033
XMax: -5809483.980900001
YMax: 8816831.199800003
Spatial Reference: 102100
(3857)
LatestVCSWkid(0)
Time Info:
Start Time Field: dateEnd
End Time Field: dateEnd
Time Extent:
[2016/05/31 12:00:00 UTC, 2026/09/14 12:00:00 UTC]
Time Reference:
N/A
Pixel Size X: 5000.0
Pixel Size Y: 5000.0
Band Count: 1
Pixel Type: F32
RasterFunction Infos: {"rasterFunctionInfos": [
{
"name": "bi",
"description": "Indice mixte",
"help": ""
},
{
"name": "None",
"description": "",
"help": ""
}
]}
Mensuration Capabilities: Basic
Has Histograms: false
Has Colormap: false
Has Multi Dimensions : false
Rendering Rule:
Min Scale: 0
Max Scale: 0
Copyright Text: Agriculture et Agroalimentaire Canada
Service Data Type: esriImageServiceDataTypeGeneric
Min Values: N/A
Max Values: N/A
Mean Values: N/A
Standard Deviation Values: N/A
Object ID Field: OBJECTID
Fields:
-
OBJECTID
(
type: esriFieldTypeOID, alias: OBJECTID
)
-
Shape
(
type: esriFieldTypeGeometry, alias: Shape
)
-
Name
(
type: esriFieldTypeString, alias: Name, length: 200
)
-
MinPS
(
type: esriFieldTypeDouble, alias: MinPS
)
-
MaxPS
(
type: esriFieldTypeDouble, alias: MaxPS
)
-
LowPS
(
type: esriFieldTypeDouble, alias: LowPS
)
-
HighPS
(
type: esriFieldTypeDouble, alias: HighPS
)
-
Category
(
type: esriFieldTypeInteger, alias: Category
, Coded Values:
[0: Unknown]
, [1: Primary]
, [2: Overview]
, ...6 more...
)
-
Tag
(
type: esriFieldTypeString, alias: Tag, length: 100
)
-
GroupName
(
type: esriFieldTypeString, alias: GroupName, length: 100
)
-
ProductName
(
type: esriFieldTypeString, alias: ProductName, length: 100
)
-
CenterX
(
type: esriFieldTypeDouble, alias: CenterX
)
-
CenterY
(
type: esriFieldTypeDouble, alias: CenterY
)
-
ZOrder
(
type: esriFieldTypeInteger, alias: ZOrder
)
-
Shape_Length
(
type: esriFieldTypeDouble, alias: Shape_Length
)
-
Shape_Area
(
type: esriFieldTypeDouble, alias: Shape_Area
)
-
dateEnd
(
type: esriFieldTypeDate, alias: dateEnd, length: 8
)
-
tType
(
type: esriFieldTypeString, alias: tType, length: 30
)
Default Mosaic Method: ByAttribute
Allowed Mosaic Methods: ByAttribute,None,LockRaster
SortField: dateEnd
SortValue: 3000
Mosaic Operator: First
Default Compression Quality: 75
Default Resampling Method: Bilinear
Max Record Count: 1000
Max Image Height: 4100
Max Image Width: 15000
Max Download Image Count: 20
Max Mosaic Image Count: 1
Allow Raster Function: true
Allow Copy: true
Allow Analysis: true
Allow Compute TiePoints: false
Supports Statistics: true
Supports Advanced Queries: true
Use StandardizedQueries: true
Raster Type Infos:
Name: Raster Dataset
Description: Supports all ArcGIS Raster Datasets
Help:
Has Raster Attribute Table: false
Edit Fields Info: null
Ownership Based AccessControl For Rasters: null
Child Resources:
Info
Statistics
Key Properties
Legend
Raster Function Infos
Supported Operations:
Export Image
Query
Identify
Measure
Compute Histograms
Compute Statistics Histograms
Get Samples
Compute Class Statistics
Query Boundary
Compute Pixel Location
Compute Angles
Validate
Project