View In:
ArcGIS JavaScript
ArcGIS Online Map Viewer
ArcGIS Earth
Service Description: L'écart par rapport aux produits de précipitations moyennes calcule la valeur des précipitations accumulées pour un endroit donné et défalque de cette valeur la valeur moyenne à long terme à cet endroit. La valeur moyenne à long terme se définit actuellement comme la hauteur moyenne sur la période de 1981 à 2010. Si la valeur résultante est négative, cela indique que l'emplacement a reçu moins que la hauteur habituelle de précipitations pour cette période, dans la mesure indiquée en mm; inversement, une hauteur positive indique que l' endroit a reçu plus que la hauteur habituelle de précipitations. Les produits sont générés pour les périodes suivantes : L'année agricole, la saison de croissance et la saison hivernale ainsi que les produits roulants pour les jours 30, 60, 90, 180, 270, 365, 730, 1095, 1460 et 1825. Ces valeurs visent à donner aux utilisateurs uneidée générale de la façon dont la hauteur de précipitations reçue dans une région sur une période donnée se compare à la hauteur généralement enregistrée. Pour plus d'information, consulter : https://ouvert.canada.ca/data/fr/dataset/7b817d93-f34d-4aa8-8658-d9abe9d84a8f
Name: agclimat/ecart_par_rapport_aux_precipitations_moyennes
Description: L'écart par rapport aux produits de précipitations moyennes calcule la valeur des précipitations accumulées pour un endroit donné et défalque de cette valeur la valeur moyenne à long terme à cet endroit. La valeur moyenne à long terme se définit actuellement comme la hauteur moyenne sur la période de 1981 à 2010. Si la valeur résultante est négative, cela indique que l'emplacement a reçu moins que la hauteur habituelle de précipitations pour cette période, dans la mesure indiquée en mm; inversement, une hauteur positive indique que l' endroit a reçu plus que la hauteur habituelle de précipitations. Les produits sont générés pour les périodes suivantes : L'année agricole, la saison de croissance et la saison hivernale ainsi que les produits roulants pour les jours 30, 60, 90, 180, 270, 365, 730, 1095, 1460 et 1825. Ces valeurs visent à donner aux utilisateurs uneidée générale de la façon dont la hauteur de précipitations reçue dans une région sur une période donnée se compare à la hauteur généralement enregistrée. Pour plus d'information, consulter : https://ouvert.canada.ca/data/fr/dataset/7b817d93-f34d-4aa8-8658-d9abe9d84a8f
Single Fused Map Cache: false
Extent:
XMin: -1.51691624019E7
YMin: 4170057.261000002
XMax: -5807162.401900001
YMax: 8816057.261000002
Spatial Reference: 102100
(3857)
LatestVCSWkid(0)
Initial Extent:
XMin: -1.51691624019E7
YMin: 4170057.261000002
XMax: -5807162.401900001
YMax: 8816057.261000002
Spatial Reference: 102100
(3857)
LatestVCSWkid(0)
Full Extent:
XMin: -1.51691624019E7
YMin: 4170057.261000002
XMax: -5807162.401900001
YMax: 8816057.261000002
Spatial Reference: 102100
(3857)
LatestVCSWkid(0)
Time Info:
Start Time Field: dateEnd
End Time Field: dateEnd
Time Extent:
[2013/04/01 12:00:00 UTC, 2026/09/17 12:00:00 UTC]
Time Reference:
N/A
Pixel Size X: 1000.0
Pixel Size Y: 1000.0
Band Count: 1
Pixel Type: F32
RasterFunction Infos: {"rasterFunctionInfos": [
{
"name": "dnp_ay",
"description": "Année agricole - 1 septembre au 1 août (mm)",
"help": ""
},
{
"name": "dnp_1095",
"description": "1095 jours (mm) ",
"help": ""
},
{
"name": "dnp_1460",
"description": "1460 jours (mm) ",
"help": ""
},
{
"name": "dnp_180",
"description": "180 jours (mm) ",
"help": ""
},
{
"name": "dnp_1825",
"description": "1825 jours (mm) ",
"help": ""
},
{
"name": "dnp_270",
"description": "270 jours (mm) ",
"help": ""
},
{
"name": "dnp_30",
"description": "30 jours (mm) ",
"help": ""
},
{
"name": "dnp_365",
"description": "365 jours (mm) ",
"help": ""
},
{
"name": "dnp_60",
"description": "60 jours (mm) ",
"help": ""
},
{
"name": "dnp_730",
"description": "730 jours (mm) ",
"help": ""
},
{
"name": "dnp_90",
"description": "90 jours (mm) ",
"help": ""
},
{
"name": "dnp_gs",
"description": "Saison de croissance - 1 avril au 31 octobre (mm)",
"help": ""
},
{
"name": "dnp_wi",
"description": "Saison de d'hiver - 1 novembre au 31 mars (mm)",
"help": ""
},
{
"name": "None",
"description": "",
"help": ""
}
]}
Mensuration Capabilities: Basic
Has Histograms: false
Has Colormap: false
Has Multi Dimensions : false
Rendering Rule:
Min Scale: 0
Max Scale: 0
Copyright Text: Agriculture et Agroalimentaire Canada
Service Data Type: esriImageServiceDataTypeGeneric
Min Values: N/A
Max Values: N/A
Mean Values: N/A
Standard Deviation Values: N/A
Object ID Field: OBJECTID
Fields:
-
OBJECTID
(
type: esriFieldTypeOID, alias: OBJECTID
)
-
Shape
(
type: esriFieldTypeGeometry, alias: Shape
)
-
Name
(
type: esriFieldTypeString, alias: Name, length: 200
)
-
MinPS
(
type: esriFieldTypeDouble, alias: MinPS
)
-
MaxPS
(
type: esriFieldTypeDouble, alias: MaxPS
)
-
LowPS
(
type: esriFieldTypeDouble, alias: LowPS
)
-
HighPS
(
type: esriFieldTypeDouble, alias: HighPS
)
-
Category
(
type: esriFieldTypeInteger, alias: Category
, Coded Values:
[0: Unknown]
, [1: Primary]
, [2: Overview]
, ...6 more...
)
-
Tag
(
type: esriFieldTypeString, alias: Tag, length: 100
)
-
GroupName
(
type: esriFieldTypeString, alias: GroupName, length: 100
)
-
ProductName
(
type: esriFieldTypeString, alias: ProductName, length: 100
)
-
CenterX
(
type: esriFieldTypeDouble, alias: CenterX
)
-
CenterY
(
type: esriFieldTypeDouble, alias: CenterY
)
-
ZOrder
(
type: esriFieldTypeInteger, alias: ZOrder
)
-
Shape_Length
(
type: esriFieldTypeDouble, alias: Shape_Length
)
-
Shape_Area
(
type: esriFieldTypeDouble, alias: Shape_Area
)
-
dateEnd
(
type: esriFieldTypeDate, alias: dateEnd, length: 8
)
-
tType
(
type: esriFieldTypeString, alias: tType, length: 30
)
Default Mosaic Method: ByAttribute
Allowed Mosaic Methods: ByAttribute,None,LockRaster
SortField: dateEnd
SortValue: 3000
Mosaic Operator: First
Default Compression Quality: 75
Default Resampling Method: Bilinear
Max Record Count: 1000
Max Image Height: 4100
Max Image Width: 15000
Max Download Image Count: 20
Max Mosaic Image Count: 1
Allow Raster Function: true
Allow Copy: true
Allow Analysis: true
Allow Compute TiePoints: false
Supports Statistics: true
Supports Advanced Queries: true
Use StandardizedQueries: true
Raster Type Infos:
Name: Raster Dataset
Description: Supports all ArcGIS Raster Datasets
Help:
Has Raster Attribute Table: false
Edit Fields Info: null
Ownership Based AccessControl For Rasters: null
Child Resources:
Info
Statistics
Key Properties
Legend
Raster Function Infos
Supported Operations:
Export Image
Query
Identify
Measure
Compute Histograms
Compute Statistics Histograms
Get Samples
Compute Class Statistics
Query Boundary
Compute Pixel Location
Compute Angles
Validate
Project