{
 "currentVersion": 11.1,
 "serviceDescription": "La série sur l'utilisation des terres d'AAC (2015) représenteune méta-analyse culminante et organisée de plusieurs ensembles de données spatiales de haute qualitéproduits entre 1990 et 2021 par diverses méthodes employées par des équipes de chercheurs au gréde l'évolution des techniques et des capacités. L'information des ensembles de données d'entrée a été regroupée et intégrée àchaque pixel de 30 x 30 m pour composer des historiques sur pixels et dégager des milliers de combinaisons uniques de données prêtes à être examinées avec soin. Au moyen de nombreuses sources de données probantes de grande qualitéet d'observations visuelles d'imagerie Google Earth, nous appliquons une stratégie progressive pour parvenir à la meilleure compréhension cohérente et actuelle de ce qui s'est passé dans chaque pixel pendant la série chronologique.La série sur l'utilisation des terres d'AAC (2015) été élaborées en réponse au besoin de disposer de données cartographiques explicites, de grande précision et de haute résolution sur l'utilisation des terres aux fins des engagements d'AAC en matière de rapports nationaux et internationaux. Pour plus d'information, consulter : https://ouvert.canada.ca/data/fr/dataset/fa84a70f-03ad-4946-b0f8-a3b481dd5248",
 "name": "utilisation_des_terres_30m/2015",
 "description": "La série sur l'utilisation des terres d'AAC (2015) représenteune méta-analyse culminante et organisée de plusieurs ensembles de données spatiales de haute qualitéproduits entre 1990 et 2021 par diverses méthodes employées par des équipes de chercheurs au gréde l'évolution des techniques et des capacités. L'information des ensembles de données d'entrée a été regroupée et intégrée àchaque pixel de 30 x 30 m pour composer des historiques sur pixels et dégager des milliers de combinaisons uniques de données prêtes à être examinées avec soin. Au moyen de nombreuses sources de données probantes de grande qualitéet d'observations visuelles d'imagerie Google Earth, nous appliquons une stratégie progressive pour parvenir à la meilleure compréhension cohérente et actuelle de ce qui s'est passé dans chaque pixel pendant la série chronologique.La série sur l'utilisation des terres d'AAC (2015) été élaborées en réponse au besoin de disposer de données cartographiques explicites, de grande précision et de haute résolution sur l'utilisation des terres aux fins des engagements d'AAC en matière de rapports nationaux et internationaux. Pour plus d'information, consulter : https://ouvert.canada.ca/data/fr/dataset/fa84a70f-03ad-4946-b0f8-a3b481dd5248",
 "extent": {
  "xmin": -1.54856528298E7,
  "ymin": 5105201.644299999,
  "xmax": -5783982.8298,
  "ymax": 8422331.644299999,
  "spatialReference": {
   "wkid": 102100,
   "latestWkid": 3857
  }
 },
 "initialExtent": {
  "xmin": -1.54856528298E7,
  "ymin": 5105201.644299999,
  "xmax": -5783982.8298,
  "ymax": 8422331.644299999,
  "spatialReference": {
   "wkid": 102100,
   "latestWkid": 3857
  }
 },
 "fullExtent": {
  "xmin": -1.54856528298E7,
  "ymin": 5105201.644299999,
  "xmax": -5783982.8298,
  "ymax": 8422331.644299999,
  "spatialReference": {
   "wkid": 102100,
   "latestWkid": 3857
  }
 },
 "sortableFields": "MinPS,MaxPS,LowPS,HighPS,CenterX,CenterY,ZOrder,Shape_Length,Shape_Area",
 "bandCount": 1,
 "pixelType": "S8",
 "minValues": [
  21
 ],
 "maxValues": [
  91
 ],
 "meanValues": [
  45.1630188991123
 ],
 "stdvValues": [
  14.918834266462563
 ],
 "hasMultidimensions": false,
 "pixelSizeX": 30,
 "pixelSizeY": 30,
 "datasetFormat": "AMD",
 "uncompressedSize": 35757445119,
 "blockWidth": 2048,
 "blockHeight": 256,
 "compressionType": "None",
 "bandNames": [
  "Band_1"
 ],
 "allowCopy": true,
 "allowAnalysis": true,
 "itemAccess": false,
 "minPixelSize": 0,
 "maxPixelSize": 0,
 "copyrightText": "Agriculture et Agroalimentaire Canada",
 "serviceDataType": "esriImageServiceDataTypeThematic",
 "serviceSourceType": "esriImageServiceSourceTypeMosaicDataset",
 "objectIdField": "OBJECTID",
 "fields": [
  {
   "name": "OBJECTID",
   "type": "esriFieldTypeOID",
   "alias": "OBJECTID",
   "domain": null
  },
  {
   "name": "Shape",
   "type": "esriFieldTypeGeometry",
   "alias": "Shape",
   "domain": null
  },
  {
   "name": "Name",
   "type": "esriFieldTypeString",
   "alias": "Name",
   "domain": null,
   "length": 200
  },
  {
   "name": "MinPS",
   "type": "esriFieldTypeDouble",
   "alias": "MinPS",
   "domain": null
  },
  {
   "name": "MaxPS",
   "type": "esriFieldTypeDouble",
   "alias": "MaxPS",
   "domain": null
  },
  {
   "name": "LowPS",
   "type": "esriFieldTypeDouble",
   "alias": "LowPS",
   "domain": null
  },
  {
   "name": "HighPS",
   "type": "esriFieldTypeDouble",
   "alias": "HighPS",
   "domain": null
  },
  {
   "name": "Category",
   "type": "esriFieldTypeInteger",
   "alias": "Category",
   "domain": {
    "type": "codedValue",
    "name": "MosaicCatalogItemCategoryDomain",
    "description": "Catalog item categories.",
    "codedValues": [
     {
      "name": "Unknown",
      "code": 0
     },
     {
      "name": "Primary",
      "code": 1
     },
     {
      "name": "Overview",
      "code": 2
     },
     {
      "name": "Unprocessed Overview",
      "code": 3
     },
     {
      "name": "Partial Overview",
      "code": 4
     },
     {
      "name": "Inactive",
      "code": 5
     },
     {
      "name": "Uploaded",
      "code": 253
     },
     {
      "name": "Incomplete",
      "code": 254
     },
     {
      "name": "Custom",
      "code": 255
     }
    ],
    "mergePolicy": "esriMPTDefaultValue",
    "splitPolicy": "esriSPTDefaultValue"
   }
  },
  {
   "name": "Tag",
   "type": "esriFieldTypeString",
   "alias": "Tag",
   "domain": null,
   "length": 100
  },
  {
   "name": "GroupName",
   "type": "esriFieldTypeString",
   "alias": "GroupName",
   "domain": null,
   "length": 100
  },
  {
   "name": "ProductName",
   "type": "esriFieldTypeString",
   "alias": "ProductName",
   "domain": null,
   "length": 100
  },
  {
   "name": "CenterX",
   "type": "esriFieldTypeDouble",
   "alias": "CenterX",
   "domain": null
  },
  {
   "name": "CenterY",
   "type": "esriFieldTypeDouble",
   "alias": "CenterY",
   "domain": null
  },
  {
   "name": "ZOrder",
   "type": "esriFieldTypeInteger",
   "alias": "ZOrder",
   "domain": null
  },
  {
   "name": "Shape_Length",
   "type": "esriFieldTypeDouble",
   "alias": "Shape_Length",
   "domain": null
  },
  {
   "name": "Shape_Area",
   "type": "esriFieldTypeDouble",
   "alias": "Shape_Area",
   "domain": null
  }
 ],
 "capabilities": "Image,Metadata,Catalog,Mensuration",
 "defaultMosaicMethod": "Northwest",
 "allowedMosaicMethods": "NorthWest,None,Center,LockRaster,ByAttribute,Nadir,Viewpoint,Seamline",
 "sortField": "",
 "sortValue": null,
 "sortAscending": true,
 "mosaicOperator": "First",
 "maxDownloadSizeLimit": 2048,
 "defaultCompressionQuality": 75,
 "defaultResamplingMethod": "Nearest",
 "maxImageHeight": 70000,
 "maxImageWidth": 70000,
 "maxRecordCount": 1000,
 "maxDownloadImageCount": 20,
 "maxMosaicImageCount": 20,
 "allowRasterFunction": true,
 "rasterFunctionInfos": [
  {
   "name": "utilisation_des_terres_30m",
   "description": "Utilisation des terres combinée Remap and Attribute Table raster functions, Version 5.",
   "help": ""
  },
  {
   "name": "utilisation_des_terres_30m_simplifiee",
   "description": "Utilisation des terres simplifiée Remap and Attribute Table raster functions, Version 5.",
   "help": ""
  },
  {
   "name": "None",
   "description": "",
   "help": ""
  }
 ],
 "rasterTypeInfos": [
  {
   "name": "Raster Dataset",
   "description": "Supports all ArcGIS Raster Datasets",
   "help": ""
  }
 ],
 "mensurationCapabilities": "Basic",
 "hasHistograms": true,
 "hasColormap": false,
 "hasRasterAttributeTable": false,
 "minScale": 0,
 "maxScale": 0,
 "exportTilesAllowed": false,
 "supportsStatistics": true,
 "supportsAdvancedQueries": true,
 "editFieldsInfo": null,
 "ownershipBasedAccessControlForRasters": null,
 "allowComputeTiePoints": false,
 "useStandardizedQueries": true,
 "advancedQueryCapabilities": {
  "useStandardizedQueries": true,
  "supportsStatistics": true,
  "supportsOrderBy": true,
  "supportsDistinct": true,
  "supportsPagination": true
 },
 "spatialReference": {
  "wkid": 102100,
  "latestWkid": 3857
 }
}
