{
 "currentVersion": 11.1,
 "serviceDescription": "L'Outil de surveillance des sécheresses au Canada (OSSC) est un produit composite élaboré à partir d'une vaste gamme de renseignements, comme l'indice de végétation par différence normalisée (IVDN), les valeurs de débit d'eau, l'indice Palmer de gravité de la sécheresse et les indices de sécheresse utilisés par les secteurs de l'agriculture, des forêts et de la gestion de l'eau. Les régions susceptibles d'être touchées par la sécheresse sont analysées en fonction des cartes sur les précipitations, la température, l'indice de modélisation des sécheresses ainsi que les données climatiques, et les résultats sont interprétés par des scientifiques fédéraux, provinciaux et universitaires. Une fois par mois, habituellement avant le 10 du mois courant, le Service national d'information sur l'agroclimat (SNIA) d'Agriculture et Agroalimentaire Canada met à jour la série de données avec celles correspondant à la fin du mois précédent; il verse ensuite ces données dans la grande base de surveillance des sécheresses de l'Amérique du Nord (NA-DM, North American Drought Monitor). Les zones de sécheresse sont classées comme suit : - D0 (temps anormalement sec) - représente une situation qui survient une fois tous les trois à cinq ans - D1 (sécheresse modérée) - représente une situation qui survient tous les cinq à dix ans - D2 (sécheresse grave) - représente une situation qui survient tous les 10 à 20 ans - D3 (sécheresse extrême) - représente une situation qui survient tous les 20 à 25 ans - D4 (sécheresse exceptionnelle) - représente une situation qui survient tous les 50 ans. Pour plus d'information, consulter : https://ouvert.canada.ca/data/fr/dataset/292646cd-619f-4200-afb1-8b2c52f984a2",
 "name": "surveillance_des_secheresses_au_canada",
 "description": "L'Outil de surveillance des sécheresses au Canada (OSSC) est un produit composite élaboré à partir d'une vaste gamme de renseignements, comme l'indice de végétation par différence normalisée (IVDN), les valeurs de débit d'eau, l'indice Palmer de gravité de la sécheresse et les indices de sécheresse utilisés par les secteurs de l'agriculture, des forêts et de la gestion de l'eau. Les régions susceptibles d'être touchées par la sécheresse sont analysées en fonction des cartes sur les précipitations, la température, l'indice de modélisation des sécheresses ainsi que les données climatiques, et les résultats sont interprétés par des scientifiques fédéraux, provinciaux et universitaires. Une fois par mois, habituellement avant le 10 du mois courant, le Service national d'information sur l'agroclimat (SNIA) d'Agriculture et Agroalimentaire Canada met à jour la série de données avec celles correspondant à la fin du mois précédent; il verse ensuite ces données dans la grande base de surveillance des sécheresses de l'Amérique du Nord (NA-DM, North American Drought Monitor). Les zones de sécheresse sont classées comme suit : - D0 (temps anormalement sec) - représente une situation qui survient une fois tous les trois à cinq ans - D1 (sécheresse modérée) - représente une situation qui survient tous les cinq à dix ans - D2 (sécheresse grave) - représente une situation qui survient tous les 10 à 20 ans - D3 (sécheresse extrême) - représente une situation qui survient tous les 20 à 25 ans - D4 (sécheresse exceptionnelle) - représente une situation qui survient tous les 50 ans. Pour plus d'information, consulter : https://ouvert.canada.ca/data/fr/dataset/292646cd-619f-4200-afb1-8b2c52f984a2",
 "extent": {
  "xmin": -1.56980635866E7,
  "ymin": 5116257.891900003,
  "xmax": -5853063.5866,
  "ymax": 1.7926257891900003E7,
  "spatialReference": {
   "wkid": 102100,
   "latestWkid": 3857
  }
 },
 "initialExtent": {
  "xmin": -1.56980635866E7,
  "ymin": 5116257.891900003,
  "xmax": -5853063.5866,
  "ymax": 1.7926257891900003E7,
  "spatialReference": {
   "wkid": 102100,
   "latestWkid": 3857
  }
 },
 "fullExtent": {
  "xmin": -1.56980635866E7,
  "ymin": 5116257.891900003,
  "xmax": -5853063.5866,
  "ymax": 1.7926257891900003E7,
  "spatialReference": {
   "wkid": 102100,
   "latestWkid": 3857
  }
 },
 "sortableFields": "MinPS,MaxPS,LowPS,HighPS,CenterX,CenterY,ZOrder,Shape_Length,Shape_Area,dateEnd",
 "bandCount": 1,
 "pixelType": "S8",
 "minValues": [],
 "maxValues": [],
 "meanValues": [],
 "stdvValues": [],
 "hasMultidimensions": false,
 "timeInfo": {
  "startTimeField": "dateEnd",
  "endTimeField": "dateEnd",
  "timeExtent": [
   1038484800000,
   1785240000000
  ],
  "timeReference": null
 },
 "pixelSizeX": 5000,
 "pixelSizeY": 5000,
 "datasetFormat": "AMD",
 "uncompressedSize": 5044578,
 "blockWidth": 2048,
 "blockHeight": 256,
 "compressionType": "None",
 "bandNames": [
  "Band_1"
 ],
 "allowCopy": true,
 "allowAnalysis": true,
 "itemAccess": false,
 "minPixelSize": 0,
 "maxPixelSize": 0,
 "copyrightText": "Agriculture et Agroalimentaire Canada",
 "serviceDataType": "esriImageServiceDataTypeGeneric",
 "serviceSourceType": "esriImageServiceSourceTypeMosaicDataset",
 "objectIdField": "OBJECTID",
 "fields": [
  {
   "name": "OBJECTID",
   "type": "esriFieldTypeOID",
   "alias": "OBJECTID",
   "domain": null
  },
  {
   "name": "Shape",
   "type": "esriFieldTypeGeometry",
   "alias": "Shape",
   "domain": null
  },
  {
   "name": "Name",
   "type": "esriFieldTypeString",
   "alias": "Name",
   "domain": null,
   "length": 200
  },
  {
   "name": "MinPS",
   "type": "esriFieldTypeDouble",
   "alias": "MinPS",
   "domain": null
  },
  {
   "name": "MaxPS",
   "type": "esriFieldTypeDouble",
   "alias": "MaxPS",
   "domain": null
  },
  {
   "name": "LowPS",
   "type": "esriFieldTypeDouble",
   "alias": "LowPS",
   "domain": null
  },
  {
   "name": "HighPS",
   "type": "esriFieldTypeDouble",
   "alias": "HighPS",
   "domain": null
  },
  {
   "name": "Category",
   "type": "esriFieldTypeInteger",
   "alias": "Category",
   "domain": {
    "type": "codedValue",
    "name": "MosaicCatalogItemCategoryDomain",
    "description": "Catalog item categories.",
    "codedValues": [
     {
      "name": "Unknown",
      "code": 0
     },
     {
      "name": "Primary",
      "code": 1
     },
     {
      "name": "Overview",
      "code": 2
     },
     {
      "name": "Unprocessed Overview",
      "code": 3
     },
     {
      "name": "Partial Overview",
      "code": 4
     },
     {
      "name": "Inactive",
      "code": 5
     },
     {
      "name": "Uploaded",
      "code": 253
     },
     {
      "name": "Incomplete",
      "code": 254
     },
     {
      "name": "Custom",
      "code": 255
     }
    ],
    "mergePolicy": "esriMPTDefaultValue",
    "splitPolicy": "esriSPTDefaultValue"
   }
  },
  {
   "name": "Tag",
   "type": "esriFieldTypeString",
   "alias": "Tag",
   "domain": null,
   "length": 100
  },
  {
   "name": "GroupName",
   "type": "esriFieldTypeString",
   "alias": "GroupName",
   "domain": null,
   "length": 100
  },
  {
   "name": "ProductName",
   "type": "esriFieldTypeString",
   "alias": "ProductName",
   "domain": null,
   "length": 100
  },
  {
   "name": "CenterX",
   "type": "esriFieldTypeDouble",
   "alias": "CenterX",
   "domain": null
  },
  {
   "name": "CenterY",
   "type": "esriFieldTypeDouble",
   "alias": "CenterY",
   "domain": null
  },
  {
   "name": "ZOrder",
   "type": "esriFieldTypeInteger",
   "alias": "ZOrder",
   "domain": null
  },
  {
   "name": "Shape_Length",
   "type": "esriFieldTypeDouble",
   "alias": "Shape_Length",
   "domain": null
  },
  {
   "name": "Shape_Area",
   "type": "esriFieldTypeDouble",
   "alias": "Shape_Area",
   "domain": null
  },
  {
   "name": "dateEnd",
   "type": "esriFieldTypeDate",
   "alias": "dateEnd",
   "domain": null,
   "length": 8
  }
 ],
 "capabilities": "Image,Metadata,Catalog,Mensuration",
 "defaultMosaicMethod": "ByAttribute",
 "allowedMosaicMethods": "ByAttribute,None,LockRaster",
 "sortField": "dateEnd",
 "sortValue": "3000",
 "sortAscending": true,
 "mosaicOperator": "First",
 "maxDownloadSizeLimit": 2048,
 "defaultCompressionQuality": 75,
 "defaultResamplingMethod": "Nearest",
 "maxImageHeight": 4100,
 "maxImageWidth": 15000,
 "maxRecordCount": 1000,
 "maxDownloadImageCount": 20,
 "maxMosaicImageCount": 1,
 "allowRasterFunction": true,
 "rasterFunctionInfos": [
  {
   "name": "surveillance_des_secheresses_au_canada",
   "description": "Remap and Attribute Table raster functions",
   "help": ""
  },
  {
   "name": "cdm_drought_change",
   "description": "A raster function template.",
   "help": ""
  },
  {
   "name": "None",
   "description": "",
   "help": ""
  }
 ],
 "rasterTypeInfos": [
  {
   "name": "Raster Dataset",
   "description": "Supports all ArcGIS Raster Datasets",
   "help": ""
  }
 ],
 "mensurationCapabilities": "Basic",
 "hasHistograms": false,
 "hasColormap": false,
 "hasRasterAttributeTable": false,
 "minScale": 0,
 "maxScale": 0,
 "exportTilesAllowed": false,
 "supportsStatistics": true,
 "supportsAdvancedQueries": true,
 "editFieldsInfo": null,
 "ownershipBasedAccessControlForRasters": null,
 "allowComputeTiePoints": false,
 "useStandardizedQueries": true,
 "advancedQueryCapabilities": {
  "useStandardizedQueries": true,
  "supportsStatistics": true,
  "supportsOrderBy": true,
  "supportsDistinct": true,
  "supportsPagination": true
 },
 "spatialReference": {
  "wkid": 102100,
  "latestWkid": 3857
 }
}
