<?xml version="1.0" encoding="UTF-8" standalone="no"?>
<metadata xml:lang="en">
<Esri>
<CreaDate>20241216</CreaDate>
<CreaTime>07334000</CreaTime>
<ArcGISFormat>1.0</ArcGISFormat>
<SyncOnce>FALSE</SyncOnce>
<DataProperties>
<itemProps>
<itemName Sync="TRUE">soil_landscape_grids_of_canada_100m_phcacl2.crf</itemName>
<nativeExtBox>
<westBL Sync="TRUE">-18527471.417500</westBL>
<eastBL Sync="TRUE">-2435471.417500</eastBL>
<southBL Sync="TRUE">4937146.469600</southBL>
<northBL Sync="TRUE">18821246.469600</northBL>
<exTypeCode Sync="TRUE">1</exTypeCode>
</nativeExtBox>
<imsContentType Sync="TRUE">002</imsContentType>
</itemProps>
<coordRef>
<type Sync="TRUE">Projected</type>
<geogcsn Sync="TRUE">GCS_WGS_1984</geogcsn>
<csUnits Sync="TRUE">Linear Unit: Meter (1.000000)</csUnits>
<projcsn Sync="TRUE">WGS_1984_Web_Mercator_Auxiliary_Sphere</projcsn>
<peXml Sync="TRUE">&lt;ProjectedCoordinateSystem xsi:type='typens:ProjectedCoordinateSystem' xmlns:xsi='http://www.w3.org/2001/XMLSchema-instance' xmlns:xs='http://www.w3.org/2001/XMLSchema' xmlns:typens='http://www.esri.com/schemas/ArcGIS/3.4.0'&gt;&lt;WKT&gt;PROJCS[&amp;quot;WGS_1984_Web_Mercator_Auxiliary_Sphere&amp;quot;,GEOGCS[&amp;quot;GCS_WGS_1984&amp;quot;,DATUM[&amp;quot;D_WGS_1984&amp;quot;,SPHEROID[&amp;quot;WGS_1984&amp;quot;,6378137.0,298.257223563]],PRIMEM[&amp;quot;Greenwich&amp;quot;,0.0],UNIT[&amp;quot;Degree&amp;quot;,0.0174532925199433]],PROJECTION[&amp;quot;Mercator_Auxiliary_Sphere&amp;quot;],PARAMETER[&amp;quot;False_Easting&amp;quot;,0.0],PARAMETER[&amp;quot;False_Northing&amp;quot;,0.0],PARAMETER[&amp;quot;Central_Meridian&amp;quot;,0.0],PARAMETER[&amp;quot;Standard_Parallel_1&amp;quot;,0.0],PARAMETER[&amp;quot;Auxiliary_Sphere_Type&amp;quot;,0.0],UNIT[&amp;quot;Meter&amp;quot;,1.0],AUTHORITY[&amp;quot;EPSG&amp;quot;,3857]]&lt;/WKT&gt;&lt;XOrigin&gt;-20037700&lt;/XOrigin&gt;&lt;YOrigin&gt;-30241100&lt;/YOrigin&gt;&lt;XYScale&gt;148923141.92838538&lt;/XYScale&gt;&lt;ZOrigin&gt;-100000&lt;/ZOrigin&gt;&lt;ZScale&gt;10000&lt;/ZScale&gt;&lt;MOrigin&gt;-100000&lt;/MOrigin&gt;&lt;MScale&gt;10000&lt;/MScale&gt;&lt;XYTolerance&gt;0.001&lt;/XYTolerance&gt;&lt;ZTolerance&gt;0.001&lt;/ZTolerance&gt;&lt;MTolerance&gt;0.001&lt;/MTolerance&gt;&lt;HighPrecision&gt;true&lt;/HighPrecision&gt;&lt;WKID&gt;102100&lt;/WKID&gt;&lt;LatestWKID&gt;3857&lt;/LatestWKID&gt;&lt;/ProjectedCoordinateSystem&gt;</peXml>
</coordRef>
<RasterProperties>
<General>
<PixelDepth Sync="TRUE">32</PixelDepth>
<HasColormap Sync="TRUE">FALSE</HasColormap>
<CompressionType Sync="TRUE">LERC2D</CompressionType>
<NumBands Sync="TRUE">1</NumBands>
<Format Sync="TRUE">Cache/LERC2D</Format>
<HasPyramids Sync="TRUE">TRUE</HasPyramids>
<SourceType Sync="TRUE">continuous</SourceType>
<PixelType Sync="TRUE">floating point</PixelType>
<NoDataValue Sync="TRUE">
</NoDataValue>
</General>
</RasterProperties>
</DataProperties>
<SyncDate>20250407</SyncDate>
<SyncTime>13582000</SyncTime>
<ModDate>20250407</ModDate>
<ModTime>13582000</ModTime>
<ArcGISProfile>FGDC</ArcGISProfile>
</Esri>
<dataIdInfo>
<envirDesc Sync="FALSE">Esri ArcGIS 13.4.0.55405</envirDesc>
<dataLang>
<languageCode Sync="TRUE" value="eng">
</languageCode>
<countryCode Sync="TRUE" value="USA">
</countryCode>
</dataLang>
<idCitation>
<resTitle Sync="TRUE">pH in CaCl2</resTitle>
<presForm>
<PresFormCd Sync="TRUE" value="005">
</PresFormCd>
</presForm>
</idCitation>
<spatRpType>
<SpatRepTypCd Sync="TRUE" value="002">
</SpatRepTypCd>
</spatRpType>
<dataExt>
<geoEle>
<GeoBndBox esriExtentType="search">
<exTypeCode Sync="TRUE">1</exTypeCode>
<westBL Sync="TRUE">-166.435108</westBL>
<eastBL Sync="TRUE">-21.878212</eastBL>
<northBL Sync="TRUE">84.013162</northBL>
<southBL Sync="TRUE">40.488231</southBL>
</GeoBndBox>
</geoEle>
</dataExt>
<idAbs>Predicted soil pH in CaCl2 at a defined depth range (0-5 cm, 5-15 cm, 15-30 cm, 30-60 cm, 60- 100 cm). The Canadian Soil Information Service has developed a detailed dataset of Canada's soils and associated properties using advanced machine learning techniques. The Soil Landscape Grids of Canada is produced using a combination of historical and current data from both soil sampling and remote sensing. The machine learning model is trained using over 10,000 pedon locations from across Canada as well as 70 covariate datasets. This new dataset is pivotal in addressing the gaps left by legacy soil surveys and facilitates more comprehensive assessments nationwide. As new data becomes available and machine learning techniques advance, this information can be updated much faster than with traditional soil surveying methods. For more information, visit: https://open.canada.ca/data/en/dataset/4d39c9f9-a85c-4bf2-b920-138fdd423384</idAbs>
<idPurp>Predicted soil pH in CaCl2 at a defined depth range (0-5 cm, 5-15 cm, 15-30 cm, 30-60 cm, 60- 100 cm).</idPurp>
<idCredit>Agriculture and Agri-Food Canada</idCredit>
<resConst>
<Consts>
<useLimit>© Government of Canada (2025). Data are subject to the Government of Canada Open Data Licence Agreement: https://open.canada.ca/en/open-government-licence-canada. The terms of this Agreement govern your use and reproduction of the data instead of the copyright reproduction statements found in Important Notices on the Agriculture and Agri-Food Canada website.</useLimit>
</Consts>
</resConst>
<searchKeys>
<keyword>Soil</keyword>
<keyword>Agriculture</keyword>
<keyword>Land management</keyword>
<keyword>Environment</keyword>
<keyword>Geomatics</keyword>
<keyword>Geographic information systems</keyword>
<keyword>Geographic data</keyword>
<keyword>Maps</keyword>
<keyword>Geography</keyword>
</searchKeys>
</dataIdInfo>
<mdLang>
<languageCode Sync="TRUE" value="eng">
</languageCode>
<countryCode Sync="TRUE" value="USA">
</countryCode>
</mdLang>
<distInfo>
<distFormat>
<formatName Sync="TRUE">Raster Dataset</formatName>
</distFormat>
</distInfo>
<mdHrLv>
<ScopeCd Sync="TRUE" value="005">
</ScopeCd>
</mdHrLv>
<mdHrLvName Sync="TRUE">dataset</mdHrLvName>
<refSysInfo>
<RefSystem>
<refSysID>
<identCode Sync="TRUE" code="3857">
</identCode>
<idCodeSpace Sync="TRUE">EPSG</idCodeSpace>
<idVersion Sync="TRUE">6.18.3(9.3.1.2)</idVersion>
</refSysID>
</RefSystem>
</refSysInfo>
<spatRepInfo>
<Georect>
<cellGeo>
<CellGeoCd Sync="TRUE" value="002">
</CellGeoCd>
</cellGeo>
<numDims Sync="TRUE">2</numDims>
<tranParaAv Sync="TRUE">1</tranParaAv>
<chkPtAv Sync="TRUE">0</chkPtAv>
<cornerPts>
<pos Sync="TRUE">-18527471.417500 4937146.469600</pos>
</cornerPts>
<cornerPts>
<pos Sync="TRUE">-18527471.417500 18821246.469600</pos>
</cornerPts>
<cornerPts>
<pos Sync="TRUE">-2435471.417500 18821246.469600</pos>
</cornerPts>
<cornerPts>
<pos Sync="TRUE">-2435471.417500 4937146.469600</pos>
</cornerPts>
<centerPt>
<pos Sync="TRUE">-10481471.417500 11879196.469600</pos>
</centerPt>
<axisDimension type="002">
<dimSize Sync="TRUE">160920</dimSize>
<dimResol>
<value Sync="TRUE" uom="m">100.000000</value>
</dimResol>
</axisDimension>
<axisDimension type="001">
<dimSize Sync="TRUE">138841</dimSize>
<dimResol>
<value Sync="TRUE" uom="m">100.000000</value>
</dimResol>
</axisDimension>
<ptInPixel>
<PixOrientCd Sync="TRUE" value="001">
</PixOrientCd>
</ptInPixel>
</Georect>
</spatRepInfo>
<contInfo>
<ImgDesc>
<contentTyp>
<ContentTypCd Sync="TRUE" value="001">
</ContentTypCd>
</contentTyp>
<covDim>
<Band>
<dimDescrp Sync="TRUE">Band_1</dimDescrp>
<maxVal Sync="TRUE">10.484541</maxVal>
<minVal Sync="TRUE">0.000000</minVal>
<bitsPerVal Sync="TRUE">32</bitsPerVal>
<valUnit>
<UOM type="length">
</UOM>
</valUnit>
</Band>
</covDim>
</ImgDesc>
</contInfo>
<mdDateSt Sync="TRUE">20250407</mdDateSt>
</metadata>
