{
 "currentVersion": 11.1,
 "serviceDescription": "Predicted bulk density (g/cm3 ) at defined depth ranges (0-5 cm, 5-15 cm, 15-30 cm, 30-60 cm, 60-100 cm). The mass of dry soil per unit bulk volume. The Canadian Soil Information Service has developed a detailed dataset of Canada's soils and associated properties using advanced machine learning techniques. The Soil Landscape Grids of Canada is produced using a combination of historical and current data from both soil sampling and remote sensing. The machine learning model is trained using over 10,000 pedon locations from across Canada as well as 70 covariate datasets. This new dataset is pivotal in addressing the gaps left by legacy soil surveys and facilitates more comprehensive assessments nationwide. As new data becomes available and machine learning techniques advance, this information can be updated much faster than with traditional soil surveying methods. For more information, visit: https://open.canada.ca/data/en/dataset/4d39c9f9-a85c-4bf2-b920-138fdd423384",
 "name": "soil_landscape_grids_100m/bulk_density",
 "description": "Predicted bulk density (g/cm3 ) at defined depth ranges (0-5 cm, 5-15 cm, 15-30 cm, 30-60 cm, 60-100 cm). The mass of dry soil per unit bulk volume. The Canadian Soil Information Service has developed a detailed dataset of Canada's soils and associated properties using advanced machine learning techniques. The Soil Landscape Grids of Canada is produced using a combination of historical and current data from both soil sampling and remote sensing. The machine learning model is trained using over 10,000 pedon locations from across Canada as well as 70 covariate datasets. This new dataset is pivotal in addressing the gaps left by legacy soil surveys and facilitates more comprehensive assessments nationwide. As new data becomes available and machine learning techniques advance, this information can be updated much faster than with traditional soil surveying methods. For more information, visit: https://open.canada.ca/data/en/dataset/4d39c9f9-a85c-4bf2-b920-138fdd423384",
 "extent": {
  "xmin": -1.85274714175E7,
  "ymin": 4937146.4695999995,
  "xmax": -2435471.4175000004,
  "ymax": 1.88212464696E7,
  "spatialReference": {
   "wkid": 102100,
   "latestWkid": 3857
  }
 },
 "initialExtent": {
  "xmin": -1.85274714175E7,
  "ymin": 4937146.4695999995,
  "xmax": -2435471.4175000004,
  "ymax": 1.88212464696E7,
  "spatialReference": {
   "wkid": 102100,
   "latestWkid": 3857
  }
 },
 "fullExtent": {
  "xmin": -1.85274714175E7,
  "ymin": 4937146.4695999995,
  "xmax": -2435471.4175000004,
  "ymax": 1.88212464696E7,
  "spatialReference": {
   "wkid": 102100,
   "latestWkid": 3857
  }
 },
 "sortableFields": "",
 "bandCount": 1,
 "pixelType": "F32",
 "minValues": [
  0
 ],
 "maxValues": [
  2.9493322372436523
 ],
 "meanValues": [
  1.2204364082429946
 ],
 "stdvValues": [
  0.20777550604364856
 ],
 "hasMultidimensions": true,
 "pixelSizeX": 100,
 "pixelSizeY": 100,
 "datasetFormat": "Cache/LERC2D",
 "uncompressedSize": 89369174880,
 "blockWidth": 256,
 "blockHeight": 256,
 "compressionType": "LERC2D",
 "bandNames": [
  "Band_1"
 ],
 "allowCopy": true,
 "allowAnalysis": true,
 "itemAccess": false,
 "defaultVariable": "",
 "minPixelSize": 0,
 "maxPixelSize": 0,
 "copyrightText": "Agriculture and Agri-Food Canada",
 "serviceDataType": "esriImageServiceDataTypeScientific",
 "serviceSourceType": "esriImageServiceSourceTypeDataset",
 "objectIdField": "",
 "fields": [],
 "capabilities": "Image,Metadata,Mensuration",
 "defaultMosaicMethod": "Center",
 "allowedMosaicMethods": "",
 "sortField": "",
 "sortValue": null,
 "sortAscending": true,
 "mosaicOperator": "First",
 "defaultCompressionQuality": 75,
 "defaultResamplingMethod": "Bilinear",
 "maxImageHeight": 4100,
 "maxImageWidth": 15000,
 "allowRasterFunction": true,
 "rasterFunctionInfos": [
  {
   "name": "None",
   "description": "",
   "help": ""
  }
 ],
 "rasterTypeInfos": [
  {
   "name": "Raster Dataset",
   "description": "Supports all ArcGIS Raster Datasets",
   "help": ""
  }
 ],
 "mensurationCapabilities": "Basic",
 "hasHistograms": true,
 "hasColormap": false,
 "hasRasterAttributeTable": false,
 "minScale": 0,
 "maxScale": 0,
 "exportTilesAllowed": false,
 "supportsStatistics": false,
 "supportsAdvancedQueries": false,
 "editFieldsInfo": null,
 "ownershipBasedAccessControlForRasters": null,
 "allowComputeTiePoints": false,
 "useStandardizedQueries": true,
 "advancedQueryCapabilities": {
  "useStandardizedQueries": true,
  "supportsStatistics": false,
  "supportsOrderBy": false,
  "supportsDistinct": false,
  "supportsPagination": false
 },
 "spatialReference": {
  "wkid": 102100,
  "latestWkid": 3857
 }
}
