{
 "currentVersion": 11.1,
 "serviceDescription": "Les précipitations accumulées représentent la hauteur totale de précipitations en mm (solide ou liquide) qui a été enregistrée pendant un mois donné ou une semaine ISO donnée. Les valeurs de l'accumulation des précipitations servent à informer les utilisateurs de la quantité totale de précipitations qui est tombée dans une région donnée au cours d'une période donnée. Pour plus d'information, consulter : https://ouvert.canada.ca/data/fr/dataset/3b1e3395-287f-4d2e-a851-b2ea2963d5e2",
 "name": "sniad/precipitations_accumulees",
 "description": "Les précipitations accumulées représentent la hauteur totale de précipitations en mm (solide ou liquide) qui a été enregistrée pendant un mois donné ou une semaine ISO donnée. Les valeurs de l'accumulation des précipitations servent à informer les utilisateurs de la quantité totale de précipitations qui est tombée dans une région donnée au cours d'une période donnée. Pour plus d'information, consulter : https://ouvert.canada.ca/data/fr/dataset/3b1e3395-287f-4d2e-a851-b2ea2963d5e2",
 "extent": {
  "xmin": -2.0037507842788246E7,
  "ymin": 1942475.858145211,
  "xmax": 2.002424200497104E7,
  "ymax": 2.003750834278928E7,
  "spatialReference": {
   "wkid": 102100,
   "latestWkid": 3857
  }
 },
 "initialExtent": {
  "xmin": -2.0037507842788246E7,
  "ymin": 1942475.858145211,
  "xmax": 2.002424200497104E7,
  "ymax": 2.003750834278928E7,
  "spatialReference": {
   "wkid": 102100,
   "latestWkid": 3857
  }
 },
 "fullExtent": {
  "xmin": -2.0037507842788246E7,
  "ymin": 1942475.858145211,
  "xmax": 2.002424200497104E7,
  "ymax": 2.003750834278928E7,
  "spatialReference": {
   "wkid": 102100,
   "latestWkid": 3857
  }
 },
 "sortableFields": "dateEnd,Shape_Area,Shape_Length,ZOrder,CenterY,CenterX,HighPS,LowPS,MaxPS,MinPS",
 "bandCount": 1,
 "pixelType": "F32",
 "minValues": [],
 "maxValues": [],
 "meanValues": [],
 "stdvValues": [],
 "hasMultidimensions": false,
 "timeInfo": {
  "startTimeField": "dateEnd",
  "endTimeField": "dateEnd",
  "timeExtent": [
   1420372800000,
   1786881600000
  ],
  "timeReference": null
 },
 "pixelSizeX": 20377.28883405864,
 "pixelSizeY": 20377.288834058636,
 "datasetFormat": "AMD",
 "uncompressedSize": 6983232,
 "blockWidth": 2048,
 "blockHeight": 256,
 "compressionType": "None",
 "bandNames": [
  "Band_1"
 ],
 "allowCopy": true,
 "allowAnalysis": true,
 "itemAccess": false,
 "minPixelSize": 0,
 "maxPixelSize": 0,
 "copyrightText": "Agriculture et Agroalimentaire Canada",
 "serviceDataType": "esriImageServiceDataTypeGeneric",
 "serviceSourceType": "esriImageServiceSourceTypeMosaicDataset",
 "objectIdField": "OBJECTID",
 "fields": [
  {
   "name": "OBJECTID",
   "type": "esriFieldTypeOID",
   "alias": "OBJECTID",
   "domain": null
  },
  {
   "name": "Shape",
   "type": "esriFieldTypeGeometry",
   "alias": "Shape",
   "domain": null
  },
  {
   "name": "Name",
   "type": "esriFieldTypeString",
   "alias": "Name",
   "domain": null,
   "length": 200
  },
  {
   "name": "MinPS",
   "type": "esriFieldTypeDouble",
   "alias": "MinPS",
   "domain": null
  },
  {
   "name": "MaxPS",
   "type": "esriFieldTypeDouble",
   "alias": "MaxPS",
   "domain": null
  },
  {
   "name": "LowPS",
   "type": "esriFieldTypeDouble",
   "alias": "LowPS",
   "domain": null
  },
  {
   "name": "HighPS",
   "type": "esriFieldTypeDouble",
   "alias": "HighPS",
   "domain": null
  },
  {
   "name": "Category",
   "type": "esriFieldTypeInteger",
   "alias": "Category",
   "domain": {
    "type": "codedValue",
    "name": "MosaicCatalogItemCategoryDomain",
    "description": "Catalog item categories.",
    "codedValues": [
     {
      "name": "Unknown",
      "code": 0
     },
     {
      "name": "Primary",
      "code": 1
     },
     {
      "name": "Overview",
      "code": 2
     },
     {
      "name": "Unprocessed Overview",
      "code": 3
     },
     {
      "name": "Partial Overview",
      "code": 4
     },
     {
      "name": "Inactive",
      "code": 5
     },
     {
      "name": "Uploaded",
      "code": 253
     },
     {
      "name": "Incomplete",
      "code": 254
     },
     {
      "name": "Custom",
      "code": 255
     }
    ],
    "mergePolicy": "esriMPTDefaultValue",
    "splitPolicy": "esriSPTDefaultValue"
   }
  },
  {
   "name": "Tag",
   "type": "esriFieldTypeString",
   "alias": "Tag",
   "domain": null,
   "length": 100
  },
  {
   "name": "GroupName",
   "type": "esriFieldTypeString",
   "alias": "GroupName",
   "domain": null,
   "length": 100
  },
  {
   "name": "ProductName",
   "type": "esriFieldTypeString",
   "alias": "ProductName",
   "domain": null,
   "length": 100
  },
  {
   "name": "CenterX",
   "type": "esriFieldTypeDouble",
   "alias": "CenterX",
   "domain": null
  },
  {
   "name": "CenterY",
   "type": "esriFieldTypeDouble",
   "alias": "CenterY",
   "domain": null
  },
  {
   "name": "ZOrder",
   "type": "esriFieldTypeInteger",
   "alias": "ZOrder",
   "domain": null
  },
  {
   "name": "Shape_Length",
   "type": "esriFieldTypeDouble",
   "alias": "Shape_Length",
   "domain": null
  },
  {
   "name": "Shape_Area",
   "type": "esriFieldTypeDouble",
   "alias": "Shape_Area",
   "domain": null
  },
  {
   "name": "dateEnd",
   "type": "esriFieldTypeDate",
   "alias": "dateEnd",
   "domain": null,
   "length": 8
  },
  {
   "name": "tType",
   "type": "esriFieldTypeString",
   "alias": "tType",
   "domain": null,
   "length": 30
  }
 ],
 "capabilities": "Image,Metadata,Catalog,Mensuration",
 "defaultMosaicMethod": "ByAttribute",
 "allowedMosaicMethods": "ByAttribute,None,LockRaster",
 "sortField": "dateEnd",
 "sortValue": "3000",
 "sortAscending": true,
 "mosaicOperator": "First",
 "maxDownloadSizeLimit": 2048,
 "defaultCompressionQuality": 75,
 "defaultResamplingMethod": "Bilinear",
 "maxImageHeight": 4100,
 "maxImageWidth": 15000,
 "maxRecordCount": 1000,
 "maxDownloadImageCount": 20,
 "maxMosaicImageCount": 1,
 "allowRasterFunction": true,
 "rasterFunctionInfos": [
  {
   "name": "sniad_precipitations_accumulees_national_01m",
   "description": "Un mois (mm)",
   "help": ""
  },
  {
   "name": "sniad_precipitations_accumulees_atlantic_001s",
   "description": "Une semaines (mm)",
   "help": ""
  },
  {
   "name": "sniad_precipitations_accumulees_atlantic_004s",
   "description": "Quatre semaines (mm)",
   "help": ""
  },
  {
   "name": "sniad_precipitations_accumulees_atlantic_009s",
   "description": "Neuf semaines (mm)",
   "help": ""
  },
  {
   "name": "sniad_precipitations_accumulees_atlantic_013s",
   "description": "Treize semaines (mm)",
   "help": ""
  },
  {
   "name": "sniad_precipitations_accumulees_atlantic_01m",
   "description": "Un mois (mm)",
   "help": ""
  },
  {
   "name": "sniad_precipitations_accumulees_atlantic_026s",
   "description": " Vingt-six semaines (mm)",
   "help": ""
  },
  {
   "name": "sniad_precipitations_accumulees_atlantic_02m",
   "description": "Deux mois (mm)",
   "help": ""
  },
  {
   "name": "sniad_precipitations_accumulees_atlantic_039s",
   "description": "Trente-neuf semaines (mm)",
   "help": ""
  },
  {
   "name": "sniad_precipitations_accumulees_atlantic_03m",
   "description": "Trois mois (mm)",
   "help": ""
  },
  {
   "name": "sniad_precipitations_accumulees_atlantic_052s",
   "description": "Cinquante-deux semaines (mm)",
   "help": ""
  },
  {
   "name": "sniad_precipitations_accumulees_atlantic_06m",
   "description": "Six mois (mm)",
   "help": ""
  },
  {
   "name": "sniad_precipitations_accumulees_atlantic_09m",
   "description": "Neuf mois (mm)",
   "help": ""
  },
  {
   "name": "sniad_precipitations_accumulees_atlantic_12m",
   "description": "Douze mois (mm)",
   "help": ""
  },
  {
   "name": "sniad_precipitations_accumulees_central_001s",
   "description": "Une semaines (mm)",
   "help": ""
  },
  {
   "name": "sniad_precipitations_accumulees_central_004s",
   "description": "Quatre semaines (mm)",
   "help": ""
  },
  {
   "name": "sniad_precipitations_accumulees_central_009s",
   "description": "Neuf semaines (mm)",
   "help": ""
  },
  {
   "name": "sniad_precipitations_accumulees_central_013s",
   "description": "Treize semaines (mm)",
   "help": ""
  },
  {
   "name": "sniad_precipitations_accumulees_central_01m",
   "description": "Un mois (mm)",
   "help": ""
  },
  {
   "name": "sniad_precipitations_accumulees_central_026s",
   "description": " Vingt-six semaines (mm)",
   "help": ""
  },
  {
   "name": "sniad_precipitations_accumulees_central_02m",
   "description": "Deux mois (mm)",
   "help": ""
  },
  {
   "name": "sniad_precipitations_accumulees_central_039s",
   "description": "Trente-neuf semaines (mm)",
   "help": ""
  },
  {
   "name": "sniad_precipitations_accumulees_central_03m",
   "description": "Trois mois (mm)",
   "help": ""
  },
  {
   "name": "sniad_precipitations_accumulees_central_052s",
   "description": "Cinquante-deux semaines (mm)",
   "help": ""
  },
  {
   "name": "sniad_precipitations_accumulees_central_06m",
   "description": "Six mois (mm)",
   "help": ""
  },
  {
   "name": "sniad_precipitations_accumulees_central_09m",
   "description": "Neuf mois (mm)",
   "help": ""
  },
  {
   "name": "sniad_precipitations_accumulees_central_12m",
   "description": "Douze mois (mm)",
   "help": ""
  },
  {
   "name": "sniad_precipitations_accumulees_national_001s",
   "description": "Une semaines (mm)",
   "help": ""
  },
  {
   "name": "sniad_precipitations_accumulees_national_004s",
   "description": "Quatre semaines (mm)",
   "help": ""
  },
  {
   "name": "sniad_precipitations_accumulees_national_009s",
   "description": "Neuf semaines (mm)",
   "help": ""
  },
  {
   "name": "sniad_precipitations_accumulees_national_013s",
   "description": "Treize semaines (mm)",
   "help": ""
  },
  {
   "name": "sniad_precipitations_accumulees_national_026s",
   "description": " Vingt-six semaines (mm)",
   "help": ""
  },
  {
   "name": "sniad_precipitations_accumulees_national_02m",
   "description": "Deux mois (mm)",
   "help": ""
  },
  {
   "name": "sniad_precipitations_accumulees_national_039s",
   "description": "Trente-neuf semaines (mm)",
   "help": ""
  },
  {
   "name": "sniad_precipitations_accumulees_national_03m",
   "description": "Trois mois (mm)",
   "help": ""
  },
  {
   "name": "sniad_precipitations_accumulees_national_052s",
   "description": "Cinquante-deux semaines (mm)",
   "help": ""
  },
  {
   "name": "sniad_precipitations_accumulees_national_06m",
   "description": "Six mois (mm)",
   "help": ""
  },
  {
   "name": "sniad_precipitations_accumulees_national_09m",
   "description": "Neuf mois (mm)",
   "help": ""
  },
  {
   "name": "sniad_precipitations_accumulees_national_12m",
   "description": "Douze mois (mm)",
   "help": ""
  },
  {
   "name": "sniad_precipitations_accumulees_pacific_001s",
   "description": "Une semaines (mm)",
   "help": ""
  },
  {
   "name": "sniad_precipitations_accumulees_pacific_004s",
   "description": "Quatre semaines (mm)",
   "help": ""
  },
  {
   "name": "sniad_precipitations_accumulees_pacific_009s",
   "description": "Neuf semaines (mm)",
   "help": ""
  },
  {
   "name": "sniad_precipitations_accumulees_pacific_013s",
   "description": "Treize semaines (mm)",
   "help": ""
  },
  {
   "name": "pacific_accumulated_precipitation_01m",
   "description": "Un mois (mm)",
   "help": ""
  },
  {
   "name": "sniad_precipitations_accumulees_pacific_026s",
   "description": " Vingt-six semaines (mm)",
   "help": ""
  },
  {
   "name": "sniad_precipitations_accumulees_pacific_02m",
   "description": "Deux mois (mm)",
   "help": ""
  },
  {
   "name": "sniad_precipitations_accumulees_pacific_039s",
   "description": "Trente-neuf semaines (mm)",
   "help": ""
  },
  {
   "name": "sniad_precipitations_accumulees_pacific_03m",
   "description": "Trois mois (mm)",
   "help": ""
  },
  {
   "name": "sniad_precipitations_accumulees_pacific_052s",
   "description": "Cinquante-deux semaines (mm)",
   "help": ""
  },
  {
   "name": "sniad_precipitations_accumulees_pacific_06m",
   "description": "Six mois (mm)",
   "help": ""
  },
  {
   "name": "sniad_precipitations_accumulees_pacific_09m",
   "description": "Neuf mois (mm)",
   "help": ""
  },
  {
   "name": "sniad_precipitations_accumulees_pacific_12m",
   "description": "Douze mois (mm)",
   "help": ""
  },
  {
   "name": "sniad_precipitations_accumulees_prairie_001s",
   "description": "Une semaines (mm)",
   "help": ""
  },
  {
   "name": "sniad_precipitations_accumulees_prairie_004s",
   "description": "Quatre semaines (mm)",
   "help": ""
  },
  {
   "name": "sniad_precipitations_accumulees_prairie_009s",
   "description": "Neuf semaines (mm)",
   "help": ""
  },
  {
   "name": "sniad_precipitations_accumulees_prairie_013s",
   "description": "Treize semaines (mm)",
   "help": ""
  },
  {
   "name": "sniad_precipitations_accumulees_prairie_01m",
   "description": "Un mois (mm)",
   "help": ""
  },
  {
   "name": "sniad_precipitations_accumulees_prairie_026s",
   "description": " Vingt-six semaines (mm)",
   "help": ""
  },
  {
   "name": "sniad_precipitations_accumulees_prairie_02m",
   "description": "Deux mois (mm)",
   "help": ""
  },
  {
   "name": "sniad_precipitations_accumulees_prairie_039s",
   "description": "Trente-neuf semaines (mm)",
   "help": ""
  },
  {
   "name": "sniad_precipitations_accumulees_prairie_03m",
   "description": "Trois mois (mm)",
   "help": ""
  },
  {
   "name": "sniad_precipitations_accumulees_prairie_052s",
   "description": "Cinquante-deux semaines (mm)",
   "help": ""
  },
  {
   "name": "sniad_precipitations_accumulees_prairie_06m",
   "description": "Six mois (mm)",
   "help": ""
  },
  {
   "name": "sniad_precipitations_accumulees_prairie_09m",
   "description": "Neuf mois (mm)",
   "help": ""
  },
  {
   "name": "sniad_precipitations_accumulees_prairie_12m",
   "description": "Douze mois (mm)",
   "help": ""
  },
  {
   "name": "None",
   "description": "Make a Raster or Raster Dataset into a Function Raster Dataset.",
   "help": ""
  }
 ],
 "rasterTypeInfos": [
  {
   "name": "Raster Dataset",
   "description": "Supports all ArcGIS Raster Datasets",
   "help": ""
  }
 ],
 "mensurationCapabilities": "Basic",
 "hasHistograms": false,
 "hasColormap": false,
 "hasRasterAttributeTable": false,
 "minScale": 0,
 "maxScale": 0,
 "exportTilesAllowed": false,
 "supportsStatistics": true,
 "supportsAdvancedQueries": true,
 "editFieldsInfo": null,
 "ownershipBasedAccessControlForRasters": null,
 "allowComputeTiePoints": false,
 "useStandardizedQueries": true,
 "advancedQueryCapabilities": {
  "useStandardizedQueries": true,
  "supportsStatistics": true,
  "supportsOrderBy": true,
  "supportsDistinct": true,
  "supportsPagination": true
 },
 "spatialReference": {
  "wkid": 102100,
  "latestWkid": 3857
 }
}
