{
 "currentVersion": 11.1,
 "serviceDescription": "The Standardized Precipitation Evapotranspiration Index (SPEI) is computed similarly to the SPI. The main difference is that SPI assesses precipitation variance, while SPEI also considers demand from evapotranspiration which is subtracted from any precipitation accumulation prior to assessment. Unlike the SPI, the SPEI captures the main impact of increased temperatures on water demand SPI values indicate the number of standard deviations the observed anomaly departs from the long-term period of record, with positive values corresponding to wetter-than-average conditions. These values are intended to provide an overall assessment of agricultural growing conditions within a region for a specified time period. On the monthly scale, time periods calculated are 1, 2, 3, 6, 9, 12, 18, 24 months. On the weekly scale, each ISO week is numbered from 1 to 52 (sometimes 53) within a year. An ISO week starts on Monday and ends on Sunday. The time periods can be filtered using the tType field in the service where a suffix \"m\" denotes a monthly time scale and \"w\" denotes a weekly time scale. Historical record goes back to 1980. Indices values were calculated using the xclim python package. For more information, visit: https://open.canada.ca/data/en/dataset/9704ceb1-287e-42ed-a04d-39ca4154b99f",
 "name": "nasdi/standardized_precipitation_evapotranspiration_index",
 "description": "The Standardized Precipitation Evapotranspiration Index (SPEI) is computed similarly to the SPI. The main difference is that SPI assesses precipitation variance, while SPEI also considers demand from evapotranspiration which is subtracted from any precipitation accumulation prior to assessment. Unlike the SPI, the SPEI captures the main impact of increased temperatures on water demand SPI values indicate the number of standard deviations the observed anomaly departs from the long-term period of record, with positive values corresponding to wetter-than-average conditions. These values are intended to provide an overall assessment of agricultural growing conditions within a region for a specified time period. On the monthly scale, time periods calculated are 1, 2, 3, 6, 9, 12, 18, 24 months. On the weekly scale, each ISO week is numbered from 1 to 52 (sometimes 53) within a year. An ISO week starts on Monday and ends on Sunday. The time periods can be filtered using the tType field in the service where a suffix \"m\" denotes a monthly time scale and \"w\" denotes a weekly time scale. Historical record goes back to 1980. Indices values were calculated using the xclim python package. For more information, visit: https://open.canada.ca/data/en/dataset/9704ceb1-287e-42ed-a04d-39ca4154b99f",
 "extent": {
  "xmin": -2.0037507842788246E7,
  "ymin": 1942475.858145211,
  "xmax": 2.002424200497104E7,
  "ymax": 2.003750834278928E7,
  "spatialReference": {
   "wkid": 102100,
   "latestWkid": 3857
  }
 },
 "initialExtent": {
  "xmin": -2.0037507842788246E7,
  "ymin": 1942475.858145211,
  "xmax": 2.002424200497104E7,
  "ymax": 2.003750834278928E7,
  "spatialReference": {
   "wkid": 102100,
   "latestWkid": 3857
  }
 },
 "fullExtent": {
  "xmin": -2.0037507842788246E7,
  "ymin": 1942475.858145211,
  "xmax": 2.002424200497104E7,
  "ymax": 2.003750834278928E7,
  "spatialReference": {
   "wkid": 102100,
   "latestWkid": 3857
  }
 },
 "sortableFields": "dateEnd,Shape_Area,Shape_Length,ZOrder,CenterY,CenterX,HighPS,LowPS,MaxPS,MinPS",
 "bandCount": 1,
 "pixelType": "F32",
 "minValues": [],
 "maxValues": [],
 "meanValues": [],
 "stdvValues": [],
 "hasMultidimensions": false,
 "timeInfo": {
  "startTimeField": "dateEnd",
  "endTimeField": "dateEnd",
  "timeExtent": [
   1420977600000,
   1786881600000
  ],
  "timeReference": null
 },
 "pixelSizeX": 20377.28883405864,
 "pixelSizeY": 20377.288834058636,
 "datasetFormat": "AMD",
 "uncompressedSize": 6983232,
 "blockWidth": 2048,
 "blockHeight": 256,
 "compressionType": "None",
 "bandNames": [
  "Band_1"
 ],
 "allowCopy": true,
 "allowAnalysis": true,
 "itemAccess": false,
 "minPixelSize": 0,
 "maxPixelSize": 0,
 "copyrightText": "Agriculture and Agri-Food Canada",
 "serviceDataType": "esriImageServiceDataTypeGeneric",
 "serviceSourceType": "esriImageServiceSourceTypeMosaicDataset",
 "objectIdField": "OBJECTID",
 "fields": [
  {
   "name": "OBJECTID",
   "type": "esriFieldTypeOID",
   "alias": "OBJECTID",
   "domain": null
  },
  {
   "name": "Shape",
   "type": "esriFieldTypeGeometry",
   "alias": "Shape",
   "domain": null
  },
  {
   "name": "Name",
   "type": "esriFieldTypeString",
   "alias": "Name",
   "domain": null,
   "length": 200
  },
  {
   "name": "MinPS",
   "type": "esriFieldTypeDouble",
   "alias": "MinPS",
   "domain": null
  },
  {
   "name": "MaxPS",
   "type": "esriFieldTypeDouble",
   "alias": "MaxPS",
   "domain": null
  },
  {
   "name": "LowPS",
   "type": "esriFieldTypeDouble",
   "alias": "LowPS",
   "domain": null
  },
  {
   "name": "HighPS",
   "type": "esriFieldTypeDouble",
   "alias": "HighPS",
   "domain": null
  },
  {
   "name": "Category",
   "type": "esriFieldTypeInteger",
   "alias": "Category",
   "domain": {
    "type": "codedValue",
    "name": "MosaicCatalogItemCategoryDomain",
    "description": "Catalog item categories.",
    "codedValues": [
     {
      "name": "Unknown",
      "code": 0
     },
     {
      "name": "Primary",
      "code": 1
     },
     {
      "name": "Overview",
      "code": 2
     },
     {
      "name": "Unprocessed Overview",
      "code": 3
     },
     {
      "name": "Partial Overview",
      "code": 4
     },
     {
      "name": "Inactive",
      "code": 5
     },
     {
      "name": "Uploaded",
      "code": 253
     },
     {
      "name": "Incomplete",
      "code": 254
     },
     {
      "name": "Custom",
      "code": 255
     }
    ],
    "mergePolicy": "esriMPTDefaultValue",
    "splitPolicy": "esriSPTDefaultValue"
   }
  },
  {
   "name": "Tag",
   "type": "esriFieldTypeString",
   "alias": "Tag",
   "domain": null,
   "length": 100
  },
  {
   "name": "GroupName",
   "type": "esriFieldTypeString",
   "alias": "GroupName",
   "domain": null,
   "length": 100
  },
  {
   "name": "ProductName",
   "type": "esriFieldTypeString",
   "alias": "ProductName",
   "domain": null,
   "length": 100
  },
  {
   "name": "CenterX",
   "type": "esriFieldTypeDouble",
   "alias": "CenterX",
   "domain": null
  },
  {
   "name": "CenterY",
   "type": "esriFieldTypeDouble",
   "alias": "CenterY",
   "domain": null
  },
  {
   "name": "ZOrder",
   "type": "esriFieldTypeInteger",
   "alias": "ZOrder",
   "domain": null
  },
  {
   "name": "Shape_Length",
   "type": "esriFieldTypeDouble",
   "alias": "Shape_Length",
   "domain": null
  },
  {
   "name": "Shape_Area",
   "type": "esriFieldTypeDouble",
   "alias": "Shape_Area",
   "domain": null
  },
  {
   "name": "dateEnd",
   "type": "esriFieldTypeDate",
   "alias": "dateEnd",
   "domain": null,
   "length": 8
  },
  {
   "name": "tType",
   "type": "esriFieldTypeString",
   "alias": "tType",
   "domain": null,
   "length": 30
  }
 ],
 "capabilities": "Image,Metadata,Catalog,Mensuration",
 "defaultMosaicMethod": "ByAttribute",
 "allowedMosaicMethods": "ByAttribute,None,LockRaster",
 "sortField": "dateEnd",
 "sortValue": "3000",
 "sortAscending": true,
 "mosaicOperator": "First",
 "maxDownloadSizeLimit": 2048,
 "defaultCompressionQuality": 75,
 "defaultResamplingMethod": "Bilinear",
 "maxImageHeight": 4100,
 "maxImageWidth": 15000,
 "maxRecordCount": 1000,
 "maxDownloadImageCount": 20,
 "maxMosaicImageCount": 1,
 "allowRasterFunction": true,
 "rasterFunctionInfos": [
  {
   "name": "nasdi_standardized_precipitation_evapotranspiration_index",
   "description": "Standardized precipitation evapotranspiration index (SPEI)",
   "help": ""
  },
  {
   "name": "None",
   "description": "Make a Raster or Raster Dataset into a Function Raster Dataset.",
   "help": ""
  }
 ],
 "rasterTypeInfos": [
  {
   "name": "Raster Dataset",
   "description": "Supports all ArcGIS Raster Datasets",
   "help": ""
  }
 ],
 "mensurationCapabilities": "Basic",
 "hasHistograms": false,
 "hasColormap": false,
 "hasRasterAttributeTable": false,
 "minScale": 0,
 "maxScale": 0,
 "exportTilesAllowed": false,
 "supportsStatistics": true,
 "supportsAdvancedQueries": true,
 "editFieldsInfo": null,
 "ownershipBasedAccessControlForRasters": null,
 "allowComputeTiePoints": false,
 "useStandardizedQueries": true,
 "advancedQueryCapabilities": {
  "useStandardizedQueries": true,
  "supportsStatistics": true,
  "supportsOrderBy": true,
  "supportsDistinct": true,
  "supportsPagination": true
 },
 "spatialReference": {
  "wkid": 102100,
  "latestWkid": 3857
 }
}
