{
 "currentVersion": 11.1,
 "serviceDescription": "Accumulated Precipitation represents the amount of total precipitation in mm (solid and/or liquid) which has been recorded over a given month or ISO week. Accumulation of precipitation values serve to inform users about the total amount of precipitation that has fallen in a specific region during a set time period. For more information, visit: https://open.canada.ca/data/en/dataset/3b1e3395-287f-4d2e-a851-b2ea2963d5e2",
 "name": "nasdi/accumulated_precipitation",
 "description": "Accumulated Precipitation represents the amount of total precipitation in mm (solid and/or liquid) which has been recorded over a given month or ISO week. Accumulation of precipitation values serve to inform users about the total amount of precipitation that has fallen in a specific region during a set time period. For more information, visit: https://open.canada.ca/data/en/dataset/3b1e3395-287f-4d2e-a851-b2ea2963d5e2",
 "extent": {
  "xmin": -2.0037507842788246E7,
  "ymin": 1942475.858145211,
  "xmax": 2.002424200497104E7,
  "ymax": 2.003750834278928E7,
  "spatialReference": {
   "wkid": 102100,
   "latestWkid": 3857
  }
 },
 "initialExtent": {
  "xmin": -2.0037507842788246E7,
  "ymin": 1942475.858145211,
  "xmax": 2.002424200497104E7,
  "ymax": 2.003750834278928E7,
  "spatialReference": {
   "wkid": 102100,
   "latestWkid": 3857
  }
 },
 "fullExtent": {
  "xmin": -2.0037507842788246E7,
  "ymin": 1942475.858145211,
  "xmax": 2.002424200497104E7,
  "ymax": 2.003750834278928E7,
  "spatialReference": {
   "wkid": 102100,
   "latestWkid": 3857
  }
 },
 "sortableFields": "dateEnd,Shape_Area,Shape_Length,ZOrder,CenterY,CenterX,HighPS,LowPS,MaxPS,MinPS",
 "bandCount": 1,
 "pixelType": "F32",
 "minValues": [],
 "maxValues": [],
 "meanValues": [],
 "stdvValues": [],
 "hasMultidimensions": false,
 "timeInfo": {
  "startTimeField": "dateEnd",
  "endTimeField": "dateEnd",
  "timeExtent": [
   1420372800000,
   1786881600000
  ],
  "timeReference": null
 },
 "pixelSizeX": 20377.28883405864,
 "pixelSizeY": 20377.288834058636,
 "datasetFormat": "AMD",
 "uncompressedSize": 6983232,
 "blockWidth": 2048,
 "blockHeight": 256,
 "compressionType": "None",
 "bandNames": [
  "Band_1"
 ],
 "allowCopy": true,
 "allowAnalysis": true,
 "itemAccess": false,
 "minPixelSize": 0,
 "maxPixelSize": 0,
 "copyrightText": "Agriculture and Agri-Food Canada",
 "serviceDataType": "esriImageServiceDataTypeGeneric",
 "serviceSourceType": "esriImageServiceSourceTypeMosaicDataset",
 "objectIdField": "OBJECTID",
 "fields": [
  {
   "name": "OBJECTID",
   "type": "esriFieldTypeOID",
   "alias": "OBJECTID",
   "domain": null
  },
  {
   "name": "Shape",
   "type": "esriFieldTypeGeometry",
   "alias": "Shape",
   "domain": null
  },
  {
   "name": "Name",
   "type": "esriFieldTypeString",
   "alias": "Name",
   "domain": null,
   "length": 200
  },
  {
   "name": "MinPS",
   "type": "esriFieldTypeDouble",
   "alias": "MinPS",
   "domain": null
  },
  {
   "name": "MaxPS",
   "type": "esriFieldTypeDouble",
   "alias": "MaxPS",
   "domain": null
  },
  {
   "name": "LowPS",
   "type": "esriFieldTypeDouble",
   "alias": "LowPS",
   "domain": null
  },
  {
   "name": "HighPS",
   "type": "esriFieldTypeDouble",
   "alias": "HighPS",
   "domain": null
  },
  {
   "name": "Category",
   "type": "esriFieldTypeInteger",
   "alias": "Category",
   "domain": {
    "type": "codedValue",
    "name": "MosaicCatalogItemCategoryDomain",
    "description": "Catalog item categories.",
    "codedValues": [
     {
      "name": "Unknown",
      "code": 0
     },
     {
      "name": "Primary",
      "code": 1
     },
     {
      "name": "Overview",
      "code": 2
     },
     {
      "name": "Unprocessed Overview",
      "code": 3
     },
     {
      "name": "Partial Overview",
      "code": 4
     },
     {
      "name": "Inactive",
      "code": 5
     },
     {
      "name": "Uploaded",
      "code": 253
     },
     {
      "name": "Incomplete",
      "code": 254
     },
     {
      "name": "Custom",
      "code": 255
     }
    ],
    "mergePolicy": "esriMPTDefaultValue",
    "splitPolicy": "esriSPTDefaultValue"
   }
  },
  {
   "name": "Tag",
   "type": "esriFieldTypeString",
   "alias": "Tag",
   "domain": null,
   "length": 100
  },
  {
   "name": "GroupName",
   "type": "esriFieldTypeString",
   "alias": "GroupName",
   "domain": null,
   "length": 100
  },
  {
   "name": "ProductName",
   "type": "esriFieldTypeString",
   "alias": "ProductName",
   "domain": null,
   "length": 100
  },
  {
   "name": "CenterX",
   "type": "esriFieldTypeDouble",
   "alias": "CenterX",
   "domain": null
  },
  {
   "name": "CenterY",
   "type": "esriFieldTypeDouble",
   "alias": "CenterY",
   "domain": null
  },
  {
   "name": "ZOrder",
   "type": "esriFieldTypeInteger",
   "alias": "ZOrder",
   "domain": null
  },
  {
   "name": "Shape_Length",
   "type": "esriFieldTypeDouble",
   "alias": "Shape_Length",
   "domain": null
  },
  {
   "name": "Shape_Area",
   "type": "esriFieldTypeDouble",
   "alias": "Shape_Area",
   "domain": null
  },
  {
   "name": "dateEnd",
   "type": "esriFieldTypeDate",
   "alias": "dateEnd",
   "domain": null,
   "length": 8
  },
  {
   "name": "tType",
   "type": "esriFieldTypeString",
   "alias": "tType",
   "domain": null,
   "length": 30
  }
 ],
 "capabilities": "Image,Metadata,Catalog,Mensuration",
 "defaultMosaicMethod": "ByAttribute",
 "allowedMosaicMethods": "ByAttribute,None,LockRaster",
 "sortField": "dateEnd",
 "sortValue": "3000",
 "sortAscending": true,
 "mosaicOperator": "First",
 "maxDownloadSizeLimit": 2048,
 "defaultCompressionQuality": 75,
 "defaultResamplingMethod": "Bilinear",
 "maxImageHeight": 4100,
 "maxImageWidth": 15000,
 "maxRecordCount": 1000,
 "maxDownloadImageCount": 20,
 "maxMosaicImageCount": 1,
 "allowRasterFunction": true,
 "rasterFunctionInfos": [
  {
   "name": "nasdi_accumulated_precipitation_national_01m",
   "description": "30 days (mm)",
   "help": ""
  },
  {
   "name": "nasdi_accumulated_precipitation_atlantic_001w",
   "description": "7 days (mm)",
   "help": ""
  },
  {
   "name": "nasdi_accumulated_precipitation_atlantic_004w",
   "description": "30 days (mm)",
   "help": ""
  },
  {
   "name": "nasdi_accumulated_precipitation_atlantic_009w",
   "description": "9 weeks (mm)",
   "help": ""
  },
  {
   "name": "nasdi_accumulated_precipitation_atlantic_013w",
   "description": "13 weeks (mm)",
   "help": ""
  },
  {
   "name": "nasdi_accumulated_precipitation_atlantic_01m",
   "description": "30 days (mm)",
   "help": ""
  },
  {
   "name": "nasdi_accumulated_precipitation_atlantic_026w",
   "description": "26 weeks (mm)",
   "help": ""
  },
  {
   "name": "nasdi_accumulated_precipitation_atlantic_02m",
   "description": "2 months (mm)",
   "help": ""
  },
  {
   "name": "nasdi_accumulated_precipitation_atlantic_039w",
   "description": "39 weeks (mm)",
   "help": ""
  },
  {
   "name": "nasdi_accumulated_precipitation_atlantic_03m",
   "description": "3 months (mm)",
   "help": ""
  },
  {
   "name": "nasdi_accumulated_precipitation_atlantic_052w",
   "description": "52 weeks (mm)",
   "help": ""
  },
  {
   "name": "nasdi_accumulated_precipitation_atlantic_06m",
   "description": "6 months (mm)",
   "help": ""
  },
  {
   "name": "nasdi_accumulated_precipitation_atlantic_09m",
   "description": "9 months (mm)",
   "help": ""
  },
  {
   "name": "nasdi_accumulated_precipitation_atlantic_12m",
   "description": "12 months (mm)",
   "help": ""
  },
  {
   "name": "nasdi_accumulated_precipitation_central_001w",
   "description": "7 days (mm)",
   "help": ""
  },
  {
   "name": "nasdi_accumulated_precipitation_central_004w",
   "description": "30 days (mm)",
   "help": ""
  },
  {
   "name": "nasdi_accumulated_precipitation_central_009w",
   "description": "9 weeks (mm)",
   "help": ""
  },
  {
   "name": "nasdi_accumulated_precipitation_central_013w",
   "description": "13 weeks (mm)",
   "help": ""
  },
  {
   "name": "nasdi_accumulated_precipitation_central_01m",
   "description": "30 days (mm)",
   "help": ""
  },
  {
   "name": "nasdi_accumulated_precipitation_central_026w",
   "description": "26 weeks (mm)",
   "help": ""
  },
  {
   "name": "nasdi_accumulated_precipitation_central_02m",
   "description": "2 months (mm)",
   "help": ""
  },
  {
   "name": "nasdi_accumulated_precipitation_central_039w",
   "description": "39 weeks (mm)",
   "help": ""
  },
  {
   "name": "nasdi_accumulated_precipitation_central_03m",
   "description": "3 months (mm)",
   "help": ""
  },
  {
   "name": "nasdi_accumulated_precipitation_central_052w",
   "description": "52 weeks (mm)",
   "help": ""
  },
  {
   "name": "nasdi_accumulated_precipitation_central_06m",
   "description": "6 months (mm)",
   "help": ""
  },
  {
   "name": "nasdi_accumulated_precipitation_central_09m",
   "description": "9 months (mm)",
   "help": ""
  },
  {
   "name": "nasdi_accumulated_precipitation_central_12m",
   "description": "12 months (mm)",
   "help": ""
  },
  {
   "name": "nasdi_accumulated_precipitation_national_001w",
   "description": "7 days (mm)",
   "help": ""
  },
  {
   "name": "nasdi_accumulated_precipitation_national_004w",
   "description": "30 days (mm)",
   "help": ""
  },
  {
   "name": "nasdi_accumulated_precipitation_national_009w",
   "description": "9 weeks (mm)",
   "help": ""
  },
  {
   "name": "nasdi_accumulated_precipitation_national_013w",
   "description": "13 weeks (mm)",
   "help": ""
  },
  {
   "name": "nasdi_accumulated_precipitation_national_026w",
   "description": "26 weeks (mm)",
   "help": ""
  },
  {
   "name": "nasdi_accumulated_precipitation_national_02m",
   "description": "2 months (mm)",
   "help": ""
  },
  {
   "name": "nasdi_accumulated_precipitation_national_039w",
   "description": "39 weeks (mm)",
   "help": ""
  },
  {
   "name": "nasdi_accumulated_precipitation_national_03m",
   "description": "3 months (mm)",
   "help": ""
  },
  {
   "name": "nasdi_accumulated_precipitation_national_052w",
   "description": "52 weeks (mm)",
   "help": ""
  },
  {
   "name": "nasdi_accumulated_precipitation_national_06m",
   "description": "6 months (mm)",
   "help": ""
  },
  {
   "name": "nasdi_accumulated_precipitation_national_09m",
   "description": "9 months (mm)",
   "help": ""
  },
  {
   "name": "nasdi_accumulated_precipitation_national_12m",
   "description": "12 months (mm)",
   "help": ""
  },
  {
   "name": "nasdi_accumulated_precipitation_pacific_001w",
   "description": "7 days (mm)",
   "help": ""
  },
  {
   "name": "nasdi_accumulated_precipitation_pacific_004w",
   "description": "30 days (mm)",
   "help": ""
  },
  {
   "name": "nasdi_accumulated_precipitation_pacific_009w",
   "description": "9 weeks (mm)",
   "help": ""
  },
  {
   "name": "nasdi_accumulated_precipitation_pacific_013w",
   "description": "13 weeks (mm)",
   "help": ""
  },
  {
   "name": "pacific_accumulated_precipitation_01m",
   "description": "30 days (mm)",
   "help": ""
  },
  {
   "name": "nasdi_accumulated_precipitation_pacific_026w",
   "description": "26 weeks (mm)",
   "help": ""
  },
  {
   "name": "nasdi_accumulated_precipitation_pacific_02m",
   "description": "2 months (mm)",
   "help": ""
  },
  {
   "name": "nasdi_accumulated_precipitation_pacific_039w",
   "description": "39 weeks (mm)",
   "help": ""
  },
  {
   "name": "nasdi_accumulated_precipitation_pacific_03m",
   "description": "3 months (mm)",
   "help": ""
  },
  {
   "name": "nasdi_accumulated_precipitation_pacific_052w",
   "description": "52 weeks (mm)",
   "help": ""
  },
  {
   "name": "nasdi_accumulated_precipitation_pacific_06m",
   "description": "6 months (mm)",
   "help": ""
  },
  {
   "name": "nasdi_accumulated_precipitation_pacific_09m",
   "description": "9 months (mm)",
   "help": ""
  },
  {
   "name": "nasdi_accumulated_precipitation_pacific_12m",
   "description": "12 months (mm)",
   "help": ""
  },
  {
   "name": "nasdi_accumulated_precipitation_prairie_001w",
   "description": "7 days (mm)",
   "help": ""
  },
  {
   "name": "nasdi_accumulated_precipitation_prairie_004w",
   "description": "30 days (mm)",
   "help": ""
  },
  {
   "name": "nasdi_accumulated_precipitation_prairie_009w",
   "description": "9 weeks (mm)",
   "help": ""
  },
  {
   "name": "nasdi_accumulated_precipitation_prairie_013w",
   "description": "13 weeks (mm)",
   "help": ""
  },
  {
   "name": "nasdi_accumulated_precipitation_prairie_01m",
   "description": "30 days (mm)",
   "help": ""
  },
  {
   "name": "nasdi_accumulated_precipitation_prairie_026w",
   "description": "26 weeks (mm)",
   "help": ""
  },
  {
   "name": "nasdi_accumulated_precipitation_prairie_02m",
   "description": "2 months (mm)",
   "help": ""
  },
  {
   "name": "nasdi_accumulated_precipitation_prairie_039w",
   "description": "39 weeks (mm)",
   "help": ""
  },
  {
   "name": "nasdi_accumulated_precipitation_prairie_03m",
   "description": "3 months (mm)",
   "help": ""
  },
  {
   "name": "nasdi_accumulated_precipitation_prairie_052w",
   "description": "52 weeks (mm)",
   "help": ""
  },
  {
   "name": "nasdi_accumulated_precipitation_prairie_06m",
   "description": "6 months (mm)",
   "help": ""
  },
  {
   "name": "nasdi_accumulated_precipitation_prairie_09m",
   "description": "9 months (mm)",
   "help": ""
  },
  {
   "name": "nasdi_accumulated_precipitation_prairie_12m",
   "description": "12 months (mm)",
   "help": ""
  },
  {
   "name": "None",
   "description": "Make a Raster or Raster Dataset into a Function Raster Dataset.",
   "help": ""
  }
 ],
 "rasterTypeInfos": [
  {
   "name": "Raster Dataset",
   "description": "Supports all ArcGIS Raster Datasets",
   "help": ""
  }
 ],
 "mensurationCapabilities": "Basic",
 "hasHistograms": false,
 "hasColormap": false,
 "hasRasterAttributeTable": false,
 "minScale": 0,
 "maxScale": 0,
 "exportTilesAllowed": false,
 "supportsStatistics": true,
 "supportsAdvancedQueries": true,
 "editFieldsInfo": null,
 "ownershipBasedAccessControlForRasters": null,
 "allowComputeTiePoints": false,
 "useStandardizedQueries": true,
 "advancedQueryCapabilities": {
  "useStandardizedQueries": true,
  "supportsStatistics": true,
  "supportsOrderBy": true,
  "supportsDistinct": true,
  "supportsPagination": true
 },
 "spatialReference": {
  "wkid": 102100,
  "latestWkid": 3857
 }
}
