{
 "currentVersion": 11.1,
 "serviceDescription": "En 2016, l'équipe d'observation de la Terre de la Direction générale des sciences et de la technologie (DGST) d'Agriculture et Agroalimentaire Canada (AAC) a répété le processus visant à produire des cartes numériques de l'inventaire annuel des cultures à l'aide d'images satellitaires pour l'ensemble du Canada, afin de soutenir la réalisation d'un inventaire national des cultures. Une méthodologie par arbre de décision a été utilisée à l'aide d'images satellitaires optiques (Landsat-8, Sentinel-2, Gaofen-1) et radar (RADARSAT-2), avec une résolution spatiale finale de 30 m. En même temps que les acquisitions par satellite, des données de réalité de terrain ont été fournies par des sociétés d'assurance-récolte provinciales (Alberta, Saskatchewan, Manitoba et Québec), tandis que des observations ponctuelles provenaient du Ministère de l'Agriculture de la Colombie-Britannique et du Ministère de l'Agriculture, de l'Alimentation et des Affaires rurales de l'Ontario. L'acquisition de données a aussi été supportée par les centres régionaux de recherches et développement d'AAC à Saint-Jean de Terre-Neuve, Kentville, Charlottetown, Fredericton, Guelph et Summerland. Pour plus d'information, consulter : https://ouvert.canada.ca/data/fr/dataset/b8e4da73-fb5f-4e6e-93a4-8b1f40d95b51",
 "name": "inventaire_annuel_des_cultures/2016",
 "description": "En 2016, l'équipe d'observation de la Terre de la Direction générale des sciences et de la technologie (DGST) d'Agriculture et Agroalimentaire Canada (AAC) a répété le processus visant à produire des cartes numériques de l'inventaire annuel des cultures à l'aide d'images satellitaires pour l'ensemble du Canada, afin de soutenir la réalisation d'un inventaire national des cultures. Une méthodologie par arbre de décision a été utilisée à l'aide d'images satellitaires optiques (Landsat-8, Sentinel-2, Gaofen-1) et radar (RADARSAT-2), avec une résolution spatiale finale de 30 m. En même temps que les acquisitions par satellite, des données de réalité de terrain ont été fournies par des sociétés d'assurance-récolte provinciales (Alberta, Saskatchewan, Manitoba et Québec), tandis que des observations ponctuelles provenaient du Ministère de l'Agriculture de la Colombie-Britannique et du Ministère de l'Agriculture, de l'Alimentation et des Affaires rurales de l'Ontario. L'acquisition de données a aussi été supportée par les centres régionaux de recherches et développement d'AAC à Saint-Jean de Terre-Neuve, Kentville, Charlottetown, Fredericton, Guelph et Summerland. Pour plus d'information, consulter : https://ouvert.canada.ca/data/fr/dataset/b8e4da73-fb5f-4e6e-93a4-8b1f40d95b51",
 "extent": {
  "xmin": -1.4723945683400001E7,
  "ymin": 4944648.583699998,
  "xmax": -5571635.683400001,
  "ymax": 8367018.583699998,
  "spatialReference": {
   "wkid": 102100,
   "latestWkid": 3857
  }
 },
 "initialExtent": {
  "xmin": -1.4723945683400001E7,
  "ymin": 4944648.583699998,
  "xmax": -5571635.683400001,
  "ymax": 8367018.583699998,
  "spatialReference": {
   "wkid": 102100,
   "latestWkid": 3857
  }
 },
 "fullExtent": {
  "xmin": -1.4723945683400001E7,
  "ymin": 4944648.583699998,
  "xmax": -5571635.683400001,
  "ymax": 8367018.583699998,
  "spatialReference": {
   "wkid": 102100,
   "latestWkid": 3857
  }
 },
 "sortableFields": "MinPS,MaxPS,LowPS,HighPS,CenterX,CenterY,ZOrder,Shape_Length,Shape_Area",
 "bandCount": 1,
 "pixelType": "U8",
 "minValues": [
  0
 ],
 "maxValues": [
  230
 ],
 "meanValues": [
  148.758944492185
 ],
 "stdvValues": [
  64.52984892722019
 ],
 "hasMultidimensions": false,
 "pixelSizeX": 30,
 "pixelSizeY": 30,
 "datasetFormat": "AMD",
 "uncompressedSize": 34802879083,
 "blockWidth": 2048,
 "blockHeight": 256,
 "compressionType": "None",
 "bandNames": [
  "Band_1"
 ],
 "allowCopy": true,
 "allowAnalysis": true,
 "itemAccess": false,
 "minPixelSize": 0,
 "maxPixelSize": 0,
 "copyrightText": "Agriculture et Agroalimentaire Canada",
 "serviceDataType": "esriImageServiceDataTypeThematic",
 "serviceSourceType": "esriImageServiceSourceTypeMosaicDataset",
 "objectIdField": "OBJECTID",
 "fields": [
  {
   "name": "OBJECTID",
   "type": "esriFieldTypeOID",
   "alias": "OBJECTID",
   "domain": null
  },
  {
   "name": "Shape",
   "type": "esriFieldTypeGeometry",
   "alias": "Shape",
   "domain": null
  },
  {
   "name": "Name",
   "type": "esriFieldTypeString",
   "alias": "Name",
   "domain": null,
   "length": 200
  },
  {
   "name": "MinPS",
   "type": "esriFieldTypeDouble",
   "alias": "MinPS",
   "domain": null
  },
  {
   "name": "MaxPS",
   "type": "esriFieldTypeDouble",
   "alias": "MaxPS",
   "domain": null
  },
  {
   "name": "LowPS",
   "type": "esriFieldTypeDouble",
   "alias": "LowPS",
   "domain": null
  },
  {
   "name": "HighPS",
   "type": "esriFieldTypeDouble",
   "alias": "HighPS",
   "domain": null
  },
  {
   "name": "Category",
   "type": "esriFieldTypeInteger",
   "alias": "Category",
   "domain": {
    "type": "codedValue",
    "name": "MosaicCatalogItemCategoryDomain",
    "description": "Catalog item categories.",
    "codedValues": [
     {
      "name": "Unknown",
      "code": 0
     },
     {
      "name": "Primary",
      "code": 1
     },
     {
      "name": "Overview",
      "code": 2
     },
     {
      "name": "Unprocessed Overview",
      "code": 3
     },
     {
      "name": "Partial Overview",
      "code": 4
     },
     {
      "name": "Inactive",
      "code": 5
     },
     {
      "name": "Uploaded",
      "code": 253
     },
     {
      "name": "Incomplete",
      "code": 254
     },
     {
      "name": "Custom",
      "code": 255
     }
    ],
    "mergePolicy": "esriMPTDefaultValue",
    "splitPolicy": "esriSPTDefaultValue"
   }
  },
  {
   "name": "Tag",
   "type": "esriFieldTypeString",
   "alias": "Tag",
   "domain": null,
   "length": 100
  },
  {
   "name": "GroupName",
   "type": "esriFieldTypeString",
   "alias": "GroupName",
   "domain": null,
   "length": 100
  },
  {
   "name": "ProductName",
   "type": "esriFieldTypeString",
   "alias": "ProductName",
   "domain": null,
   "length": 100
  },
  {
   "name": "CenterX",
   "type": "esriFieldTypeDouble",
   "alias": "CenterX",
   "domain": null
  },
  {
   "name": "CenterY",
   "type": "esriFieldTypeDouble",
   "alias": "CenterY",
   "domain": null
  },
  {
   "name": "ZOrder",
   "type": "esriFieldTypeInteger",
   "alias": "ZOrder",
   "domain": null
  },
  {
   "name": "Shape_Length",
   "type": "esriFieldTypeDouble",
   "alias": "Shape_Length",
   "domain": null
  },
  {
   "name": "Shape_Area",
   "type": "esriFieldTypeDouble",
   "alias": "Shape_Area",
   "domain": null
  }
 ],
 "capabilities": "Image,Metadata,Catalog,Mensuration",
 "defaultMosaicMethod": "Center",
 "allowedMosaicMethods": "Center,None,NorthWest,LockRaster,ByAttribute,Nadir,Viewpoint,Seamline",
 "sortField": "",
 "sortValue": null,
 "sortAscending": true,
 "mosaicOperator": "First",
 "maxDownloadSizeLimit": 2048,
 "defaultCompressionQuality": 75,
 "defaultResamplingMethod": "Nearest",
 "maxImageHeight": 70000,
 "maxImageWidth": 70000,
 "maxRecordCount": 1000,
 "maxDownloadImageCount": 20,
 "maxMosaicImageCount": 20,
 "allowRasterFunction": true,
 "rasterFunctionInfos": [
  {
   "name": "inventaire_annuel_des_cultures",
   "description": "Inventaire annuel des cultures combiné Remap and Attribute Table raster functions",
   "help": ""
  },
  {
   "name": "inventaire_annuel_des_cultures_simplifie",
   "description": "Inventaire annuel des cultures simplifié Remap and Attribute Table raster functions",
   "help": ""
  },
  {
   "name": "inventaire_annuel_des_cultures_plus_simplifie",
   "description": "Inventaire annuel des cultures plus simplifié Remap and Attribute Table raster functions",
   "help": ""
  },
  {
   "name": "inventaire_annuel_des_cultures_le_plus_simplifie",
   "description": "Inventaire annuel des cultures le plus simplifié Remap and Attribute Table raster functions",
   "help": ""
  },
  {
   "name": "None",
   "description": "Make a Raster or Raster Dataset into a Function Raster Dataset.",
   "help": ""
  }
 ],
 "rasterTypeInfos": [
  {
   "name": "Raster Dataset",
   "description": "Supports all ArcGIS Raster Datasets",
   "help": ""
  }
 ],
 "mensurationCapabilities": "Basic",
 "hasHistograms": true,
 "hasColormap": false,
 "hasRasterAttributeTable": false,
 "minScale": 0,
 "maxScale": 0,
 "exportTilesAllowed": false,
 "supportsStatistics": true,
 "supportsAdvancedQueries": true,
 "editFieldsInfo": null,
 "ownershipBasedAccessControlForRasters": null,
 "allowComputeTiePoints": false,
 "useStandardizedQueries": true,
 "advancedQueryCapabilities": {
  "useStandardizedQueries": true,
  "supportsStatistics": true,
  "supportsOrderBy": true,
  "supportsDistinct": true,
  "supportsPagination": true
 },
 "spatialReference": {
  "wkid": 102100,
  "latestWkid": 3857
 }
}
