{
 "currentVersion": 11.1,
 "serviceDescription": "L'agriculture est un important secteur de production primaire au Canada. La production agricole, la rentabilité, la durabilité et la sécurité alimentaire dépendent de nombreux facteurs agrométéorologiques. Les phénomènes météorologiques extrêmes au Canada, comme les sécheresses, les inondations, les vagues de chaleur, les gels et les tempêtes de forte intensité, peuvent avoir des répercussions importantes sur la production des grandes cultures. Agriculture et Agroalimentaire Canada (AAC) et Environnement et Changement climatique Canada (ECCC) ont élaboré ensemble une série d'indices agrométéorologiques des phénomènes extrêmes fondés sur quatre grandes catégories de facteurs météorologiques : température, précipitations, chaleur et vent. Les indices de conditions météorologiques extrêmes sont conçus comme des outils de prévision à court terme et sont produits à l'aide des prévisions à moyen terme d'ECCC pour créer un indice hebdomadaire produit sur une base quotidienne. La température est un facteur clé qui influe sur le développement physiologique des grandes cultures ainsi que sur le rendement des cultures et la qualité des produits agricoles obtenus pendant la saison de croissance. Les réponses des cultures à la température sont caractérisées par trois importants indices cardinaux de température : la température cardinale minimale, la température cardinale maximale et la température optimale pour la production des grandes cultures, auxquelles la croissance et le développement de la plante peuvent commencer, s'arrêter et se poursuivre à la vitesse maximale, respectivement. Pour plus d'information, consulter : https://ouvert.canada.ca/data/fr/dataset/b7e2321b-056d-4121-b3b5-556c6b85d9a6",
 "name": "indices_meteorologiques_extremes/temperature",
 "description": "L'agriculture est un important secteur de production primaire au Canada. La production agricole, la rentabilité, la durabilité et la sécurité alimentaire dépendent de nombreux facteurs agrométéorologiques. Les phénomènes météorologiques extrêmes au Canada, comme les sécheresses, les inondations, les vagues de chaleur, les gels et les tempêtes de forte intensité, peuvent avoir des répercussions importantes sur la production des grandes cultures. Agriculture et Agroalimentaire Canada (AAC) et Environnement et Changement climatique Canada (ECCC) ont élaboré ensemble une série d'indices agrométéorologiques des phénomènes extrêmes fondés sur quatre grandes catégories de facteurs météorologiques : température, précipitations, chaleur et vent. Les indices de conditions météorologiques extrêmes sont conçus comme des outils de prévision à court terme et sont produits à l'aide des prévisions à moyen terme d'ECCC pour créer un indice hebdomadaire produit sur une base quotidienne. La température est un facteur clé qui influe sur le développement physiologique des grandes cultures ainsi que sur le rendement des cultures et la qualité des produits agricoles obtenus pendant la saison de croissance. Les réponses des cultures à la température sont caractérisées par trois importants indices cardinaux de température : la température cardinale minimale, la température cardinale maximale et la température optimale pour la production des grandes cultures, auxquelles la croissance et le développement de la plante peuvent commencer, s'arrêter et se poursuivre à la vitesse maximale, respectivement. Pour plus d'information, consulter : https://ouvert.canada.ca/data/fr/dataset/b7e2321b-056d-4121-b3b5-556c6b85d9a6",
 "extent": {
  "xmin": -1.62240326851E7,
  "ymin": 4648835.762899995,
  "xmax": -5370032.6851,
  "ymax": 1.8538835762899995E7,
  "spatialReference": {
   "wkid": 102100,
   "latestWkid": 3857
  }
 },
 "initialExtent": {
  "xmin": -1.62240326851E7,
  "ymin": 4648835.762899995,
  "xmax": -5370032.6851,
  "ymax": 1.8538835762899995E7,
  "spatialReference": {
   "wkid": 102100,
   "latestWkid": 3857
  }
 },
 "fullExtent": {
  "xmin": -1.62240326851E7,
  "ymin": 4648835.762899995,
  "xmax": -5370032.6851,
  "ymax": 1.8538835762899995E7,
  "spatialReference": {
   "wkid": 102100,
   "latestWkid": 3857
  }
 },
 "sortableFields": "MinPS,MaxPS,LowPS,HighPS,CenterX,CenterY,ZOrder,Shape_Length,Shape_Area,dateEnd",
 "bandCount": 1,
 "pixelType": "F32",
 "minValues": [],
 "maxValues": [],
 "meanValues": [],
 "stdvValues": [],
 "hasMultidimensions": false,
 "timeInfo": {
  "startTimeField": "dateEnd",
  "endTimeField": "dateEnd",
  "timeExtent": [
   1787227200000,
   1787572800000
  ],
  "timeReference": null
 },
 "pixelSizeX": 1000,
 "pixelSizeY": 1000,
 "datasetFormat": "AMD",
 "uncompressedSize": 603048240,
 "blockWidth": 2048,
 "blockHeight": 256,
 "compressionType": "None",
 "bandNames": [
  "Band_1"
 ],
 "allowCopy": true,
 "allowAnalysis": true,
 "itemAccess": false,
 "minPixelSize": 0,
 "maxPixelSize": 0,
 "copyrightText": "Agriculture et Agroalimentaire Canada, Environnement et Changement climatique Canada, Gouvernement du Canada",
 "serviceDataType": "esriImageServiceDataTypeGeneric",
 "serviceSourceType": "esriImageServiceSourceTypeMosaicDataset",
 "objectIdField": "OBJECTID",
 "fields": [
  {
   "name": "OBJECTID",
   "type": "esriFieldTypeOID",
   "alias": "OBJECTID",
   "domain": null
  },
  {
   "name": "Shape",
   "type": "esriFieldTypeGeometry",
   "alias": "Shape",
   "domain": null
  },
  {
   "name": "Name",
   "type": "esriFieldTypeString",
   "alias": "Name",
   "domain": null,
   "length": 200
  },
  {
   "name": "MinPS",
   "type": "esriFieldTypeDouble",
   "alias": "MinPS",
   "domain": null
  },
  {
   "name": "MaxPS",
   "type": "esriFieldTypeDouble",
   "alias": "MaxPS",
   "domain": null
  },
  {
   "name": "LowPS",
   "type": "esriFieldTypeDouble",
   "alias": "LowPS",
   "domain": null
  },
  {
   "name": "HighPS",
   "type": "esriFieldTypeDouble",
   "alias": "HighPS",
   "domain": null
  },
  {
   "name": "Category",
   "type": "esriFieldTypeInteger",
   "alias": "Category",
   "domain": {
    "type": "codedValue",
    "name": "MosaicCatalogItemCategoryDomain",
    "description": "Catalog item categories.",
    "codedValues": [
     {
      "name": "Unknown",
      "code": 0
     },
     {
      "name": "Primary",
      "code": 1
     },
     {
      "name": "Overview",
      "code": 2
     },
     {
      "name": "Unprocessed Overview",
      "code": 3
     },
     {
      "name": "Partial Overview",
      "code": 4
     },
     {
      "name": "Inactive",
      "code": 5
     },
     {
      "name": "Uploaded",
      "code": 253
     },
     {
      "name": "Incomplete",
      "code": 254
     },
     {
      "name": "Custom",
      "code": 255
     }
    ],
    "mergePolicy": "esriMPTDefaultValue",
    "splitPolicy": "esriSPTDefaultValue"
   }
  },
  {
   "name": "Tag",
   "type": "esriFieldTypeString",
   "alias": "Tag",
   "domain": null,
   "length": 100
  },
  {
   "name": "GroupName",
   "type": "esriFieldTypeString",
   "alias": "GroupName",
   "domain": null,
   "length": 100
  },
  {
   "name": "ProductName",
   "type": "esriFieldTypeString",
   "alias": "ProductName",
   "domain": null,
   "length": 100
  },
  {
   "name": "CenterX",
   "type": "esriFieldTypeDouble",
   "alias": "CenterX",
   "domain": null
  },
  {
   "name": "CenterY",
   "type": "esriFieldTypeDouble",
   "alias": "CenterY",
   "domain": null
  },
  {
   "name": "ZOrder",
   "type": "esriFieldTypeInteger",
   "alias": "ZOrder",
   "domain": null
  },
  {
   "name": "Shape_Length",
   "type": "esriFieldTypeDouble",
   "alias": "Shape_Length",
   "domain": null
  },
  {
   "name": "Shape_Area",
   "type": "esriFieldTypeDouble",
   "alias": "Shape_Area",
   "domain": null
  },
  {
   "name": "dateEnd",
   "type": "esriFieldTypeDate",
   "alias": "dateEnd",
   "domain": null,
   "length": 8
  },
  {
   "name": "tType",
   "type": "esriFieldTypeString",
   "alias": "tType",
   "domain": null,
   "length": 30
  }
 ],
 "capabilities": "Image,Metadata,Catalog,Mensuration",
 "defaultMosaicMethod": "ByAttribute",
 "allowedMosaicMethods": "ByAttribute,None,LockRaster",
 "sortField": "dateEnd",
 "sortValue": "3000",
 "sortAscending": true,
 "mosaicOperator": "First",
 "maxDownloadSizeLimit": 2048,
 "defaultCompressionQuality": 75,
 "defaultResamplingMethod": "Bilinear",
 "maxImageHeight": 4100,
 "maxImageWidth": 15000,
 "maxRecordCount": 1000,
 "maxDownloadImageCount": 20,
 "maxMosaicImageCount": 1,
 "allowRasterFunction": true,
 "rasterFunctionInfos": [
  {
   "name": "None",
   "description": "Make a Raster or Raster Dataset into a Function Raster Dataset.",
   "help": ""
  },
  {
   "name": "jvdf",
   "description": "Jours de vague de fraîcheur",
   "help": ""
  },
  {
   "name": "jvc",
   "description": "Jours de vague de chaleur",
   "help": ""
  },
  {
   "name": "jsg",
   "description": "Jours sans gel",
   "help": ""
  },
  {
   "name": "jgh",
   "description": "Jours de gel hivernal",
   "help": ""
  },
  {
   "name": "probabilite",
   "description": "Probabilité (%)",
   "help": ""
  }
 ],
 "rasterTypeInfos": [
  {
   "name": "Raster Dataset",
   "description": "Supports all ArcGIS Raster Datasets",
   "help": ""
  }
 ],
 "mensurationCapabilities": "Basic",
 "hasHistograms": false,
 "hasColormap": false,
 "hasRasterAttributeTable": false,
 "minScale": 0,
 "maxScale": 0,
 "exportTilesAllowed": false,
 "supportsStatistics": true,
 "supportsAdvancedQueries": true,
 "editFieldsInfo": null,
 "ownershipBasedAccessControlForRasters": null,
 "allowComputeTiePoints": false,
 "useStandardizedQueries": true,
 "advancedQueryCapabilities": {
  "useStandardizedQueries": true,
  "supportsStatistics": true,
  "supportsOrderBy": true,
  "supportsDistinct": true,
  "supportsPagination": true
 },
 "spatialReference": {
  "wkid": 102100,
  "latestWkid": 3857
 }
}
