{
 "currentVersion": 11.1,
 "serviceDescription": "pH du sol prévu (CaCl2) à une profondeur définie (0-5 cm, 5-15 cm, 15-30 cm, 30-60 cm, 60-100 cm). Le Service d'information sur les sols du Canada a élaboré un ensemble de données détaillé sur les sols canadiens et leurs propriétés connexes au moyen de techniques avancées d'apprentissage automatique. Les grilles des pédopaysages du Canada sont produites à partir d'une combinaison de données antérieures et actuelles provenant de l'échantillonnage des sols et de la télédétection. Le modèle d'apprentissage automatique est entraîné à l'aide de plus de 10 000 pédons provenant de l'ensemble du Canada et de 70 ensembles de données sur les covariables. Le nouvel ensemble de données est essentiel pour combler les lacunes laissées par les anciens levés pédologiques et faciliter des évaluations plus complètes à l'échelle nationale. Pour plus d'information, consulter : https://ouvert.canada.ca/data/fr/dataset/4d39c9f9-a85c-4bf2-b920-138fdd423384",
 "name": "grilles_des_pedopaysages_100m/phcacl2",
 "description": "pH du sol prévu (CaCl2) à une profondeur définie (0-5 cm, 5-15 cm, 15-30 cm, 30-60 cm, 60-100 cm). Le Service d'information sur les sols du Canada a élaboré un ensemble de données détaillé sur les sols canadiens et leurs propriétés connexes au moyen de techniques avancées d'apprentissage automatique. Les grilles des pédopaysages du Canada sont produites à partir d'une combinaison de données antérieures et actuelles provenant de l'échantillonnage des sols et de la télédétection. Le modèle d'apprentissage automatique est entraîné à l'aide de plus de 10 000 pédons provenant de l'ensemble du Canada et de 70 ensembles de données sur les covariables. Le nouvel ensemble de données est essentiel pour combler les lacunes laissées par les anciens levés pédologiques et faciliter des évaluations plus complètes à l'échelle nationale. Pour plus d'information, consulter : https://ouvert.canada.ca/data/fr/dataset/4d39c9f9-a85c-4bf2-b920-138fdd423384",
 "extent": {
  "xmin": -1.85274714175E7,
  "ymin": 4937146.4695999995,
  "xmax": -2435471.4175000004,
  "ymax": 1.88212464696E7,
  "spatialReference": {
   "wkid": 102100,
   "latestWkid": 3857
  }
 },
 "initialExtent": {
  "xmin": -1.85274714175E7,
  "ymin": 4937146.4695999995,
  "xmax": -2435471.4175000004,
  "ymax": 1.88212464696E7,
  "spatialReference": {
   "wkid": 102100,
   "latestWkid": 3857
  }
 },
 "fullExtent": {
  "xmin": -1.85274714175E7,
  "ymin": 4937146.4695999995,
  "xmax": -2435471.4175000004,
  "ymax": 1.88212464696E7,
  "spatialReference": {
   "wkid": 102100,
   "latestWkid": 3857
  }
 },
 "sortableFields": "",
 "bandCount": 1,
 "pixelType": "F32",
 "minValues": [
  0
 ],
 "maxValues": [
  10.484540939331055
 ],
 "meanValues": [
  5.260182131707538
 ],
 "stdvValues": [
  0.9306274928172096
 ],
 "hasMultidimensions": true,
 "pixelSizeX": 100,
 "pixelSizeY": 100,
 "datasetFormat": "Cache/LERC2D",
 "uncompressedSize": 89369174880,
 "blockWidth": 256,
 "blockHeight": 256,
 "compressionType": "LERC2D",
 "bandNames": [
  "Band_1"
 ],
 "allowCopy": true,
 "allowAnalysis": true,
 "itemAccess": false,
 "defaultVariable": "",
 "minPixelSize": 0,
 "maxPixelSize": 0,
 "copyrightText": "Agriculture et Agroalimentaire Canada",
 "serviceDataType": "esriImageServiceDataTypeScientific",
 "serviceSourceType": "esriImageServiceSourceTypeDataset",
 "objectIdField": "",
 "fields": [],
 "capabilities": "Image,Metadata,Mensuration",
 "defaultMosaicMethod": "Center",
 "allowedMosaicMethods": "",
 "sortField": "",
 "sortValue": null,
 "sortAscending": true,
 "mosaicOperator": "First",
 "defaultCompressionQuality": 75,
 "defaultResamplingMethod": "Bilinear",
 "maxImageHeight": 4100,
 "maxImageWidth": 15000,
 "allowRasterFunction": true,
 "rasterFunctionInfos": [
  {
   "name": "None",
   "description": "",
   "help": ""
  }
 ],
 "rasterTypeInfos": [
  {
   "name": "Raster Dataset",
   "description": "Supports all ArcGIS Raster Datasets",
   "help": ""
  }
 ],
 "mensurationCapabilities": "Basic",
 "hasHistograms": true,
 "hasColormap": false,
 "hasRasterAttributeTable": false,
 "minScale": 0,
 "maxScale": 0,
 "exportTilesAllowed": false,
 "supportsStatistics": false,
 "supportsAdvancedQueries": false,
 "editFieldsInfo": null,
 "ownershipBasedAccessControlForRasters": null,
 "allowComputeTiePoints": false,
 "useStandardizedQueries": true,
 "advancedQueryCapabilities": {
  "useStandardizedQueries": true,
  "supportsStatistics": false,
  "supportsOrderBy": false,
  "supportsDistinct": false,
  "supportsPagination": false
 },
 "spatialReference": {
  "wkid": 102100,
  "latestWkid": 3857
 }
}
