<?xml version="1.0" encoding="UTF-8" standalone="no"?>
<metadata xml:lang="en">
<Esri>
<CreaDate>20250120</CreaDate>
<CreaTime>15094400</CreaTime>
<ArcGISFormat>1.0</ArcGISFormat>
<SyncOnce>FALSE</SyncOnce>
<ArcGISProfile>FGDC</ArcGISProfile>
<DataProperties>
<itemProps>
<itemName Sync="TRUE">soil_landscape_grids_of_canada_100m_bulk_density.crf</itemName>
<imsContentType Sync="TRUE">002</imsContentType>
<nativeExtBox>
<westBL Sync="TRUE">-18527471.417500</westBL>
<eastBL Sync="TRUE">-2435471.417500</eastBL>
<southBL Sync="TRUE">4937146.469600</southBL>
<northBL Sync="TRUE">18821246.469600</northBL>
<exTypeCode Sync="TRUE">1</exTypeCode>
</nativeExtBox>
</itemProps>
<coordRef>
<type Sync="TRUE">Projected</type>
<geogcsn Sync="TRUE">GCS_WGS_1984</geogcsn>
<csUnits Sync="TRUE">Linear Unit: Meter (1.000000)</csUnits>
<projcsn Sync="TRUE">WGS_1984_Web_Mercator_Auxiliary_Sphere</projcsn>
<peXml Sync="TRUE">&lt;ProjectedCoordinateSystem xsi:type='typens:ProjectedCoordinateSystem' xmlns:xsi='http://www.w3.org/2001/XMLSchema-instance' xmlns:xs='http://www.w3.org/2001/XMLSchema' xmlns:typens='http://www.esri.com/schemas/ArcGIS/3.4.0'&gt;&lt;WKT&gt;PROJCS[&amp;quot;WGS_1984_Web_Mercator_Auxiliary_Sphere&amp;quot;,GEOGCS[&amp;quot;GCS_WGS_1984&amp;quot;,DATUM[&amp;quot;D_WGS_1984&amp;quot;,SPHEROID[&amp;quot;WGS_1984&amp;quot;,6378137.0,298.257223563]],PRIMEM[&amp;quot;Greenwich&amp;quot;,0.0],UNIT[&amp;quot;Degree&amp;quot;,0.0174532925199433]],PROJECTION[&amp;quot;Mercator_Auxiliary_Sphere&amp;quot;],PARAMETER[&amp;quot;False_Easting&amp;quot;,0.0],PARAMETER[&amp;quot;False_Northing&amp;quot;,0.0],PARAMETER[&amp;quot;Central_Meridian&amp;quot;,0.0],PARAMETER[&amp;quot;Standard_Parallel_1&amp;quot;,0.0],PARAMETER[&amp;quot;Auxiliary_Sphere_Type&amp;quot;,0.0],UNIT[&amp;quot;Meter&amp;quot;,1.0],AUTHORITY[&amp;quot;EPSG&amp;quot;,3857]]&lt;/WKT&gt;&lt;XOrigin&gt;-20037700&lt;/XOrigin&gt;&lt;YOrigin&gt;-30241100&lt;/YOrigin&gt;&lt;XYScale&gt;148923141.92838538&lt;/XYScale&gt;&lt;ZOrigin&gt;-100000&lt;/ZOrigin&gt;&lt;ZScale&gt;10000&lt;/ZScale&gt;&lt;MOrigin&gt;-100000&lt;/MOrigin&gt;&lt;MScale&gt;10000&lt;/MScale&gt;&lt;XYTolerance&gt;0.001&lt;/XYTolerance&gt;&lt;ZTolerance&gt;0.001&lt;/ZTolerance&gt;&lt;MTolerance&gt;0.001&lt;/MTolerance&gt;&lt;HighPrecision&gt;true&lt;/HighPrecision&gt;&lt;WKID&gt;102100&lt;/WKID&gt;&lt;LatestWKID&gt;3857&lt;/LatestWKID&gt;&lt;/ProjectedCoordinateSystem&gt;</peXml>
</coordRef>
<RasterProperties>
<General>
<PixelDepth Sync="TRUE">32</PixelDepth>
<HasColormap Sync="TRUE">FALSE</HasColormap>
<CompressionType Sync="TRUE">LERC2D</CompressionType>
<NumBands Sync="TRUE">1</NumBands>
<Format Sync="TRUE">Cache/LERC2D</Format>
<HasPyramids Sync="TRUE">TRUE</HasPyramids>
<SourceType Sync="TRUE">continuous</SourceType>
<PixelType Sync="TRUE">floating point</PixelType>
<NoDataValue Sync="TRUE">
</NoDataValue>
</General>
</RasterProperties>
</DataProperties>
<SyncDate>20250407</SyncDate>
<SyncTime>13592100</SyncTime>
<ModDate>20250407</ModDate>
<ModTime>13592100</ModTime>
</Esri>
<mdChar>
<CharSetCd value="004">
</CharSetCd>
</mdChar>
<mdHrLv>
<ScopeCd value="005">
</ScopeCd>
</mdHrLv>
<mdDateSt>20250407</mdDateSt>
<mdStanName>ArcGIS Metadata</mdStanName>
<mdStanVer>1.0</mdStanVer>
<dataIdInfo>
<idCitation>
<presForm>
<PresFormCd value="005">
</PresFormCd>
</presForm>
<presForm>
<fgdcGeoform>remote-sensing image</fgdcGeoform>
</presForm>
<resTitle Sync="TRUE">Densité brute (g/cm3)</resTitle>
</idCitation>
<spatRpType>
<SpatRepTypCd value="002">
</SpatRepTypCd>
</spatRpType>
<envirDesc>Esri ArcGIS 13.4.0.55405</envirDesc>
<dataExt>
<geoEle>
<GeoBndBox>
<exTypeCode>true</exTypeCode>
<westBL>-166.435108</westBL>
<eastBL>-21.878212</eastBL>
<northBL>84.013162</northBL>
<southBL>40.488231</southBL>
</GeoBndBox>
</geoEle>
</dataExt>
<dataLang>
<languageCode Sync="TRUE" value="eng">
</languageCode>
<countryCode Sync="TRUE" value="USA">
</countryCode>
</dataLang>
<dataExt>
<geoEle>
<GeoBndBox esriExtentType="search">
<exTypeCode Sync="TRUE">1</exTypeCode>
<westBL Sync="TRUE">-166.435108</westBL>
<eastBL Sync="TRUE">-21.878212</eastBL>
<northBL Sync="TRUE">84.013162</northBL>
<southBL Sync="TRUE">40.488231</southBL>
</GeoBndBox>
</geoEle>
</dataExt>
<idAbs>Densité apparente prévue (g/cm3 ) à des profondeurs définies (0-5 cm, 5-15 cm, 15-30 cm, 30-60 cm, 60-100 cm). La masse de sol sec par unité de volume en vrac. Le Service d'information sur les sols du Canada a élaboré un ensemble de données détaillé sur les sols canadiens et leurs propriétés connexes au moyen de techniques avancées d'apprentissage automatique. Les grilles des pédopaysages du Canada sont produites à partir d'une combinaison de données antérieures et actuelles provenant de l'échantillonnage des sols et de la télédétection. Le modèle d'apprentissage automatique est entraîné à l'aide de plus de 10 000 pédons provenant de l'ensemble du Canada et de 70 ensembles de données sur les covariables. Le nouvel ensemble de données est essentiel pour combler les lacunes laissées par les anciens levés pédologiques et faciliter des évaluations plus complètes à l'échelle nationale. Pour plus d'information, consulter : https://ouvert.canada.ca/data/fr/dataset/4d39c9f9-a85c-4bf2-b920-138fdd423384</idAbs>
<idPurp>Densité apparente prévue (g/cm3 ) à des profondeurs définies (0-5 cm, 5-15 cm, 15-30 cm, 30-60 cm, 60-100 cm). La masse de sol sec par unité de volume en vrac.</idPurp>
<idCredit>Agriculture et Agroalimentaire Canada</idCredit>
<resConst>
<Consts>
<useLimit>© Gouvernement du Canada (2025). L'utilisation des données est assujettie à l'Accord de licence de données libres du gouvernement du Canada, disponible à : https://ouvert.canada.ca/fr/licence-du-gouvernement-ouvert-canada. Les modalités de l'accord régissent l'utilisation et la reproduction des données plutôt que les énoncés des droits d'auteur et de reproduction figurant dans les Avis importants sur le site Web d'Agriculture et Agroalimentaire Canada.</useLimit>
</Consts>
</resConst>
<searchKeys>
<keyword>Sol</keyword>
<keyword>Agriculture</keyword>
<keyword>Gestion des terres</keyword>
<keyword>Environnement</keyword>
<keyword>Géomatique</keyword>
<keyword>Systèmes d'information géographique</keyword>
<keyword>Données géographiques</keyword>
<keyword>Cartes</keyword>
<keyword>Géographie</keyword>
</searchKeys>
</dataIdInfo>
<spatRepInfo>
<Georect>
<numDims>2</numDims>
<axisDimension type="001">
<dimSize>138841</dimSize>
<dimResol>
<value Sync="TRUE" uom="m">100.000000</value>
</dimResol>
</axisDimension>
<axisDimension type="002">
<dimSize>160920</dimSize>
<dimResol>
<value Sync="TRUE" uom="m">100.000000</value>
</dimResol>
</axisDimension>
<cellGeo>
<CellGeoCd Sync="TRUE" value="002">
</CellGeoCd>
</cellGeo>
<tranParaAv Sync="TRUE">1</tranParaAv>
<chkPtAv Sync="TRUE">0</chkPtAv>
<cornerPts>
<pos Sync="TRUE">-18527471.417500 4937146.469600</pos>
</cornerPts>
<cornerPts>
<pos Sync="TRUE">-18527471.417500 18821246.469600</pos>
</cornerPts>
<cornerPts>
<pos Sync="TRUE">-2435471.417500 18821246.469600</pos>
</cornerPts>
<cornerPts>
<pos Sync="TRUE">-2435471.417500 4937146.469600</pos>
</cornerPts>
<centerPt>
<pos Sync="TRUE">-10481471.417500 11879196.469600</pos>
</centerPt>
<ptInPixel>
<PixOrientCd Sync="TRUE" value="001">
</PixOrientCd>
</ptInPixel>
</Georect>
</spatRepInfo>
<mdLang>
<languageCode Sync="TRUE" value="eng">
</languageCode>
<countryCode Sync="TRUE" value="USA">
</countryCode>
</mdLang>
<distInfo>
<distFormat>
<formatName Sync="TRUE">Raster Dataset</formatName>
</distFormat>
</distInfo>
<mdHrLvName Sync="TRUE">dataset</mdHrLvName>
<refSysInfo>
<RefSystem>
<refSysID>
<identCode Sync="TRUE" code="3857">
</identCode>
<idCodeSpace Sync="TRUE">EPSG</idCodeSpace>
<idVersion Sync="TRUE">6.18.3(9.3.1.2)</idVersion>
</refSysID>
</RefSystem>
</refSysInfo>
<contInfo>
<ImgDesc>
<contentTyp>
<ContentTypCd Sync="TRUE" value="001">
</ContentTypCd>
</contentTyp>
<covDim>
<Band>
<dimDescrp Sync="TRUE">Band_1</dimDescrp>
<maxVal Sync="TRUE">2.949332</maxVal>
<minVal Sync="TRUE">0.000000</minVal>
<bitsPerVal Sync="TRUE">32</bitsPerVal>
<valUnit>
<UOM type="length">
</UOM>
</valUnit>
</Band>
</covDim>
</ImgDesc>
</contInfo>
</metadata>
