{
 "currentVersion": 11.1,
 "serviceDescription": "The new global dataset, called the Evaporative Stress Index (ESI), available online and produced weekly at 5-kilometer resolution for the entire globe, reveals regions of drought where vegetation is stressed due to lack of water, enabling agriculture ministries to provide farmers with actionable advice about irrigation. The ESI can capture early signals of 'flash drought', a condition brought on by extended periods of hot, dry, and windy conditions leading to rapid soil moisture depletion. Reduced rates of water loss can be observed through the use of land surface temperature before it can be observed through decreases in vegetation health or 'greenness'. The ESI describes soil moisture across the landscape without using observed rainfall data. This is critical in developing regions and other parts of the world lacking sufficient ground-based observations of rainfall. The ESI is based on satellite observations of land surface temperature, which are used to estimate water loss due to evapotranspiration (ET), the loss of water via evaporation from soil and plant surfaces and via transpiration through plant leaves. Generally, healthy green vegetation with access to an adequate supply of water warms at a much slower rate than does dry and/or stressed vegetation. Based on variations in land surface temperature, the ESI indicates how the current rate of ET compares to normal conditions. Negative ESI values show below normal ET rates, indicating vegetation that stressed due to inadequate soil moisture. (Plants first response when stressed from lack of water is to reduce their transpiration to conserve water within the plant.) Author: Christopher Hain (NASA Marshall Space Flight Center), Martha Anderson (USDA Agricultural Research Service). For more information, visit: https://servirglobal.net/Global/Evaporative-Stress-Index-4-weeks (SERVIR Global)",
 "name": "evaporative_stress_index",
 "description": "The new global dataset, called the Evaporative Stress Index (ESI), available online and produced weekly at 5-kilometer resolution for the entire globe, reveals regions of drought where vegetation is stressed due to lack of water, enabling agriculture ministries to provide farmers with actionable advice about irrigation. The ESI can capture early signals of 'flash drought', a condition brought on by extended periods of hot, dry, and windy conditions leading to rapid soil moisture depletion. Reduced rates of water loss can be observed through the use of land surface temperature before it can be observed through decreases in vegetation health or 'greenness'. The ESI describes soil moisture across the landscape without using observed rainfall data. This is critical in developing regions and other parts of the world lacking sufficient ground-based observations of rainfall. The ESI is based on satellite observations of land surface temperature, which are used to estimate water loss due to evapotranspiration (ET), the loss of water via evaporation from soil and plant surfaces and via transpiration through plant leaves. Generally, healthy green vegetation with access to an adequate supply of water warms at a much slower rate than does dry and/or stressed vegetation. Based on variations in land surface temperature, the ESI indicates how the current rate of ET compares to normal conditions. Negative ESI values show below normal ET rates, indicating vegetation that stressed due to inadequate soil moisture. (Plants first response when stressed from lack of water is to reduce their transpiration to conserve water within the plant.) Author: Christopher Hain (NASA Marshall Space Flight Center), Martha Anderson (USDA Agricultural Research Service). For more information, visit: https://servirglobal.net/Global/Evaporative-Stress-Index-4-weeks (SERVIR Global)",
 "extent": {
  "xmin": -1.56960482E7,
  "ymin": 5160979.440000001,
  "xmax": -5900366.573587244,
  "ymax": 1.782191196E7,
  "spatialReference": {
   "wkid": 102100,
   "latestWkid": 3857
  }
 },
 "initialExtent": {
  "xmin": -1.56960482E7,
  "ymin": 5160979.440000001,
  "xmax": -5900366.573587244,
  "ymax": 1.782191196E7,
  "spatialReference": {
   "wkid": 102100,
   "latestWkid": 3857
  }
 },
 "fullExtent": {
  "xmin": -1.56960482E7,
  "ymin": 5160979.440000001,
  "xmax": -5900366.573587244,
  "ymax": 1.782191196E7,
  "spatialReference": {
   "wkid": 102100,
   "latestWkid": 3857
  }
 },
 "sortableFields": "MinPS,MaxPS,LowPS,HighPS,CenterX,CenterY,ZOrder,Shape_Length,Shape_Area,dateEnd",
 "bandCount": 1,
 "pixelType": "F32",
 "minValues": [],
 "maxValues": [],
 "meanValues": [],
 "stdvValues": [],
 "hasMultidimensions": false,
 "timeInfo": {
  "startTimeField": "dateEnd",
  "endTimeField": "dateEnd",
  "timeExtent": [
   1735732800000,
   1783598400000
  ],
  "timeReference": null
 },
 "pixelSizeX": 5607.144605845881,
 "pixelSizeY": 5607.144605845881,
 "datasetFormat": "AMD",
 "uncompressedSize": 15778904,
 "blockWidth": 2048,
 "blockHeight": 256,
 "compressionType": "None",
 "bandNames": [
  "Band_1"
 ],
 "allowCopy": true,
 "allowAnalysis": true,
 "itemAccess": false,
 "minPixelSize": 0,
 "maxPixelSize": 0,
 "copyrightText": "Agriculture and Agri-Food Canada, NASA, USDA",
 "serviceDataType": "esriImageServiceDataTypeGeneric",
 "serviceSourceType": "esriImageServiceSourceTypeMosaicDataset",
 "objectIdField": "OBJECTID",
 "fields": [
  {
   "name": "OBJECTID",
   "type": "esriFieldTypeOID",
   "alias": "OBJECTID",
   "domain": null
  },
  {
   "name": "Shape",
   "type": "esriFieldTypeGeometry",
   "alias": "Shape",
   "domain": null
  },
  {
   "name": "Name",
   "type": "esriFieldTypeString",
   "alias": "Name",
   "domain": null,
   "length": 200
  },
  {
   "name": "MinPS",
   "type": "esriFieldTypeDouble",
   "alias": "MinPS",
   "domain": null
  },
  {
   "name": "MaxPS",
   "type": "esriFieldTypeDouble",
   "alias": "MaxPS",
   "domain": null
  },
  {
   "name": "LowPS",
   "type": "esriFieldTypeDouble",
   "alias": "LowPS",
   "domain": null
  },
  {
   "name": "HighPS",
   "type": "esriFieldTypeDouble",
   "alias": "HighPS",
   "domain": null
  },
  {
   "name": "Category",
   "type": "esriFieldTypeInteger",
   "alias": "Category",
   "domain": {
    "type": "codedValue",
    "name": "MosaicCatalogItemCategoryDomain",
    "description": "Catalog item categories.",
    "codedValues": [
     {
      "name": "Unknown",
      "code": 0
     },
     {
      "name": "Primary",
      "code": 1
     },
     {
      "name": "Overview",
      "code": 2
     },
     {
      "name": "Unprocessed Overview",
      "code": 3
     },
     {
      "name": "Partial Overview",
      "code": 4
     },
     {
      "name": "Inactive",
      "code": 5
     },
     {
      "name": "Uploaded",
      "code": 253
     },
     {
      "name": "Incomplete",
      "code": 254
     },
     {
      "name": "Custom",
      "code": 255
     }
    ],
    "mergePolicy": "esriMPTDefaultValue",
    "splitPolicy": "esriSPTDefaultValue"
   }
  },
  {
   "name": "Tag",
   "type": "esriFieldTypeString",
   "alias": "Tag",
   "domain": null,
   "length": 100
  },
  {
   "name": "GroupName",
   "type": "esriFieldTypeString",
   "alias": "GroupName",
   "domain": null,
   "length": 100
  },
  {
   "name": "ProductName",
   "type": "esriFieldTypeString",
   "alias": "ProductName",
   "domain": null,
   "length": 100
  },
  {
   "name": "CenterX",
   "type": "esriFieldTypeDouble",
   "alias": "CenterX",
   "domain": null
  },
  {
   "name": "CenterY",
   "type": "esriFieldTypeDouble",
   "alias": "CenterY",
   "domain": null
  },
  {
   "name": "ZOrder",
   "type": "esriFieldTypeInteger",
   "alias": "ZOrder",
   "domain": null
  },
  {
   "name": "Shape_Length",
   "type": "esriFieldTypeDouble",
   "alias": "Shape_Length",
   "domain": null
  },
  {
   "name": "Shape_Area",
   "type": "esriFieldTypeDouble",
   "alias": "Shape_Area",
   "domain": null
  },
  {
   "name": "dateEnd",
   "type": "esriFieldTypeDate",
   "alias": "dateEnd",
   "domain": null,
   "length": 8
  }
 ],
 "capabilities": "Image,Metadata,Catalog",
 "defaultMosaicMethod": "ByAttribute",
 "allowedMosaicMethods": "ByAttribute,None,LockRaster",
 "sortField": "dateEnd",
 "sortValue": "3000",
 "sortAscending": true,
 "mosaicOperator": "First",
 "maxDownloadSizeLimit": 2048,
 "defaultCompressionQuality": 75,
 "defaultResamplingMethod": "Bilinear",
 "maxImageHeight": 4100,
 "maxImageWidth": 15000,
 "maxRecordCount": 1000,
 "maxDownloadImageCount": 20,
 "maxMosaicImageCount": 1,
 "allowRasterFunction": true,
 "rasterFunctionInfos": [
  {
   "name": "esi_modis_4week",
   "description": "Remap and Attribute Table raster functions",
   "help": ""
  },
  {
   "name": "None",
   "description": "",
   "help": ""
  }
 ],
 "rasterTypeInfos": [
  {
   "name": "Raster Dataset",
   "description": "Supports all ArcGIS Raster Datasets",
   "help": ""
  }
 ],
 "mensurationCapabilities": "",
 "hasHistograms": false,
 "hasColormap": false,
 "hasRasterAttributeTable": false,
 "minScale": 0,
 "maxScale": 0,
 "exportTilesAllowed": false,
 "supportsStatistics": true,
 "supportsAdvancedQueries": true,
 "editFieldsInfo": null,
 "ownershipBasedAccessControlForRasters": null,
 "allowComputeTiePoints": false,
 "useStandardizedQueries": true,
 "advancedQueryCapabilities": {
  "useStandardizedQueries": true,
  "supportsStatistics": true,
  "supportsOrderBy": true,
  "supportsDistinct": true,
  "supportsPagination": true
 },
 "spatialReference": {
  "wkid": 102100,
  "latestWkid": 3857
 }
}
