{
 "currentVersion": 11.1,
 "serviceDescription": "Days above 25 and 30 degrees Celsius are defined as a count of the number of days within the date range where the maximum daily temperature was greater than 25 or 30 degrees respectively. Consecutive days above 25, 30 and 32 degrees Celsius is a count of the number of days, starting from the date of the product and going back in time, since there has been a day with a maximum temperature at or below 25, 30 or 32 degrees respectively. Heat wave products are only produced during the Growing Season, April 1 through October 31. For more information, visit: https://open.canada.ca/data/en/dataset/3e9cc0c9-7e59-478b-befb-a584674baa75",
 "name": "agclimate/heat_wave",
 "description": "Days above 25 and 30 degrees Celsius are defined as a count of the number of days within the date range where the maximum daily temperature was greater than 25 or 30 degrees respectively. Consecutive days above 25, 30 and 32 degrees Celsius is a count of the number of days, starting from the date of the product and going back in time, since there has been a day with a maximum temperature at or below 25, 30 or 32 degrees respectively. Heat wave products are only produced during the Growing Season, April 1 through October 31. For more information, visit: https://open.canada.ca/data/en/dataset/3e9cc0c9-7e59-478b-befb-a584674baa75",
 "extent": {
  "xmin": -1.51691624019E7,
  "ymin": 4170057.2606000043,
  "xmax": -5808162.401900001,
  "ymax": 8816057.260600004,
  "spatialReference": {
   "wkid": 102100,
   "latestWkid": 3857
  }
 },
 "initialExtent": {
  "xmin": -1.51691624019E7,
  "ymin": 4170057.2606000043,
  "xmax": -5808162.401900001,
  "ymax": 8816057.260600004,
  "spatialReference": {
   "wkid": 102100,
   "latestWkid": 3857
  }
 },
 "fullExtent": {
  "xmin": -1.51691624019E7,
  "ymin": 4170057.2606000043,
  "xmax": -5808162.401900001,
  "ymax": 8816057.260600004,
  "spatialReference": {
   "wkid": 102100,
   "latestWkid": 3857
  }
 },
 "sortableFields": "MinPS,MaxPS,LowPS,HighPS,CenterX,CenterY,ZOrder,Shape_Length,Shape_Area,dateEnd",
 "bandCount": 1,
 "pixelType": "U8",
 "minValues": [],
 "maxValues": [],
 "meanValues": [],
 "stdvValues": [],
 "hasMultidimensions": false,
 "timeInfo": {
  "startTimeField": "dateEnd",
  "endTimeField": "dateEnd",
  "timeExtent": [
   1370260800000,
   1787486400000
  ],
  "timeReference": null
 },
 "pixelSizeX": 1000,
 "pixelSizeY": 1000,
 "datasetFormat": "AMD",
 "uncompressedSize": 43491206,
 "blockWidth": 2048,
 "blockHeight": 256,
 "compressionType": "None",
 "bandNames": [
  "Band_1"
 ],
 "allowCopy": true,
 "allowAnalysis": true,
 "itemAccess": false,
 "minPixelSize": 0,
 "maxPixelSize": 0,
 "copyrightText": "Agriculture and Agri-Food Canada",
 "serviceDataType": "esriImageServiceDataTypeGeneric",
 "serviceSourceType": "esriImageServiceSourceTypeMosaicDataset",
 "objectIdField": "OBJECTID",
 "fields": [
  {
   "name": "OBJECTID",
   "type": "esriFieldTypeOID",
   "alias": "OBJECTID",
   "domain": null
  },
  {
   "name": "Shape",
   "type": "esriFieldTypeGeometry",
   "alias": "Shape",
   "domain": null
  },
  {
   "name": "Name",
   "type": "esriFieldTypeString",
   "alias": "Name",
   "domain": null,
   "length": 200
  },
  {
   "name": "MinPS",
   "type": "esriFieldTypeDouble",
   "alias": "MinPS",
   "domain": null
  },
  {
   "name": "MaxPS",
   "type": "esriFieldTypeDouble",
   "alias": "MaxPS",
   "domain": null
  },
  {
   "name": "LowPS",
   "type": "esriFieldTypeDouble",
   "alias": "LowPS",
   "domain": null
  },
  {
   "name": "HighPS",
   "type": "esriFieldTypeDouble",
   "alias": "HighPS",
   "domain": null
  },
  {
   "name": "Category",
   "type": "esriFieldTypeInteger",
   "alias": "Category",
   "domain": {
    "type": "codedValue",
    "name": "MosaicCatalogItemCategoryDomain",
    "description": "Catalog item categories.",
    "codedValues": [
     {
      "name": "Unknown",
      "code": 0
     },
     {
      "name": "Primary",
      "code": 1
     },
     {
      "name": "Overview",
      "code": 2
     },
     {
      "name": "Unprocessed Overview",
      "code": 3
     },
     {
      "name": "Partial Overview",
      "code": 4
     },
     {
      "name": "Inactive",
      "code": 5
     },
     {
      "name": "Uploaded",
      "code": 253
     },
     {
      "name": "Incomplete",
      "code": 254
     },
     {
      "name": "Custom",
      "code": 255
     }
    ],
    "mergePolicy": "esriMPTDefaultValue",
    "splitPolicy": "esriSPTDefaultValue"
   }
  },
  {
   "name": "Tag",
   "type": "esriFieldTypeString",
   "alias": "Tag",
   "domain": null,
   "length": 100
  },
  {
   "name": "GroupName",
   "type": "esriFieldTypeString",
   "alias": "GroupName",
   "domain": null,
   "length": 100
  },
  {
   "name": "ProductName",
   "type": "esriFieldTypeString",
   "alias": "ProductName",
   "domain": null,
   "length": 100
  },
  {
   "name": "CenterX",
   "type": "esriFieldTypeDouble",
   "alias": "CenterX",
   "domain": null
  },
  {
   "name": "CenterY",
   "type": "esriFieldTypeDouble",
   "alias": "CenterY",
   "domain": null
  },
  {
   "name": "ZOrder",
   "type": "esriFieldTypeInteger",
   "alias": "ZOrder",
   "domain": null
  },
  {
   "name": "Shape_Length",
   "type": "esriFieldTypeDouble",
   "alias": "Shape_Length",
   "domain": null
  },
  {
   "name": "Shape_Area",
   "type": "esriFieldTypeDouble",
   "alias": "Shape_Area",
   "domain": null
  },
  {
   "name": "dateEnd",
   "type": "esriFieldTypeDate",
   "alias": "dateEnd",
   "domain": null,
   "length": 8
  },
  {
   "name": "tType",
   "type": "esriFieldTypeString",
   "alias": "tType",
   "domain": null,
   "length": 30
  }
 ],
 "capabilities": "Image,Metadata,Catalog,Mensuration",
 "defaultMosaicMethod": "ByAttribute",
 "allowedMosaicMethods": "ByAttribute,None,LockRaster",
 "sortField": "dateEnd",
 "sortValue": "3000",
 "sortAscending": true,
 "mosaicOperator": "First",
 "maxDownloadSizeLimit": 2048,
 "defaultCompressionQuality": 75,
 "defaultResamplingMethod": "Bilinear",
 "maxImageHeight": 4100,
 "maxImageWidth": 15000,
 "maxRecordCount": 1000,
 "maxDownloadImageCount": 20,
 "maxMosaicImageCount": 1,
 "allowRasterFunction": true,
 "rasterFunctionInfos": [
  {
   "name": "hw25_gs",
   "description": "Growing season days with temperatures above 25°C",
   "help": ""
  },
  {
   "name": "hw25_cc",
   "description": "Consecutive days with temperatures above 25°C",
   "help": ""
  },
  {
   "name": "hw30_cc",
   "description": "Consecutive days with temperatures above 30°C",
   "help": ""
  },
  {
   "name": "hw30_gs",
   "description": "Growing season days with temperatures above 30°C",
   "help": ""
  },
  {
   "name": "hw32_cc",
   "description": "Consecutive days with temperatures above 32°C",
   "help": ""
  },
  {
   "name": "None",
   "description": "",
   "help": ""
  }
 ],
 "rasterTypeInfos": [
  {
   "name": "Raster Dataset",
   "description": "Supports all ArcGIS Raster Datasets",
   "help": ""
  }
 ],
 "mensurationCapabilities": "Basic",
 "hasHistograms": false,
 "hasColormap": false,
 "hasRasterAttributeTable": false,
 "minScale": 0,
 "maxScale": 0,
 "exportTilesAllowed": false,
 "supportsStatistics": true,
 "supportsAdvancedQueries": true,
 "editFieldsInfo": null,
 "ownershipBasedAccessControlForRasters": null,
 "allowComputeTiePoints": false,
 "useStandardizedQueries": true,
 "advancedQueryCapabilities": {
  "useStandardizedQueries": true,
  "supportsStatistics": true,
  "supportsOrderBy": true,
  "supportsDistinct": true,
  "supportsPagination": true
 },
 "spatialReference": {
  "wkid": 102100,
  "latestWkid": 3857
 }
}
