{
 "currentVersion": 11.1,
 "serviceDescription": "Departure from average precipitation products compute the accumulated precipitation value for a location and subtract the long term average value at that location from it. The long term average value is currently defined as the average amount over the period of 1981 - 2010. If the resultant value is negative it indicates that the location has received less than the usual amount of precipitation for that timeframe by the amount given in mm; conversely, a positive amount shows that the location has seen more than the usual amount of precipitation. Products are produced for the following timeframes: Agricultural Year, Growing Season and Winter Season as well as rolling products for 30, 60, 90, 180, 270, 365, 730, 1095, 1460 and 1825 days. These values are intended to provide users with a general idea of the how the amount of precipitation that has been received by a region over the given timeframe compares to the amount which is generally received. For more information, visit: https://open.canada.ca/data/en/dataset/7b817d93-f34d-4aa8-8658-d9abe9d84a8f",
 "name": "agclimate/departure_from_average_precipitation",
 "description": "Departure from average precipitation products compute the accumulated precipitation value for a location and subtract the long term average value at that location from it. The long term average value is currently defined as the average amount over the period of 1981 - 2010. If the resultant value is negative it indicates that the location has received less than the usual amount of precipitation for that timeframe by the amount given in mm; conversely, a positive amount shows that the location has seen more than the usual amount of precipitation. Products are produced for the following timeframes: Agricultural Year, Growing Season and Winter Season as well as rolling products for 30, 60, 90, 180, 270, 365, 730, 1095, 1460 and 1825 days. These values are intended to provide users with a general idea of the how the amount of precipitation that has been received by a region over the given timeframe compares to the amount which is generally received. For more information, visit: https://open.canada.ca/data/en/dataset/7b817d93-f34d-4aa8-8658-d9abe9d84a8f",
 "extent": {
  "xmin": -1.51691624019E7,
  "ymin": 4170057.261000002,
  "xmax": -5807162.401900001,
  "ymax": 8816057.261000002,
  "spatialReference": {
   "wkid": 102100,
   "latestWkid": 3857
  }
 },
 "initialExtent": {
  "xmin": -1.51691624019E7,
  "ymin": 4170057.261000002,
  "xmax": -5807162.401900001,
  "ymax": 8816057.261000002,
  "spatialReference": {
   "wkid": 102100,
   "latestWkid": 3857
  }
 },
 "fullExtent": {
  "xmin": -1.51691624019E7,
  "ymin": 4170057.261000002,
  "xmax": -5807162.401900001,
  "ymax": 8816057.261000002,
  "spatialReference": {
   "wkid": 102100,
   "latestWkid": 3857
  }
 },
 "sortableFields": "MinPS,MaxPS,LowPS,HighPS,CenterX,CenterY,ZOrder,Shape_Length,Shape_Area,dateEnd",
 "bandCount": 1,
 "pixelType": "F32",
 "minValues": [],
 "maxValues": [],
 "meanValues": [],
 "stdvValues": [],
 "hasMultidimensions": false,
 "timeInfo": {
  "startTimeField": "dateEnd",
  "endTimeField": "dateEnd",
  "timeExtent": [
   1364817600000,
   1787486400000
  ],
  "timeReference": null
 },
 "pixelSizeX": 1000,
 "pixelSizeY": 1000,
 "datasetFormat": "AMD",
 "uncompressedSize": 173983408,
 "blockWidth": 2048,
 "blockHeight": 256,
 "compressionType": "None",
 "bandNames": [
  "Band_1"
 ],
 "allowCopy": true,
 "allowAnalysis": true,
 "itemAccess": false,
 "minPixelSize": 0,
 "maxPixelSize": 0,
 "copyrightText": "Agriculture and Agri-Food Canada",
 "serviceDataType": "esriImageServiceDataTypeGeneric",
 "serviceSourceType": "esriImageServiceSourceTypeMosaicDataset",
 "objectIdField": "OBJECTID",
 "fields": [
  {
   "name": "OBJECTID",
   "type": "esriFieldTypeOID",
   "alias": "OBJECTID",
   "domain": null
  },
  {
   "name": "Shape",
   "type": "esriFieldTypeGeometry",
   "alias": "Shape",
   "domain": null
  },
  {
   "name": "Name",
   "type": "esriFieldTypeString",
   "alias": "Name",
   "domain": null,
   "length": 200
  },
  {
   "name": "MinPS",
   "type": "esriFieldTypeDouble",
   "alias": "MinPS",
   "domain": null
  },
  {
   "name": "MaxPS",
   "type": "esriFieldTypeDouble",
   "alias": "MaxPS",
   "domain": null
  },
  {
   "name": "LowPS",
   "type": "esriFieldTypeDouble",
   "alias": "LowPS",
   "domain": null
  },
  {
   "name": "HighPS",
   "type": "esriFieldTypeDouble",
   "alias": "HighPS",
   "domain": null
  },
  {
   "name": "Category",
   "type": "esriFieldTypeInteger",
   "alias": "Category",
   "domain": {
    "type": "codedValue",
    "name": "MosaicCatalogItemCategoryDomain",
    "description": "Catalog item categories.",
    "codedValues": [
     {
      "name": "Unknown",
      "code": 0
     },
     {
      "name": "Primary",
      "code": 1
     },
     {
      "name": "Overview",
      "code": 2
     },
     {
      "name": "Unprocessed Overview",
      "code": 3
     },
     {
      "name": "Partial Overview",
      "code": 4
     },
     {
      "name": "Inactive",
      "code": 5
     },
     {
      "name": "Uploaded",
      "code": 253
     },
     {
      "name": "Incomplete",
      "code": 254
     },
     {
      "name": "Custom",
      "code": 255
     }
    ],
    "mergePolicy": "esriMPTDefaultValue",
    "splitPolicy": "esriSPTDefaultValue"
   }
  },
  {
   "name": "Tag",
   "type": "esriFieldTypeString",
   "alias": "Tag",
   "domain": null,
   "length": 100
  },
  {
   "name": "GroupName",
   "type": "esriFieldTypeString",
   "alias": "GroupName",
   "domain": null,
   "length": 100
  },
  {
   "name": "ProductName",
   "type": "esriFieldTypeString",
   "alias": "ProductName",
   "domain": null,
   "length": 100
  },
  {
   "name": "CenterX",
   "type": "esriFieldTypeDouble",
   "alias": "CenterX",
   "domain": null
  },
  {
   "name": "CenterY",
   "type": "esriFieldTypeDouble",
   "alias": "CenterY",
   "domain": null
  },
  {
   "name": "ZOrder",
   "type": "esriFieldTypeInteger",
   "alias": "ZOrder",
   "domain": null
  },
  {
   "name": "Shape_Length",
   "type": "esriFieldTypeDouble",
   "alias": "Shape_Length",
   "domain": null
  },
  {
   "name": "Shape_Area",
   "type": "esriFieldTypeDouble",
   "alias": "Shape_Area",
   "domain": null
  },
  {
   "name": "dateEnd",
   "type": "esriFieldTypeDate",
   "alias": "dateEnd",
   "domain": null,
   "length": 8
  },
  {
   "name": "tType",
   "type": "esriFieldTypeString",
   "alias": "tType",
   "domain": null,
   "length": 30
  }
 ],
 "capabilities": "Image,Metadata,Catalog,Mensuration",
 "defaultMosaicMethod": "ByAttribute",
 "allowedMosaicMethods": "ByAttribute,None,LockRaster",
 "sortField": "dateEnd",
 "sortValue": "3000",
 "sortAscending": true,
 "mosaicOperator": "First",
 "maxDownloadSizeLimit": 2048,
 "defaultCompressionQuality": 75,
 "defaultResamplingMethod": "Bilinear",
 "maxImageHeight": 4100,
 "maxImageWidth": 15000,
 "maxRecordCount": 1000,
 "maxDownloadImageCount": 20,
 "maxMosaicImageCount": 1,
 "allowRasterFunction": true,
 "rasterFunctionInfos": [
  {
   "name": "dnp_ay",
   "description": "Agricultural year - September 1 to August 1 (mm)",
   "help": ""
  },
  {
   "name": "dnp_1095",
   "description": "1095 days (mm) ",
   "help": ""
  },
  {
   "name": "dnp_1460",
   "description": "1460 days (mm) ",
   "help": ""
  },
  {
   "name": "dnp_180",
   "description": "180 days (mm) ",
   "help": ""
  },
  {
   "name": "dnp_1825",
   "description": "1825 days (mm) ",
   "help": ""
  },
  {
   "name": "dnp_270",
   "description": "270 days (mm) ",
   "help": ""
  },
  {
   "name": "dnp_30",
   "description": "30 days (mm) ",
   "help": ""
  },
  {
   "name": "dnp_365",
   "description": "365 days (mm) ",
   "help": ""
  },
  {
   "name": "dnp_60",
   "description": "60 days (mm) ",
   "help": ""
  },
  {
   "name": "dnp_730",
   "description": "730 days (mm) ",
   "help": ""
  },
  {
   "name": "dnp_90",
   "description": "90 days (mm) ",
   "help": ""
  },
  {
   "name": "dnp_gs",
   "description": "Growing season - April 1 to October 31 (mm)",
   "help": ""
  },
  {
   "name": "dnp_wi",
   "description": "Winter season - November 1 to March 31 (mm)",
   "help": ""
  },
  {
   "name": "None",
   "description": "",
   "help": ""
  }
 ],
 "rasterTypeInfos": [
  {
   "name": "Raster Dataset",
   "description": "Supports all ArcGIS Raster Datasets",
   "help": ""
  }
 ],
 "mensurationCapabilities": "Basic",
 "hasHistograms": false,
 "hasColormap": false,
 "hasRasterAttributeTable": false,
 "minScale": 0,
 "maxScale": 0,
 "exportTilesAllowed": false,
 "supportsStatistics": true,
 "supportsAdvancedQueries": true,
 "editFieldsInfo": null,
 "ownershipBasedAccessControlForRasters": null,
 "allowComputeTiePoints": false,
 "useStandardizedQueries": true,
 "advancedQueryCapabilities": {
  "useStandardizedQueries": true,
  "supportsStatistics": true,
  "supportsOrderBy": true,
  "supportsDistinct": true,
  "supportsPagination": true
 },
 "spatialReference": {
  "wkid": 102100,
  "latestWkid": 3857
 }
}
