{
 "currentVersion": 11.1,
 "serviceDescription": "Les précipitations accumulées représentent la hauteur totale de précipitations (solide et/ou liquide en mm) qui a été enregistrée sur une durée donnée. Les produits sont générés pour les périodes suivantes : L'année agricole, la saison de croissance et la saison hivernale ainsi que les produits roulants pour les jours 7, 14, 30, 60, 90, 180, 270, 365, 730, 1095, 1460 et 1825. Ces valeurs visent à donner aux utilisateurs une idée générale de la hauteur de précipitations reçue dans une région sur une période donnée. Pour plus d'information, consulter : https://ouvert.canada.ca/data/fr/dataset/708992ad-bc24-4d0d-a087-17b7b5fd4d4d",
 "name": "agclimat/precipitations_accumulees",
 "description": "Les précipitations accumulées représentent la hauteur totale de précipitations (solide et/ou liquide en mm) qui a été enregistrée sur une durée donnée. Les produits sont générés pour les périodes suivantes : L'année agricole, la saison de croissance et la saison hivernale ainsi que les produits roulants pour les jours 7, 14, 30, 60, 90, 180, 270, 365, 730, 1095, 1460 et 1825. Ces valeurs visent à donner aux utilisateurs une idée générale de la hauteur de précipitations reçue dans une région sur une période donnée. Pour plus d'information, consulter : https://ouvert.canada.ca/data/fr/dataset/708992ad-bc24-4d0d-a087-17b7b5fd4d4d",
 "extent": {
  "xmin": -1.5171017184E7,
  "ymin": 4170520.4877000004,
  "xmax": -5804017.184,
  "ymax": 8820520.4877,
  "spatialReference": {
   "wkid": 102100,
   "latestWkid": 3857
  }
 },
 "initialExtent": {
  "xmin": -1.5171017184E7,
  "ymin": 4170520.4877000004,
  "xmax": -5804017.184,
  "ymax": 8820520.4877,
  "spatialReference": {
   "wkid": 102100,
   "latestWkid": 3857
  }
 },
 "fullExtent": {
  "xmin": -1.5171017184E7,
  "ymin": 4170520.4877000004,
  "xmax": -5804017.184,
  "ymax": 8820520.4877,
  "spatialReference": {
   "wkid": 102100,
   "latestWkid": 3857
  }
 },
 "sortableFields": "MinPS,MaxPS,LowPS,HighPS,CenterX,CenterY,ZOrder,Shape_Length,Shape_Area,dateEnd",
 "bandCount": 1,
 "pixelType": "F32",
 "minValues": [],
 "maxValues": [],
 "meanValues": [],
 "stdvValues": [],
 "hasMultidimensions": false,
 "timeInfo": {
  "startTimeField": "dateEnd",
  "endTimeField": "dateEnd",
  "timeExtent": [
   1364817600000,
   1787486400000
  ],
  "timeReference": null
 },
 "pixelSizeX": 1000,
 "pixelSizeY": 1000,
 "datasetFormat": "AMD",
 "uncompressedSize": 174226200,
 "blockWidth": 2048,
 "blockHeight": 256,
 "compressionType": "None",
 "bandNames": [
  "Band_1"
 ],
 "allowCopy": true,
 "allowAnalysis": true,
 "itemAccess": false,
 "minPixelSize": 0,
 "maxPixelSize": 0,
 "copyrightText": "Agriculture et Agroalimentaire Canada",
 "serviceDataType": "esriImageServiceDataTypeGeneric",
 "serviceSourceType": "esriImageServiceSourceTypeMosaicDataset",
 "objectIdField": "OBJECTID",
 "fields": [
  {
   "name": "OBJECTID",
   "type": "esriFieldTypeOID",
   "alias": "OBJECTID",
   "domain": null
  },
  {
   "name": "Shape",
   "type": "esriFieldTypeGeometry",
   "alias": "Shape",
   "domain": null
  },
  {
   "name": "Name",
   "type": "esriFieldTypeString",
   "alias": "Name",
   "domain": null,
   "length": 200
  },
  {
   "name": "MinPS",
   "type": "esriFieldTypeDouble",
   "alias": "MinPS",
   "domain": null
  },
  {
   "name": "MaxPS",
   "type": "esriFieldTypeDouble",
   "alias": "MaxPS",
   "domain": null
  },
  {
   "name": "LowPS",
   "type": "esriFieldTypeDouble",
   "alias": "LowPS",
   "domain": null
  },
  {
   "name": "HighPS",
   "type": "esriFieldTypeDouble",
   "alias": "HighPS",
   "domain": null
  },
  {
   "name": "Category",
   "type": "esriFieldTypeInteger",
   "alias": "Category",
   "domain": {
    "type": "codedValue",
    "name": "MosaicCatalogItemCategoryDomain",
    "description": "Catalog item categories.",
    "codedValues": [
     {
      "name": "Unknown",
      "code": 0
     },
     {
      "name": "Primary",
      "code": 1
     },
     {
      "name": "Overview",
      "code": 2
     },
     {
      "name": "Unprocessed Overview",
      "code": 3
     },
     {
      "name": "Partial Overview",
      "code": 4
     },
     {
      "name": "Inactive",
      "code": 5
     },
     {
      "name": "Uploaded",
      "code": 253
     },
     {
      "name": "Incomplete",
      "code": 254
     },
     {
      "name": "Custom",
      "code": 255
     }
    ],
    "mergePolicy": "esriMPTDefaultValue",
    "splitPolicy": "esriSPTDefaultValue"
   }
  },
  {
   "name": "Tag",
   "type": "esriFieldTypeString",
   "alias": "Tag",
   "domain": null,
   "length": 100
  },
  {
   "name": "GroupName",
   "type": "esriFieldTypeString",
   "alias": "GroupName",
   "domain": null,
   "length": 100
  },
  {
   "name": "ProductName",
   "type": "esriFieldTypeString",
   "alias": "ProductName",
   "domain": null,
   "length": 100
  },
  {
   "name": "CenterX",
   "type": "esriFieldTypeDouble",
   "alias": "CenterX",
   "domain": null
  },
  {
   "name": "CenterY",
   "type": "esriFieldTypeDouble",
   "alias": "CenterY",
   "domain": null
  },
  {
   "name": "ZOrder",
   "type": "esriFieldTypeInteger",
   "alias": "ZOrder",
   "domain": null
  },
  {
   "name": "Shape_Length",
   "type": "esriFieldTypeDouble",
   "alias": "Shape_Length",
   "domain": null
  },
  {
   "name": "Shape_Area",
   "type": "esriFieldTypeDouble",
   "alias": "Shape_Area",
   "domain": null
  },
  {
   "name": "dateEnd",
   "type": "esriFieldTypeDate",
   "alias": "dateEnd",
   "domain": null,
   "length": 8
  },
  {
   "name": "tType",
   "type": "esriFieldTypeString",
   "alias": "tType",
   "domain": null,
   "length": 30
  }
 ],
 "capabilities": "Image,Metadata,Catalog,Mensuration",
 "defaultMosaicMethod": "ByAttribute",
 "allowedMosaicMethods": "ByAttribute,None,LockRaster",
 "sortField": "dateEnd",
 "sortValue": "3000",
 "sortAscending": true,
 "mosaicOperator": "First",
 "maxDownloadSizeLimit": 2048,
 "defaultCompressionQuality": 75,
 "defaultResamplingMethod": "Bilinear",
 "maxImageHeight": 4100,
 "maxImageWidth": 15000,
 "maxRecordCount": 1000,
 "maxDownloadImageCount": 20,
 "maxMosaicImageCount": 1,
 "allowRasterFunction": true,
 "rasterFunctionInfos": [
  {
   "name": "ac_ay",
   "description": "Année agricole - 1 septembre au 1 août (mm)",
   "help": ""
  },
  {
   "name": "ac_01",
   "description": "24 heures (mm)",
   "help": ""
  },
  {
   "name": "ac_07",
   "description": "7 jours (mm)",
   "help": ""
  },
  {
   "name": "ac_1095",
   "description": "1095 jours (mm)",
   "help": ""
  },
  {
   "name": "ac_14",
   "description": "14 jours (mm)",
   "help": ""
  },
  {
   "name": "ac_1460",
   "description": "1460 jours (mm)",
   "help": ""
  },
  {
   "name": "ac_180",
   "description": "180 jours (mm)",
   "help": ""
  },
  {
   "name": "ac_1825",
   "description": "1825 jours (mm)",
   "help": ""
  },
  {
   "name": "ac_270",
   "description": "270 jours (mm)",
   "help": ""
  },
  {
   "name": "ac_30",
   "description": "30 jours (mm)",
   "help": ""
  },
  {
   "name": "ac_365",
   "description": "365 jours (mm)",
   "help": ""
  },
  {
   "name": "ac_60",
   "description": "60 jours (mm)",
   "help": ""
  },
  {
   "name": "ac_730",
   "description": "730 jours (mm)",
   "help": ""
  },
  {
   "name": "ac_90",
   "description": "90 jours (mm)",
   "help": ""
  },
  {
   "name": "ac_gs",
   "description": "Saison de croissance - 1 avril au 31 octobre (mm)",
   "help": ""
  },
  {
   "name": "ac_wi",
   "description": "Saison de d'hiver - 1 novembre au 31 mars (mm)",
   "help": ""
  },
  {
   "name": "None",
   "description": "",
   "help": ""
  }
 ],
 "rasterTypeInfos": [
  {
   "name": "Raster Dataset",
   "description": "Supports all ArcGIS Raster Datasets",
   "help": ""
  }
 ],
 "mensurationCapabilities": "Basic",
 "hasHistograms": false,
 "hasColormap": false,
 "hasRasterAttributeTable": false,
 "minScale": 0,
 "maxScale": 0,
 "exportTilesAllowed": false,
 "supportsStatistics": true,
 "supportsAdvancedQueries": true,
 "editFieldsInfo": null,
 "ownershipBasedAccessControlForRasters": null,
 "allowComputeTiePoints": false,
 "useStandardizedQueries": true,
 "advancedQueryCapabilities": {
  "useStandardizedQueries": true,
  "supportsStatistics": true,
  "supportsOrderBy": true,
  "supportsDistinct": true,
  "supportsPagination": true
 },
 "spatialReference": {
  "wkid": 102100,
  "latestWkid": 3857
 }
}
