{
 "currentVersion": 11.1,
 "serviceDescription": "Centile des précipitationssont établies en comparant les hauteurs de précipitations accumulées (mm) pour la période traitée à toutes les données historiques disponibles pour la même période. Cette comparaison classera le montant actuel et lui attribuera une valeur centile déterminée selon le point où elle tombe par rapport au record historique. Les produits sont générés pour les périodes suivantes : Année agricole, saison de croissance et la saison hivernale ainsi que les produits roulants pour les jours 30, 60, 90, et 180. Ces valeurs visent à donner aux utilisateurs une idée générale de la façon dont la hauteur de précipitations reçue dans une région sur une période donnée se compare à la hauteur reçue selon les données historiques. Pour plus d'information, consulter : https://ouvert.canada.ca/data/fr/dataset/78b65ae0-fe1e-40ac-9d1d-ed4c7aaa0684",
 "name": "agclimat/centile_des_precipitations",
 "description": "Centile des précipitationssont établies en comparant les hauteurs de précipitations accumulées (mm) pour la période traitée à toutes les données historiques disponibles pour la même période. Cette comparaison classera le montant actuel et lui attribuera une valeur centile déterminée selon le point où elle tombe par rapport au record historique. Les produits sont générés pour les périodes suivantes : Année agricole, saison de croissance et la saison hivernale ainsi que les produits roulants pour les jours 30, 60, 90, et 180. Ces valeurs visent à donner aux utilisateurs une idée générale de la façon dont la hauteur de précipitations reçue dans une région sur une période donnée se compare à la hauteur reçue selon les données historiques. Pour plus d'information, consulter : https://ouvert.canada.ca/data/fr/dataset/78b65ae0-fe1e-40ac-9d1d-ed4c7aaa0684",
 "extent": {
  "xmin": -1.5170166075E7,
  "ymin": 4170472.6284000035,
  "xmax": -5808166.074999999,
  "ymax": 8818472.628400004,
  "spatialReference": {
   "wkid": 102100,
   "latestWkid": 3857
  }
 },
 "initialExtent": {
  "xmin": -1.5170166075E7,
  "ymin": 4170472.6284000035,
  "xmax": -5808166.074999999,
  "ymax": 8818472.628400004,
  "spatialReference": {
   "wkid": 102100,
   "latestWkid": 3857
  }
 },
 "fullExtent": {
  "xmin": -1.5170166075E7,
  "ymin": 4170472.6284000035,
  "xmax": -5808166.074999999,
  "ymax": 8818472.628400004,
  "spatialReference": {
   "wkid": 102100,
   "latestWkid": 3857
  }
 },
 "sortableFields": "MinPS,MaxPS,LowPS,HighPS,CenterX,CenterY,ZOrder,Shape_Length,Shape_Area,dateEnd",
 "bandCount": 1,
 "pixelType": "F32",
 "minValues": [],
 "maxValues": [],
 "meanValues": [],
 "stdvValues": [],
 "hasMultidimensions": false,
 "timeInfo": {
  "startTimeField": "dateEnd",
  "endTimeField": "dateEnd",
  "timeExtent": [
   1357560000000,
   1787486400000
  ],
  "timeReference": null
 },
 "pixelSizeX": 1000,
 "pixelSizeY": 1000,
 "datasetFormat": "AMD",
 "uncompressedSize": 174058304,
 "blockWidth": 2048,
 "blockHeight": 256,
 "compressionType": "None",
 "bandNames": [
  "Band_1"
 ],
 "allowCopy": true,
 "allowAnalysis": true,
 "itemAccess": false,
 "minPixelSize": 0,
 "maxPixelSize": 0,
 "copyrightText": "Agriculture et Agroalimentaire Canada",
 "serviceDataType": "esriImageServiceDataTypeGeneric",
 "serviceSourceType": "esriImageServiceSourceTypeMosaicDataset",
 "objectIdField": "OBJECTID",
 "fields": [
  {
   "name": "OBJECTID",
   "type": "esriFieldTypeOID",
   "alias": "OBJECTID",
   "domain": null
  },
  {
   "name": "Shape",
   "type": "esriFieldTypeGeometry",
   "alias": "Shape",
   "domain": null
  },
  {
   "name": "Name",
   "type": "esriFieldTypeString",
   "alias": "Name",
   "domain": null,
   "length": 200
  },
  {
   "name": "MinPS",
   "type": "esriFieldTypeDouble",
   "alias": "MinPS",
   "domain": null
  },
  {
   "name": "MaxPS",
   "type": "esriFieldTypeDouble",
   "alias": "MaxPS",
   "domain": null
  },
  {
   "name": "LowPS",
   "type": "esriFieldTypeDouble",
   "alias": "LowPS",
   "domain": null
  },
  {
   "name": "HighPS",
   "type": "esriFieldTypeDouble",
   "alias": "HighPS",
   "domain": null
  },
  {
   "name": "Category",
   "type": "esriFieldTypeInteger",
   "alias": "Category",
   "domain": {
    "type": "codedValue",
    "name": "MosaicCatalogItemCategoryDomain",
    "description": "Catalog item categories.",
    "codedValues": [
     {
      "name": "Unknown",
      "code": 0
     },
     {
      "name": "Primary",
      "code": 1
     },
     {
      "name": "Overview",
      "code": 2
     },
     {
      "name": "Unprocessed Overview",
      "code": 3
     },
     {
      "name": "Partial Overview",
      "code": 4
     },
     {
      "name": "Inactive",
      "code": 5
     },
     {
      "name": "Uploaded",
      "code": 253
     },
     {
      "name": "Incomplete",
      "code": 254
     },
     {
      "name": "Custom",
      "code": 255
     }
    ],
    "mergePolicy": "esriMPTDefaultValue",
    "splitPolicy": "esriSPTDefaultValue"
   }
  },
  {
   "name": "Tag",
   "type": "esriFieldTypeString",
   "alias": "Tag",
   "domain": null,
   "length": 100
  },
  {
   "name": "GroupName",
   "type": "esriFieldTypeString",
   "alias": "GroupName",
   "domain": null,
   "length": 100
  },
  {
   "name": "ProductName",
   "type": "esriFieldTypeString",
   "alias": "ProductName",
   "domain": null,
   "length": 100
  },
  {
   "name": "CenterX",
   "type": "esriFieldTypeDouble",
   "alias": "CenterX",
   "domain": null
  },
  {
   "name": "CenterY",
   "type": "esriFieldTypeDouble",
   "alias": "CenterY",
   "domain": null
  },
  {
   "name": "ZOrder",
   "type": "esriFieldTypeInteger",
   "alias": "ZOrder",
   "domain": null
  },
  {
   "name": "Shape_Length",
   "type": "esriFieldTypeDouble",
   "alias": "Shape_Length",
   "domain": null
  },
  {
   "name": "Shape_Area",
   "type": "esriFieldTypeDouble",
   "alias": "Shape_Area",
   "domain": null
  },
  {
   "name": "dateEnd",
   "type": "esriFieldTypeDate",
   "alias": "dateEnd",
   "domain": null,
   "length": 8
  },
  {
   "name": "tType",
   "type": "esriFieldTypeString",
   "alias": "tType",
   "domain": null,
   "length": 30
  }
 ],
 "capabilities": "Image,Metadata,Catalog,Mensuration",
 "defaultMosaicMethod": "ByAttribute",
 "allowedMosaicMethods": "ByAttribute,None,LockRaster",
 "sortField": "dateEnd",
 "sortValue": "3000",
 "sortAscending": true,
 "mosaicOperator": "First",
 "maxDownloadSizeLimit": 2048,
 "defaultCompressionQuality": 75,
 "defaultResamplingMethod": "Bilinear",
 "maxImageHeight": 4100,
 "maxImageWidth": 15000,
 "maxRecordCount": 1000,
 "maxDownloadImageCount": 20,
 "maxMosaicImageCount": 1,
 "allowRasterFunction": true,
 "rasterFunctionInfos": [
  {
   "name": "pe",
   "description": "Centile des précipitations",
   "help": ""
  },
  {
   "name": "None",
   "description": "",
   "help": ""
  }
 ],
 "rasterTypeInfos": [
  {
   "name": "Raster Dataset",
   "description": "Supports all ArcGIS Raster Datasets",
   "help": ""
  }
 ],
 "mensurationCapabilities": "Basic",
 "hasHistograms": false,
 "hasColormap": false,
 "hasRasterAttributeTable": false,
 "minScale": 0,
 "maxScale": 0,
 "exportTilesAllowed": false,
 "supportsStatistics": true,
 "supportsAdvancedQueries": true,
 "editFieldsInfo": null,
 "ownershipBasedAccessControlForRasters": null,
 "allowComputeTiePoints": false,
 "useStandardizedQueries": true,
 "advancedQueryCapabilities": {
  "useStandardizedQueries": true,
  "supportsStatistics": true,
  "supportsOrderBy": true,
  "supportsDistinct": true,
  "supportsPagination": true
 },
 "spatialReference": {
  "wkid": 102100,
  "latestWkid": 3857
 }
}
